BEGIN:VCALENDAR
VERSION:2.0
PRODID:-//Hardloopevenementen - ECPv6.15.14//NONSGML v1.0//EN
CALSCALE:GREGORIAN
METHOD:PUBLISH
X-WR-CALNAME:Hardloopevenementen
X-ORIGINAL-URL:https://hardloopevenementen.com
X-WR-CALDESC:Evenementen voor Hardloopevenementen
REFRESH-INTERVAL;VALUE=DURATION:PT1H
X-Robots-Tag:noindex
X-PUBLISHED-TTL:PT1H
BEGIN:VTIMEZONE
TZID:UTC
BEGIN:STANDARD
TZOFFSETFROM:+0000
TZOFFSETTO:+0000
TZNAME:UTC
DTSTART:20110101T000000
END:STANDARD
END:VTIMEZONE
BEGIN:VEVENT
DTSTART;VALUE=DATE:20170920
DTEND;VALUE=DATE:20170921
DTSTAMP:20260424T173002
CREATED:20130304T082456Z
LAST-MODIFIED:20190423T114355Z
UID:14075-1505865600-1505865600@hardloopevenementen.com
SUMMARY:Peizermade Marathon Groningen (GR)
DESCRIPTION:Doe mee met het hardloopevenement Peizermade Marathon te Groningen (GR) op wo 20 sep 2017. De volgende afstanden staan op het programma: marathon hardlopen. Wilt u inschrijven voor dit loopevenement?  Raadpleeg hiervoor dan de website van de organisatie\nDe uitslagen van deze hardloopwedstrijd zijn te raadplegen via dezelfde website of via de bekende websites zoals uitslagen.nl\, runtimer en mylaps. Doet u mee met dit evenement\, zorg dan dat u goed voorbereid aan de start staat! Met een goed trainingsschema komt u een heel eind. Train bijvoorbeeld met start to run van Evy Gruyaert. Download de start to run mp3 bestanden en zet ze op uw telefoon. Oortjes in\, hit the play button en en rennen maar! \n\n\n\n\nMeer informatie over Peizermade Marathon op Hardloopkalender.nl  \n  \n  \n 
URL:https://hardloopevenementen.com/loopagenda/peizermade-marathon-groningen-gr-3/
END:VEVENT
BEGIN:VEVENT
DTSTART;VALUE=DATE:20160921
DTEND;VALUE=DATE:20160922
DTSTAMP:20260424T173002
CREATED:20090415T091346Z
LAST-MODIFIED:20190423T112209Z
UID:11939-1474416000-1474416000@hardloopevenementen.com
SUMMARY:Peizermade Marathon Groningen (GR)
DESCRIPTION:Doe mee met het hardloopevenement Peizermade Marathon te Groningen (GR) op wo 21 sep 2016. De volgende afstanden staan op het programma: marathon hardlopen. Wilt u inschrijven voor dit loopevenement?  Raadpleeg hiervoor dan de website van de organisatie\nDe uitslagen van deze hardloopwedstrijd zijn te raadplegen via dezelfde website of via de bekende websites zoals uitslagen.nl\, runtimer en mylaps. Doet u mee met dit evenement\, zorg dan dat u goed voorbereid aan de start staat! Met een goed trainingsschema komt u een heel eind. Train bijvoorbeeld met start to run van Evy Gruyaert. Download de start to run mp3 bestanden en zet ze op uw telefoon. Oortjes in\, hit the play button en en rennen maar! \n\n\n\n\nMeer informatie over Peizermade Marathon op Hardloopkalender.nl  \nHet loopevenement Peizermade Marathon te Groningen vindt plaats op woensdag 21 september 2016. \n  \n  \n 
URL:https://hardloopevenementen.com/loopagenda/peizermade-marathon-groningen-gr-2/
END:VEVENT
BEGIN:VEVENT
DTSTART;VALUE=DATE:20140924
DTEND;VALUE=DATE:20140925
DTSTAMP:20260424T173002
CREATED:20150321T111616Z
LAST-MODIFIED:20190423T105115Z
UID:9094-1411516800-1411516800@hardloopevenementen.com
SUMMARY:Peizermade Marathon Groningen (GR)
DESCRIPTION:Doe mee met het hardloopevenement Peizermade Marathon te Groningen (GR) op wo 24 sep 2014. De volgende afstanden staan op het programma: marathon hardlopen. Wilt u inschrijven voor dit loopevenement?  Raadpleeg hiervoor dan de website van de organisatie\nDe uitslagen van deze hardloopwedstrijd zijn te raadplegen via dezelfde website of via de bekende websites zoals uitslagen.nl\, runtimer en mylaps. Doet u mee met dit evenement\, zorg dan dat u goed voorbereid aan de start staat! Met een goed trainingsschema komt u een heel eind. Train bijvoorbeeld met start to run van Evy Gruyaert. Download de start to run mp3 bestanden en zet ze op uw telefoon. Oortjes in\, hit the play button en en rennen maar! \n\n\n\n\nMeer informatie over Peizermade Marathon op Hardloopkalender.nl  \nHet loopevenement Peizermade Marathon te Groningen vindt plaats op woensdag 24 september 2014. De loop wordt georganisseerd door DFW Runners. Klik hier voor het adres van de start (Google Maps).Bijzonderheden: Een kortere afstand lopen is ook mogelijk. . \n  \n  \n 
URL:https://hardloopevenementen.com/loopagenda/peizermade-marathon-groningen-gr/
END:VEVENT
BEGIN:VEVENT
DTSTART;VALUE=DATE:20120215
DTEND;VALUE=DATE:20120216
DTSTAMP:20260424T173002
CREATED:20181107T213244Z
LAST-MODIFIED:20190423T103428Z
UID:28858-1329264000-1329264000@hardloopevenementen.com
SUMMARY:Peizermade Marathon Groningen (GR)
DESCRIPTION:Doe mee met het hardloopevenement Peizermade Marathon te Groningen (GR) op wo 15 feb 2012. De volgende afstanden staan op het programma: halve marathon – marathon hardlopen. Wilt u inschrijven voor dit loopevenement?  Raadpleeg hiervoor dan de website van de organisatie\nDe uitslagen van deze hardloopwedstrijd zijn te raadplegen via dezelfde website of via de bekende websites zoals uitslagen.nl\, runtimer en mylaps. Doet u mee met dit evenement\, zorg dan dat u goed voorbereid aan de start staat! Met een goed trainingsschema komt u een heel eind. Train bijvoorbeeld met start to run van Evy Gruyaert. Download de start to run mp3 bestanden en zet ze op uw telefoon. Oortjes in\, hit the play button en en rennen maar! \n\n\n\n\nMeer informatie over Peizermade Marathon op Hardloopkalender.nl  \nHet loopevenement Peizermade Marathon te Groningen vindt plaats op woensdag 15 februari 2012. De loop wordt georganiseerd door DFW Runners. Inschrijven is mogelijk vanaf 02 januari 2012. Klik hier voor het adres van de start (Google Maps).Afstand SoortloopInschrijfgeldStarttijdInfo42.2 km6\,0011.00uur21.1 km6\,0011.00uurVoor meer informatie:R. Kwintronald.kwint@planet.nl0650533314http:  www.dfwrunners.nl \n  \n  \n 
URL:https://hardloopevenementen.com/loopagenda/peizermade-marathon-groningen-gr-4/
END:VEVENT
END:VCALENDAR