BEGIN:VCALENDAR
VERSION:2.0
PRODID:-//Hardloopevenementen - ECPv6.15.14//NONSGML v1.0//EN
CALSCALE:GREGORIAN
METHOD:PUBLISH
X-ORIGINAL-URL:https://hardloopevenementen.com
X-WR-CALDESC:Evenementen voor Hardloopevenementen
REFRESH-INTERVAL;VALUE=DURATION:PT1H
X-Robots-Tag:noindex
X-PUBLISHED-TTL:PT1H
BEGIN:VTIMEZONE
TZID:UTC
BEGIN:STANDARD
TZOFFSETFROM:+0000
TZOFFSETTO:+0000
TZNAME:UTC
DTSTART:20170101T000000
END:STANDARD
END:VTIMEZONE
BEGIN:VEVENT
DTSTART;VALUE=DATE:20180711
DTEND;VALUE=DATE:20180712
DTSTAMP:20260419T145446
CREATED:20080308T053737Z
LAST-MODIFIED:20190423T120346Z
UID:16258-1531267200-1531267200@hardloopevenementen.com
SUMMARY:Paul Peters Loop Oss (NB)
DESCRIPTION:Doe mee met het hardloopevenement Paul Peters Loop te Oss (NB) op wo 11 jul 2018. De volgende afstanden staan op het programma: 5 km – 10 km hardlopen. Wilt u inschrijven voor dit loopevenement?  Raadpleeg hiervoor dan de website van de organisatie\nDe uitslagen van deze hardloopwedstrijd zijn te raadplegen via dezelfde website of via de bekende websites zoals uitslagen.nl\, runtimer en mylaps. Doet u mee met dit evenement\, zorg dan dat u goed voorbereid aan de start staat! Met een goed trainingsschema komt u een heel eind. Train bijvoorbeeld met start to run van Evy Gruyaert. Download de start to run mp3 bestanden en zet ze op uw telefoon. Oortjes in\, hit the play button en en rennen maar! \n\n\n\n\nMeer informatie over Paul Peters Loop op Hardloopkalender.nl  \nVoorheen was dit de Tribuneloop. Start en finisch op de Linkensweg Oss. Omkleden in het SP-gebouw op de Linkensweg in Oss.  AV Oss 78 organiseert dit jaar weer het Maasland Run Classic circuit; een reeks van tien hardloopwedstrijden in Oss en omgeving. De wedstrijden\, over 5 of 10 kilometer\, zijn voor iedereen toegankelijk. Het Maasland Run Classic circuit 2018 start op 18 april met de Akkerenloop in Lith. Iedereen kan meedoen Voor meer informatie: Jos Pansier 06-46962170 \n  \n  \n 
URL:https://hardloopevenementen.com/loopagenda/paul-peters-loop-oss-nb/
END:VEVENT
END:VCALENDAR