BEGIN:VCALENDAR
VERSION:2.0
PRODID:-//Hardloopevenementen - ECPv6.15.14//NONSGML v1.0//EN
CALSCALE:GREGORIAN
METHOD:PUBLISH
X-ORIGINAL-URL:https://hardloopevenementen.com
X-WR-CALDESC:Evenementen voor Hardloopevenementen
REFRESH-INTERVAL;VALUE=DURATION:PT1H
X-Robots-Tag:noindex
X-PUBLISHED-TTL:PT1H
BEGIN:VTIMEZONE
TZID:UTC
BEGIN:STANDARD
TZOFFSETFROM:+0000
TZOFFSETTO:+0000
TZNAME:UTC
DTSTART:20170101T000000
END:STANDARD
END:VTIMEZONE
BEGIN:VEVENT
DTSTART;VALUE=DATE:20190407
DTEND;VALUE=DATE:20190408
DTSTAMP:20260422T171902
CREATED:20141002T221547Z
LAST-MODIFIED:20191114T112712Z
UID:17791-1554595200-1554595200@hardloopevenementen.com
SUMMARY:Run for Pheron Sneek (FR)
DESCRIPTION:Doe mee met het hardloopevenement Run for Pheron te Sneek (FR) op zo 07 apr 2019. De volgende afstanden staan op het programma: 5\,5 km – 11 km hardlopen. Wilt u inschrijven voor dit loopevenement?  Raadpleeg hiervoor dan de website van de organisatie\nDe uitslagen van deze hardloopwedstrijd zijn te raadplegen via dezelfde website of via de bekende websites zoals uitslagen.nl\, runtimer en mylaps. Doet u mee met dit evenement\, zorg dan dat u goed voorbereid aan de start staat! Met een goed trainingsschema komt u een heel eind. Train bijvoorbeeld met start to run van Evy Gruyaert. Download de start to run mp3 bestanden en zet ze op uw telefoon. Oortjes in\, hit the play button en en rennen maar! \n\n\n\n\nMeer informatie over Run for Pheron op Hardloopkalender.nl  \nRun for Phéron  Jong of oud\, mannen of vrouwen\, teams of individueel\, met vrienden\, familie of het bedrijf\, iedereen is welkom om mee te doen aan Run for Phéron! Samen rennen of wandelen om ouders in Nederland te steunen na babyverlies. Doe jij ook mee zondag 7 april 2019?  De opbrengst van dit event komt ten goede aan Stichting Phéron haar doelen\, onder andere het beschikbaar stellen van nazorg bij babyverlies met behulp van de Phéron Memory Box. Een box waarmee ouders tastbare herinneringen kunnen maken na het verlies van hun baby. Run for Phéron hoopt samen met de deelnemers een mooi bedrag op te halen.    Handige informatie  Datum: Zondag 14 april 2019  Keuze uit: 5\,5 of 11 km hardlopen | 5\,5 km wandelen  Start aanmelden of inschrijven: 10:00 uur  Hardlopen: 5\,5 kilometer om 11:15 uur en 11 kilometer om 11:00 uur  Wandelen: 5\,5 kilometer om 11:00 uur  Locatie: Jachthaven & Camping de Domp  Deelname kosten 15\,- \n  \n  \n 
URL:https://hardloopevenementen.com/loopagenda/run-for-pheron-sneek-fr-2/
END:VEVENT
BEGIN:VEVENT
DTSTART;VALUE=DATE:20180415
DTEND;VALUE=DATE:20180416
DTSTAMP:20260422T171902
CREATED:20111211T034716Z
LAST-MODIFIED:20190423T120538Z
UID:16759-1523750400-1523750400@hardloopevenementen.com
SUMMARY:Run for Pheron Sneek (FR)
DESCRIPTION:Doe mee met het hardloopevenement Run for Pheron te Sneek (FR) op zo 15 apr 2018. De volgende afstanden staan op het programma: 5 km – 11 km hardlopen. Wilt u inschrijven voor dit loopevenement?  Raadpleeg hiervoor dan de website van de organisatie\nDe uitslagen van deze hardloopwedstrijd zijn te raadplegen via dezelfde website of via de bekende websites zoals uitslagen.nl\, runtimer en mylaps. Doet u mee met dit evenement\, zorg dan dat u goed voorbereid aan de start staat! Met een goed trainingsschema komt u een heel eind. Train bijvoorbeeld met start to run van Evy Gruyaert. Download de start to run mp3 bestanden en zet ze op uw telefoon. Oortjes in\, hit the play button en en rennen maar! \n\n\n\n\nMeer informatie over Run for Pheron op Hardloopkalender.nl  \nRun for Phéron  Jong of oud\, mannen of vrouwen\, teams of individueel\, met vrienden\, familie of het bedrijf\, iedereen is welkom om mee te doen aan Run for Phéron! Samen rennen om ouders in Nederland te steunen na babyverlies. Ren jij ook mee zondag 15 april 2018?  De opbrengst van dit hardloopevent komt ten goede aan Stichting Phéron haar doelen\, onder andere het beschikbaar stellen van nazorg bij babyverlies met behulp van de Phéron Memory Box. Een box waarmee ouders tastbare herinneringen kunnen maken na het verlies van hun baby. Mom In Balance Friesland en Stichting Phéron organiseren samen Run for Phéron en hopen samen met de deelnemers een mooi bedrag op te halen.    Handige informatie:  Datum: Zondag 15 april 2018  Keuze uit: 5\,5 of 11 km  Start vanaf 09:30 10:00 uur aanwezig\, 5\,5 kilometer om 11:15\, 11 kilometer om 11:00 uur  Locatie: Domp 1  Deelname kosten 15\,-    Parcour:  Zwettebos en Jachthaven de domp in Sneek (binnenkort kun je hier een plattegrond vinden)    Hoe kan ik meedoen?  Fantastisch dat je mee doet aan deze eerste run. Op de website http:  stichtingpheron.nl runforpheron  vind je de knop: Inschrijven. Je kunt direct met Ideal je inschrijving voldoen\, de betaalbevestiging is tevens de bevestiging voor deelname. 10 dagen voor de run ontvang je per e-mail de nodige informatie \n  \n  \n 
URL:https://hardloopevenementen.com/loopagenda/run-for-pheron-sneek-fr/
END:VEVENT
END:VCALENDAR