BEGIN:VCALENDAR
VERSION:2.0
PRODID:-//Hardloopevenementen - ECPv6.15.14//NONSGML v1.0//EN
CALSCALE:GREGORIAN
METHOD:PUBLISH
X-WR-CALNAME:Hardloopevenementen
X-ORIGINAL-URL:https://hardloopevenementen.com
X-WR-CALDESC:Evenementen voor Hardloopevenementen
REFRESH-INTERVAL;VALUE=DURATION:PT1H
X-Robots-Tag:noindex
X-PUBLISHED-TTL:PT1H
BEGIN:VTIMEZONE
TZID:UTC
BEGIN:STANDARD
TZOFFSETFROM:+0000
TZOFFSETTO:+0000
TZNAME:UTC
DTSTART:20150101T000000
END:STANDARD
END:VTIMEZONE
BEGIN:VEVENT
DTSTART;VALUE=DATE:20200118
DTEND;VALUE=DATE:20200119
DTSTAMP:20260423T025930
CREATED:20061129T084704Z
LAST-MODIFIED:20200206T111553Z
UID:142507-1579305600-1579305600@hardloopevenementen.com
SUMMARY:Pierewaai Trail IJmuiden\, gemeente Velsen (NH)
DESCRIPTION:Doe mee met het hardloopevenement Pierewaai Trail te IJmuiden\, gemeente Velsen (NH) op za 18 jan 2020. De volgende afstanden staan op het programma: 10 km – 25 km – marathon – 45 km hardlopen. Wilt u inschrijven voor dit loopevenement?  Raadpleeg hiervoor dan de website van de organisatie\nDe uitslagen van deze hardloopwedstrijd zijn te raadplegen via dezelfde website of via de bekende websites zoals uitslagen.nl\, runtimer en mylaps. Doet u mee met dit evenement\, zorg dan dat u goed voorbereid aan de start staat! Met een goed trainingsschema komt u een heel eind. Train bijvoorbeeld met start to run van Evy Gruyaert. Download de start to run mp3 bestanden en zet ze op uw telefoon. Oortjes in\, hit the play button en en rennen maar! \n\n\n\n\nMeer informatie over Pierewaai Trail op Hardloopkalender.nl  \nStrand trail loop \n  \n  \n 
URL:https://hardloopevenementen.com/loopagenda/pierewaai-trail-ijmuiden-gemeente-velsen-nh-5/
END:VEVENT
BEGIN:VEVENT
DTSTART;VALUE=DATE:20190126
DTEND;VALUE=DATE:20190127
DTSTAMP:20260423T025930
CREATED:20070328T103333Z
LAST-MODIFIED:20191114T112811Z
UID:17303-1548460800-1548460800@hardloopevenementen.com
SUMMARY:Pierewaai Trail IJmuiden\, gemeente Velsen (NH)
DESCRIPTION:Doe mee met het hardloopevenement Pierewaai Trail te IJmuiden\, gemeente Velsen (NH) op za 26 jan 2019. De volgende afstanden staan op het programma: 10 km – 25 km hardlopen. Wilt u inschrijven voor dit loopevenement?  Raadpleeg hiervoor dan de website van de organisatie\nDe uitslagen van deze hardloopwedstrijd zijn te raadplegen via dezelfde website of via de bekende websites zoals uitslagen.nl\, runtimer en mylaps. Doet u mee met dit evenement\, zorg dan dat u goed voorbereid aan de start staat! Met een goed trainingsschema komt u een heel eind. Train bijvoorbeeld met start to run van Evy Gruyaert. Download de start to run mp3 bestanden en zet ze op uw telefoon. Oortjes in\, hit the play button en en rennen maar! \n\n\n\n\nMeer informatie over Pierewaai Trail op Hardloopkalender.nl  \nTrailrun (25km) en Strand run (10km) in de vroege ochtend. Ontbijt na afloop!    Bewegwijzering met GPS track. \n  \n  \n 
URL:https://hardloopevenementen.com/loopagenda/pierewaai-trail-ijmuiden-gemeente-velsen-nh-4/
END:VEVENT
BEGIN:VEVENT
DTSTART;VALUE=DATE:20180127
DTEND;VALUE=DATE:20180128
DTSTAMP:20260423T025930
CREATED:20061206T110002Z
LAST-MODIFIED:20190423T120707Z
UID:17162-1517011200-1517011200@hardloopevenementen.com
SUMMARY:Pierewaai Trail IJmuiden\, gemeente Velsen (NH)
DESCRIPTION:Doe mee met het hardloopevenement Pierewaai Trail te IJmuiden\, gemeente Velsen (NH) op za 27 jan 2018. De volgende afstanden staan op het programma: 5 km – 10 km – 25 km hardlopen. Wilt u inschrijven voor dit loopevenement?  Raadpleeg hiervoor dan de website van de organisatie\nDe uitslagen van deze hardloopwedstrijd zijn te raadplegen via dezelfde website of via de bekende websites zoals uitslagen.nl\, runtimer en mylaps. Doet u mee met dit evenement\, zorg dan dat u goed voorbereid aan de start staat! Met een goed trainingsschema komt u een heel eind. Train bijvoorbeeld met start to run van Evy Gruyaert. Download de start to run mp3 bestanden en zet ze op uw telefoon. Oortjes in\, hit the play button en en rennen maar! \n\n\n\n\nMeer informatie over Pierewaai Trail op Hardloopkalender.nl  \nStrand duinloop in de vroege ochtend.  Max 50 deelnemers\, ontbijtje aan de finish 🙂    Navigatie met GPS of Smartphone. \n  \n  \n 
URL:https://hardloopevenementen.com/loopagenda/pierewaai-trail-ijmuiden-gemeente-velsen-nh-3/
END:VEVENT
BEGIN:VEVENT
DTSTART;VALUE=DATE:20170128
DTEND;VALUE=DATE:20170129
DTSTAMP:20260423T025930
CREATED:20150317T083551Z
LAST-MODIFIED:20190423T114839Z
UID:15347-1485561600-1485561600@hardloopevenementen.com
SUMMARY:Pierewaai Trail IJmuiden\, gemeente Velsen (NH)
DESCRIPTION:Doe mee met het hardloopevenement Pierewaai Trail te IJmuiden\, gemeente Velsen (NH) op za 28 jan 2017. De volgende afstanden staan op het programma: 25 km hardlopen. Wilt u inschrijven voor dit loopevenement?  Raadpleeg hiervoor dan de website van de organisatie\nDe uitslagen van deze hardloopwedstrijd zijn te raadplegen via dezelfde website of via de bekende websites zoals uitslagen.nl\, runtimer en mylaps. Doet u mee met dit evenement\, zorg dan dat u goed voorbereid aan de start staat! Met een goed trainingsschema komt u een heel eind. Train bijvoorbeeld met start to run van Evy Gruyaert. Download de start to run mp3 bestanden en zet ze op uw telefoon. Oortjes in\, hit the play button en en rennen maar! \n\n\n\n\nMeer informatie over Pierewaai Trail op Hardloopkalender.nl  \nDankzij de Dutch Coast Ultra en de combinatie van het prachtige gebied met de Pierewaai als finish locatie ontstond het idee voor de Trail. Speciaal voor de vroege vogels die de morgenstond kunnen waarderen. \n  \n  \n 
URL:https://hardloopevenementen.com/loopagenda/pierewaai-trail-ijmuiden-gemeente-velsen-nh-2/
END:VEVENT
BEGIN:VEVENT
DTSTART;VALUE=DATE:20160123
DTEND;VALUE=DATE:20160124
DTSTAMP:20260423T025930
CREATED:20171003T175355Z
LAST-MODIFIED:20190423T112738Z
UID:13391-1453507200-1453507200@hardloopevenementen.com
SUMMARY:Pierewaai Trail IJmuiden\, gemeente Velsen (NH)
DESCRIPTION:Doe mee met het hardloopevenement Pierewaai Trail te IJmuiden\, gemeente Velsen (NH) op za 23 jan 2016. De volgende afstanden staan op het programma: 25 km – 50 km hardlopen. Wilt u inschrijven voor dit loopevenement?  Raadpleeg hiervoor dan de website van de organisatie\nDe uitslagen van deze hardloopwedstrijd zijn te raadplegen via dezelfde website of via de bekende websites zoals uitslagen.nl\, runtimer en mylaps. Doet u mee met dit evenement\, zorg dan dat u goed voorbereid aan de start staat! Met een goed trainingsschema komt u een heel eind. Train bijvoorbeeld met start to run van Evy Gruyaert. Download de start to run mp3 bestanden en zet ze op uw telefoon. Oortjes in\, hit the play button en en rennen maar! \n\n\n\n\nMeer informatie over Pierewaai Trail op Hardloopkalender.nl  \nHet loopevenement Pierewaai Trail te Ijmuiden vindt plaats op zaterdag 23 januari 2016. \n  \n  \n 
URL:https://hardloopevenementen.com/loopagenda/pierewaai-trail-ijmuiden-gemeente-velsen-nh/
END:VEVENT
END:VCALENDAR