BEGIN:VCALENDAR
VERSION:2.0
PRODID:-//Hardloopevenementen - ECPv6.15.14//NONSGML v1.0//EN
CALSCALE:GREGORIAN
METHOD:PUBLISH
X-WR-CALNAME:Hardloopevenementen
X-ORIGINAL-URL:https://hardloopevenementen.com
X-WR-CALDESC:Evenementen voor Hardloopevenementen
REFRESH-INTERVAL;VALUE=DURATION:PT1H
X-Robots-Tag:noindex
X-PUBLISHED-TTL:PT1H
BEGIN:VTIMEZONE
TZID:UTC
BEGIN:STANDARD
TZOFFSETFROM:+0000
TZOFFSETTO:+0000
TZNAME:UTC
DTSTART:20070101T000000
END:STANDARD
END:VTIMEZONE
BEGIN:VEVENT
DTSTART;VALUE=DATE:20110227
DTEND;VALUE=DATE:20110228
DTSTAMP:20260423T012933
CREATED:20170805T161638Z
LAST-MODIFIED:20190423T102338Z
UID:26822-1298764800-1298764800@hardloopevenementen.com
SUMMARY:de Plok Baggerloop Didam\, gemeente Montferland (GE)
DESCRIPTION:Doe mee met het hardloopevenement de Plok Baggerloop te Didam\, gemeente Montferland (GE) op zo 27 feb 2011. De volgende afstanden staan op het programma: 2\,5 km – 6 km – 12 km hardlopen. Wilt u inschrijven voor dit loopevenement?  Raadpleeg hiervoor dan de website van de organisatie\nDe uitslagen van deze hardloopwedstrijd zijn te raadplegen via dezelfde website of via de bekende websites zoals uitslagen.nl\, runtimer en mylaps. Doet u mee met dit evenement\, zorg dan dat u goed voorbereid aan de start staat! Met een goed trainingsschema komt u een heel eind. Train bijvoorbeeld met start to run van Evy Gruyaert. Download de start to run mp3 bestanden en zet ze op uw telefoon. Oortjes in\, hit the play button en en rennen maar! \n\n\n\n\nMeer informatie over de Plok Baggerloop op Hardloopkalender.nl  \nHet loopevenement de Plok Baggerloop te Didam vindt plaats op zondag 27 februari 2011. De loop wordt georganiseerd door Triathliem. Inschrijven is mogelijk vanaf 01 november 2010. Klik hier voor het adres van de start (Google Maps).Er is verkleedaccomodatie met douchemogelijkheid aanwezig. Er is EHBO aanwezig. Bijzonderheden: een van de zwaarste veldlopen van Ned. met natuurlijke hindernissen..Voor meer informatie:harry derkseninfo@triathliem.nl0316220728http:  www.triathliem.nl \n  \n  \n 
URL:https://hardloopevenementen.com/loopagenda/de-plok-baggerloop-didam-gemeente-montferland-ge-3/
END:VEVENT
BEGIN:VEVENT
DTSTART;VALUE=DATE:20100307
DTEND;VALUE=DATE:20100308
DTSTAMP:20260423T012933
CREATED:20130704T174437Z
LAST-MODIFIED:20190423T101335Z
UID:23869-1267920000-1267920000@hardloopevenementen.com
SUMMARY:de Plok Baggerloop Didam\, gemeente Montferland (GE)
DESCRIPTION:Doe mee met het hardloopevenement de Plok Baggerloop te Didam\, gemeente Montferland (GE) op zo 07 mrt 2010. De volgende afstanden staan op het programma: 2\,5 km – 6 km – 12 km hardlopen. Wilt u inschrijven voor dit loopevenement?  Raadpleeg hiervoor dan de website van de organisatie\nDe uitslagen van deze hardloopwedstrijd zijn te raadplegen via dezelfde website of via de bekende websites zoals uitslagen.nl\, runtimer en mylaps. Doet u mee met dit evenement\, zorg dan dat u goed voorbereid aan de start staat! Met een goed trainingsschema komt u een heel eind. Train bijvoorbeeld met start to run van Evy Gruyaert. Download de start to run mp3 bestanden en zet ze op uw telefoon. Oortjes in\, hit the play button en en rennen maar! \n\n\n\n\nMeer informatie over de Plok Baggerloop op Hardloopkalender.nl  \nDit loopevenement wordt georganiseerd door Triathliem.De eerste afstand (of onderdeel) start om 10:00.Het adres van de start en de finish is baarleweg 8Categorie(ën): mannen\, vrouwen\, jeugdVooraf inschrijven is mogelijk vanaf 01 november 2009 tot 03 maart 2010.Inschrijven op de dag van de loop is mogelijk (vanaf 8.30 uur) op dit adres: bij de start.Meer informatie:Contactpersoon: harry derksenTel.: 0316220728Email: info@triathliem.nlEr is een kleedaccomodatie aanwezig. Douchen is niet mogelijk.Het parcours is verhard.Vorig jaar deden er 250 lopers mee aan dit evenement.Overige bijzonderheden:  een van de zwaarste veldlopen van Ned. met natuurlijke hindernissen. \n  \n  \n 
URL:https://hardloopevenementen.com/loopagenda/de-plok-baggerloop-didam-gemeente-montferland-ge-2/
END:VEVENT
BEGIN:VEVENT
DTSTART;VALUE=DATE:20100307
DTEND;VALUE=DATE:20100308
DTSTAMP:20260423T012933
CREATED:20100115T201631Z
LAST-MODIFIED:20190423T101335Z
UID:23870-1267920000-1267920000@hardloopevenementen.com
SUMMARY:de Plok Baggerloop Delft (ZH)
DESCRIPTION:Doe mee met het hardloopevenement de Plok Baggerloop te Delft (ZH) op zo 07 mrt 2010. De volgende afstanden staan op het programma: 1 km – 3\,5 km – 7 km – 14 km hardlopen. Wilt u inschrijven voor dit loopevenement?  Raadpleeg hiervoor dan de website van de organisatie\nDe uitslagen van deze hardloopwedstrijd zijn te raadplegen via dezelfde website of via de bekende websites zoals uitslagen.nl\, runtimer en mylaps. Doet u mee met dit evenement\, zorg dan dat u goed voorbereid aan de start staat! Met een goed trainingsschema komt u een heel eind. Train bijvoorbeeld met start to run van Evy Gruyaert. Download de start to run mp3 bestanden en zet ze op uw telefoon. Oortjes in\, hit the play button en en rennen maar! \n\n\n\n\nMeer informatie over de Plok Baggerloop op Hardloopkalender.nl  \nDit loopevenement wordt georganiseerd door AV `40.De eerste afstand (of onderdeel) start om 10:30.Het adres van de start en de finish is Sportring 12Categorie(ën): mannen\, vrouwen\, jeugdVooraf inschrijven is mogelijk vanaf 07 maart 2010 tot niet van toepassing.Inschrijven op de dag van de loop is mogelijk (vanaf 8.30 uur) op dit adres: bij de start.Meer informatie:Contactpersoon: G. AartsTel.: 0152565453Email: Aarts@dgg.nlEr is een kleedaccomodatie aanwezig. Douchen is mogelijk.Het parcours is deels onverhard.Vorig jaar deden er 63 lopers mee aan dit evenement.Overige bijzonderheden:  Parcours gaat door de mooie parken van tussen Delft en Nootdorp \n  \n  \n 
URL:https://hardloopevenementen.com/loopagenda/de-plok-baggerloop-delft-zh/
END:VEVENT
BEGIN:VEVENT
DTSTART;VALUE=DATE:20090301
DTEND;VALUE=DATE:20090302
DTSTAMP:20260423T012933
CREATED:20100613T185345Z
LAST-MODIFIED:20190423T100304Z
UID:2721-1235865600-1235865600@hardloopevenementen.com
SUMMARY:De Plok Baggerloop Didam\, gemeente Montferland (GE)
DESCRIPTION:Doe mee met het hardloopevenement De Plok Baggerloop te Didam\, gemeente Montferland (GE) op zo 01 mrt 2009. De volgende afstanden staan op het programma: 2\,5 km – 6 km – 12 km hardlopen. Wilt u inschrijven voor dit loopevenement?  Raadpleeg hiervoor dan de website van de organisatie\nDe uitslagen van deze hardloopwedstrijd zijn te raadplegen via dezelfde website of via de bekende websites zoals uitslagen.nl\, runtimer en mylaps. Doet u mee met dit evenement\, zorg dan dat u goed voorbereid aan de start staat! Met een goed trainingsschema komt u een heel eind. Train bijvoorbeeld met start to run van Evy Gruyaert. Download de start to run mp3 bestanden en zet ze op uw telefoon. Oortjes in\, hit the play button en en rennen maar! \n\n\n\n\nMeer informatie over De Plok Baggerloop op Hardloopkalender.nl  \n2\,5 km 10:00 uur\, 6-12 km 10:30 uur \n  \n  \n 
URL:https://hardloopevenementen.com/loopagenda/de-plok-baggerloop-didam-gemeente-montferland-ge/
END:VEVENT
BEGIN:VEVENT
DTSTART;VALUE=DATE:20080302
DTEND;VALUE=DATE:20080303
DTSTAMP:20260423T012933
CREATED:20120625T202122Z
LAST-MODIFIED:20190423T094851Z
UID:20085-1204416000-1204416000@hardloopevenementen.com
SUMMARY:De Plok Baggerloop Didam
DESCRIPTION:Doe mee met het hardloopevenement De Plok Baggerloop te Didam op zo 02 mrt 2008. De volgende afstanden staan op het programma: 2\,5 km – 6 km – 12 km hardlopen. Wilt u inschrijven voor dit loopevenement?  Raadpleeg hiervoor dan de website van de organisatie\nDe uitslagen van deze hardloopwedstrijd zijn te raadplegen via dezelfde website of via de bekende websites zoals uitslagen.nl\, runtimer en mylaps. Doet u mee met dit evenement\, zorg dan dat u goed voorbereid aan de start staat! Met een goed trainingsschema komt u een heel eind. Train bijvoorbeeld met start to run van Evy Gruyaert. Download de start to run mp3 bestanden en zet ze op uw telefoon. Oortjes in\, hit the play button en en rennen maar! \n\n\n\n\nMeer informatie over De Plok Baggerloop op Hardloopkalender.nl  \nAlle deelnemers jong en oud krijgen dit jaar van de organisatie een grote kop gevulde snert. Alle deelnemers aan de jeugdloop krijgen bovendien een fraaie herinnering aan hun ontberingen.      Programma 2 maart 2008:     Afstand   Categorie   Starttijd     2 km    jeugd tot en met 16 jaar &  jeugd tot en met 10 jaar   10:00 uur     6 km   liefhebbers     10:30 uur     12 km   wedstrijdloop   (500\,- euro prijzengeld)   10:30 uur              Inschrijving kan op de dag van de wedstrijd tot een half uur voor de start of via onze web site.     De uitslagen zullen vanzelfsprekend binnen 24 uur op deze site beschikbaar zijn.    De flyers worden in dit jaar verzorgd door \n  \n  \n 
URL:https://hardloopevenementen.com/loopagenda/de-plok-baggerloop-didam/
END:VEVENT
END:VCALENDAR