BEGIN:VCALENDAR
VERSION:2.0
PRODID:-//Hardloopevenementen - ECPv6.15.14//NONSGML v1.0//EN
CALSCALE:GREGORIAN
METHOD:PUBLISH
X-WR-CALNAME:Hardloopevenementen
X-ORIGINAL-URL:https://hardloopevenementen.com
X-WR-CALDESC:Evenementen voor Hardloopevenementen
REFRESH-INTERVAL;VALUE=DURATION:PT1H
X-Robots-Tag:noindex
X-PUBLISHED-TTL:PT1H
BEGIN:VTIMEZONE
TZID:UTC
BEGIN:STANDARD
TZOFFSETFROM:+0000
TZOFFSETTO:+0000
TZNAME:UTC
DTSTART:20180101T000000
END:STANDARD
END:VTIMEZONE
BEGIN:VEVENT
DTSTART;VALUE=DATE:20190422
DTEND;VALUE=DATE:20190423
DTSTAMP:20260423T065832
CREATED:20100510T052705Z
LAST-MODIFIED:20191114T112656Z
UID:17721-1555891200-1555891200@hardloopevenementen.com
SUMMARY:Pernisse Plusloop Pernis\, gemeente Rotterdam (ZH)
DESCRIPTION:Doe mee met het hardloopevenement Pernisse Plusloop te Pernis\, gemeente Rotterdam (ZH) op ma 22 apr 2019. De volgende afstanden staan op het programma: 10 km hardlopen. Wilt u inschrijven voor dit loopevenement?  Raadpleeg hiervoor dan de website van de organisatie\nDe uitslagen van deze hardloopwedstrijd zijn te raadplegen via dezelfde website of via de bekende websites zoals uitslagen.nl\, runtimer en mylaps. Doet u mee met dit evenement\, zorg dan dat u goed voorbereid aan de start staat! Met een goed trainingsschema komt u een heel eind. Train bijvoorbeeld met start to run van Evy Gruyaert. Download de start to run mp3 bestanden en zet ze op uw telefoon. Oortjes in\, hit the play button en en rennen maar! \n\n\n\n\nMeer informatie over Pernisse Plusloop op Hardloopkalender.nl  \nOp 22 april 2019 om 13:00 uur zal de eerste hardloopwedstrijd van Pernis plaatsvinden. Namelijk de Pernisse Plusloop. De route is 10 km lang en gaat door heel Pernis.     De Pernisse Plusloop wordt georganiseerd vanuit de supermarkt Plus Noordzij in Pernis. Met deze hardloopwedstrijd willen wij het goede doel Stichting Jarige Job steunen. Stichting Jarige Job zorgt ervoor dat ieder kind zijn verjaardag kan vieren. De inschrijving voor de Pernisse Plusloop van 10 km kost  10\,- hiervan gaat  3\,50 naar Stichting Jarige Job. \n  \n  \n 
URL:https://hardloopevenementen.com/loopagenda/pernisse-plusloop-pernis-gemeente-rotterdam-zh/
END:VEVENT
END:VCALENDAR