BEGIN:VCALENDAR
VERSION:2.0
PRODID:-//Hardloopevenementen - ECPv6.15.14//NONSGML v1.0//EN
CALSCALE:GREGORIAN
METHOD:PUBLISH
X-WR-CALNAME:Hardloopevenementen
X-ORIGINAL-URL:https://hardloopevenementen.com
X-WR-CALDESC:Evenementen voor Hardloopevenementen
REFRESH-INTERVAL;VALUE=DURATION:PT1H
X-Robots-Tag:noindex
X-PUBLISHED-TTL:PT1H
BEGIN:VTIMEZONE
TZID:UTC
BEGIN:STANDARD
TZOFFSETFROM:+0000
TZOFFSETTO:+0000
TZNAME:UTC
DTSTART:20170101T000000
END:STANDARD
END:VTIMEZONE
BEGIN:VEVENT
DTSTART;VALUE=DATE:20180616
DTEND;VALUE=DATE:20180617
DTSTAMP:20260424T040704
CREATED:20081012T044212Z
LAST-MODIFIED:20190423T120418Z
UID:16395-1529107200-1529107200@hardloopevenementen.com
SUMMARY:Positif - Dwars Door Dongen Dongen (NB)
DESCRIPTION:Doe mee met het hardloopevenement Positif – Dwars Door Dongen te Dongen (NB) op za 16 jun 2018. De volgende afstanden staan op het programma: 0\,4 km – 0\,8 km – 1 km – 1\,6 km – 5 km – 10 km hardlopen. Wilt u inschrijven voor dit loopevenement?  Raadpleeg hiervoor dan de website van de organisatie\nDe uitslagen van deze hardloopwedstrijd zijn te raadplegen via dezelfde website of via de bekende websites zoals uitslagen.nl\, runtimer en mylaps. Doet u mee met dit evenement\, zorg dan dat u goed voorbereid aan de start staat! Met een goed trainingsschema komt u een heel eind. Train bijvoorbeeld met start to run van Evy Gruyaert. Download de start to run mp3 bestanden en zet ze op uw telefoon. Oortjes in\, hit the play button en en rennen maar! \n\n\n\n\nMeer informatie over Positif – Dwars Door Dongen op Hardloopkalender.nl  \nOp 16 juni 2018 wordt de 34e editie gehouden van de Positif Dwars Door  Dongen. Dit is dè hardloopwedstrijd van Dongen! Iedereen kan meedoen: jong en oud\,  wedstrijdloper of trimmer\, beginner of gevorderd.    Organisatie: Atletiek- en trimvereniging ATLEDO \n  \n  \n 
URL:https://hardloopevenementen.com/loopagenda/positif-dwars-door-dongen-dongen-nb/
END:VEVENT
END:VCALENDAR