BEGIN:VCALENDAR
VERSION:2.0
PRODID:-//Hardloopevenementen - ECPv6.15.14//NONSGML v1.0//EN
CALSCALE:GREGORIAN
METHOD:PUBLISH
X-ORIGINAL-URL:https://hardloopevenementen.com
X-WR-CALDESC:Evenementen voor Hardloopevenementen
REFRESH-INTERVAL;VALUE=DURATION:PT1H
X-Robots-Tag:noindex
X-PUBLISHED-TTL:PT1H
BEGIN:VTIMEZONE
TZID:UTC
BEGIN:STANDARD
TZOFFSETFROM:+0000
TZOFFSETTO:+0000
TZNAME:UTC
DTSTART:20100101T000000
END:STANDARD
END:VTIMEZONE
BEGIN:VEVENT
DTSTART;VALUE=DATE:20200322
DTEND;VALUE=DATE:20200323
DTSTAMP:20260425T001339
CREATED:20110307T032912Z
LAST-MODIFIED:20200206T111445Z
UID:142495-1584835200-1584835200@hardloopevenementen.com
SUMMARY:AmstelveenZ Lentemarathon -  powered by KPMG Amstelveen (NH)
DESCRIPTION:Doe mee met het hardloopevenement AmstelveenZ Lentemarathon –  powered by KPMG te Amstelveen (NH) op zo 22 mrt 2020. De volgende afstanden staan op het programma: halve marathon – marathon hardlopen. Wilt u inschrijven voor dit loopevenement?  Raadpleeg hiervoor dan de website van de organisatie\nDe uitslagen van deze hardloopwedstrijd zijn te raadplegen via dezelfde website of via de bekende websites zoals uitslagen.nl\, runtimer en mylaps. Doet u mee met dit evenement\, zorg dan dat u goed voorbereid aan de start staat! Met een goed trainingsschema komt u een heel eind. Train bijvoorbeeld met start to run van Evy Gruyaert. Download de start to run mp3 bestanden en zet ze op uw telefoon. Oortjes in\, hit the play button en en rennen maar! \n\n\n\n\nMeer informatie over AmstelveenZ Lentemarathon –  powered by KPMG op Hardloopkalender.nl  \nDe Amstelveenz Lentemarathon biedt een fraai parcours door de mooiste delen van Amstelveen\, langs de Amstel en het Amsterdamse Bos! Op deze dag kan je\, naast de hele marathon\, ook de Stadshart Amstelveen halve Lentemarathon lopen\, óf de Estafette Marathon. \n  \n  \n 
URL:https://hardloopevenementen.com/loopagenda/amstelveenz-lentemarathon-powered-by-kpmg-amstelveen-nh-2/
END:VEVENT
BEGIN:VEVENT
DTSTART;VALUE=DATE:20191103
DTEND;VALUE=DATE:20191104
DTSTAMP:20260425T001339
CREATED:20140116T234922Z
LAST-MODIFIED:20191114T112400Z
UID:142542-1572739200-1572739200@hardloopevenementen.com
SUMMARY:KAV Holland Cross powered by Compris Spaarndam\, gemeente Haarlem (NH)
DESCRIPTION:Doe mee met het hardloopevenement KAV Holland Cross powered by Compris te Spaarndam\, gemeente Haarlem (NH) op zo 03 nov 2019. De volgende afstanden staan op het programma: 1 km – 2 km – 3 km – 5\,6 km – 8\,4 km hardlopen. Wilt u inschrijven voor dit loopevenement?  Raadpleeg hiervoor dan de website van de organisatie\nDe uitslagen van deze hardloopwedstrijd zijn te raadplegen via dezelfde website of via de bekende websites zoals uitslagen.nl\, runtimer en mylaps. Doet u mee met dit evenement\, zorg dan dat u goed voorbereid aan de start staat! Met een goed trainingsschema komt u een heel eind. Train bijvoorbeeld met start to run van Evy Gruyaert. Download de start to run mp3 bestanden en zet ze op uw telefoon. Oortjes in\, hit the play button en en rennen maar! \n\n\n\n\nMeer informatie over KAV Holland Cross powered by Compris op Hardloopkalender.nl  \nZondag 3 november 2019 organiseert KAV Holland haar jaarlijkse crossloop voor jong en oud op het terrein van Wheelerplanet in Spaarnwoude. Deels gaat het over asfalt\, maar ook over gras en bospaden. Het is de eerste loop van het RunX Haarlem Crosscircuit\, een reeks van crosslopen in Kennemerland en het Mokums cross circuit\, een reeks van crosslopen in Amsterdam en directe omgeving.    Voor iedere loper en leeftijd is er een afstand naar keuze: 1 km voor G-atleten\, 1 of 2 kilometer voor de jeugd\, 3 kilometer Sprint Cross (open inschrijving)\, 5\,6 km voor de dames en 8\,4 km voor de heren. Inschrijven kost voor  G-atleten\, pupillen en CD-junioren  4 (na-inschrijving  5)\, senioren sprint cross en Junioren A B sprint cross  6 (na-inschrijving:  7) en senioren lange afstand  9 (na-inschrijving:  10).    De inschrijving is geopend via https:  inschrijven.nl form 2019110303120-nl    Je kunt zondag 3 november ter plaatse inschrijven. \n  \n  \n 
URL:https://hardloopevenementen.com/loopagenda/kav-holland-cross-powered-by-compris-spaarndam-gemeente-haarlem-nh/
END:VEVENT
BEGIN:VEVENT
DTSTART;VALUE=DATE:20190324
DTEND;VALUE=DATE:20190325
DTSTAMP:20260425T001339
CREATED:20170326T220812Z
LAST-MODIFIED:20191114T112724Z
UID:17559-1553385600-1553385600@hardloopevenementen.com
SUMMARY:AmstelveenZ Lentemarathon -  powered by KPMG Amstelveen (NH)
DESCRIPTION:Doe mee met het hardloopevenement AmstelveenZ Lentemarathon –  powered by KPMG te Amstelveen (NH) op zo 24 mrt 2019. De volgende afstanden staan op het programma: halve marathon – marathon hardlopen. Wilt u inschrijven voor dit loopevenement?  Raadpleeg hiervoor dan de website van de organisatie\nDe uitslagen van deze hardloopwedstrijd zijn te raadplegen via dezelfde website of via de bekende websites zoals uitslagen.nl\, runtimer en mylaps. Doet u mee met dit evenement\, zorg dan dat u goed voorbereid aan de start staat! Met een goed trainingsschema komt u een heel eind. Train bijvoorbeeld met start to run van Evy Gruyaert. Download de start to run mp3 bestanden en zet ze op uw telefoon. Oortjes in\, hit the play button en en rennen maar! \n\n\n\n\nMeer informatie over AmstelveenZ Lentemarathon –  powered by KPMG op Hardloopkalender.nl  \nDerde editie van de Lentemarathon. Route door bos\, open polders\, bebouwde kom. Verharde paden. De marathon kan ook als estafette gelopen worden\, in een team van vier. \n  \n  \n 
URL:https://hardloopevenementen.com/loopagenda/amstelveenz-lentemarathon-powered-by-kpmg-amstelveen-nh/
END:VEVENT
BEGIN:VEVENT
DTSTART;VALUE=DATE:20150410
DTEND;VALUE=DATE:20150411
DTSTAMP:20260425T001339
CREATED:20100225T012057Z
LAST-MODIFIED:20190423T111317Z
UID:10731-1428624000-1428624000@hardloopevenementen.com
SUMMARY:The Night Run Festival 2015 powered by FortaRock Nijmegen (GE)
DESCRIPTION:Doe mee met het hardloopevenement The Night Run Festival 2015 powered by FortaRock te Nijmegen (GE) op vr 10 apr 2015. De volgende afstanden staan op het programma: 5 km – 10 km hardlopen. Wilt u inschrijven voor dit loopevenement?  Raadpleeg hiervoor dan de website van de organisatie\nDe uitslagen van deze hardloopwedstrijd zijn te raadplegen via dezelfde website of via de bekende websites zoals uitslagen.nl\, runtimer en mylaps. Doet u mee met dit evenement\, zorg dan dat u goed voorbereid aan de start staat! Met een goed trainingsschema komt u een heel eind. Train bijvoorbeeld met start to run van Evy Gruyaert. Download de start to run mp3 bestanden en zet ze op uw telefoon. Oortjes in\, hit the play button en en rennen maar! \n\n\n\n\nMeer informatie over The Night Run Festival 2015 powered by FortaRock op Hardloopkalender.nl  \nThe Night Run Festival powered by FortaRock is een uniek hardloopfeest in Nijmegen. Op vrijdagavond 10 april zal er om 21.30 uur gestart worden vanaf de Waalkade met The Night Run. TNRF laat Nijmegen in het donker van zijn mooiste kant zien\, met allerlei verrassende acts en bijzondere passages onderweg. De passage door de Nijmeegse binnenstad is er één om nooit te vergeten. Aansluitend is er voor alle Night Runners de gelegenheid tot een gezellige after-party met show en muziek. \n  \n  \n 
URL:https://hardloopevenementen.com/loopagenda/the-night-run-festival-2015-powered-by-fortarock-nijmegen-ge/
END:VEVENT
BEGIN:VEVENT
DTSTART;VALUE=DATE:20120603
DTEND;VALUE=DATE:20120604
DTSTAMP:20260425T001339
CREATED:20140428T153129Z
LAST-MODIFIED:20190423T103159Z
UID:28262-1338681600-1338681600@hardloopevenementen.com
SUMMARY:KEMPEN RUN powered by Venco Groep Hapert\, gemeente Bladel (NB)
DESCRIPTION:Doe mee met het hardloopevenement KEMPEN RUN powered by Venco Groep te Hapert\, gemeente Bladel (NB) op zo 03 jun 2012. De volgende afstanden staan op het programma: 1 km – 6 km – 10 km – halve marathon hardlopen. Wilt u inschrijven voor dit loopevenement?  Raadpleeg hiervoor dan de website van de organisatie\nDe uitslagen van deze hardloopwedstrijd zijn te raadplegen via dezelfde website of via de bekende websites zoals uitslagen.nl\, runtimer en mylaps. Doet u mee met dit evenement\, zorg dan dat u goed voorbereid aan de start staat! Met een goed trainingsschema komt u een heel eind. Train bijvoorbeeld met start to run van Evy Gruyaert. Download de start to run mp3 bestanden en zet ze op uw telefoon. Oortjes in\, hit the play button en en rennen maar! \n\n\n\n\nMeer informatie over KEMPEN RUN powered by Venco Groep op Hardloopkalender.nl  \nHet loopevenement KEMPEN RUN powered by Venco Groep te Hapert vindt plaats op zondag 03 juni 2012. De loop wordt georganiseerd door No-Limits. Inschrijven is mogelijk vanaf 01 februari 2012. Klik hier voor het adres van de start (Google Maps).Er is EHBO aanwezig. Bijzonderheden: Prachtig loopevenement (21 km) door de bosrijke omgeving van de Brabantse Kempen.Afstand SoortloopInschrijfgeldStarttijdInfo21.1 km7\,0011:00uur10 km5\,0011:00uur1 km2\,0010:00uur6 km4\,0011:00uurVoor meer informatie:Pierre Ritzenr.ritzen@planet.nl0497382343http:  www.kempenrun.nl \n  \n  \n 
URL:https://hardloopevenementen.com/loopagenda/kempen-run-powered-by-venco-groep-hapert-gemeente-bladel-nb-2/
END:VEVENT
BEGIN:VEVENT
DTSTART;VALUE=DATE:20110605
DTEND;VALUE=DATE:20110606
DTSTAMP:20260425T001339
CREATED:20080914T161635Z
LAST-MODIFIED:20190423T102103Z
UID:6854-1307232000-1307232000@hardloopevenementen.com
SUMMARY:KEMPEN RUN powered by Venco Groep Hapert\, gemeente Bladel (NB)
DESCRIPTION:Doe mee met het hardloopevenement KEMPEN RUN powered by Venco Groep te Hapert\, gemeente Bladel (NB) op zo 05 jun 2011. De volgende afstanden staan op het programma: 10 km – halve marathon hardlopen. Wilt u inschrijven voor dit loopevenement?  Raadpleeg hiervoor dan de website van de organisatie\nDe uitslagen van deze hardloopwedstrijd zijn te raadplegen via dezelfde website of via de bekende websites zoals uitslagen.nl\, runtimer en mylaps. Doet u mee met dit evenement\, zorg dan dat u goed voorbereid aan de start staat! Met een goed trainingsschema komt u een heel eind. Train bijvoorbeeld met start to run van Evy Gruyaert. Download de start to run mp3 bestanden en zet ze op uw telefoon. Oortjes in\, hit the play button en en rennen maar! \n\n\n\n\nMeer informatie over KEMPEN RUN powered by Venco Groep op Hardloopkalender.nl  \nHet loopevenement KEMPEN RUN powered by Venco Groep te Hapert vindt plaats op zondag 05 juni 2011. De loop wordt georganiseerd door No-Limits. Inschrijven is mogelijk vanaf 1 maart 2011. Klik hier voor het adres van de start (Google Maps).Er is verkleedaccomodatie met douchemogelijkheid aanwezig. Er is EHBO aanwezig. Bijzonderheden: Nieuw loopevenement door de bosrijke omgeving van de Brabantse Kempen..Afstand(km)Inschrijfgeld()Starttijd21\,17\,0011:00uur105\,0011:00uurkidsrun0\,0010:00uurVoor meer informatie:Pierre Ritzenr.ritzen@planet.nl0497382343http:  www.kempenrun.nl  inschrijfgeld kidsrun:  2\,- euro  Het evenement wordt georganiseerd door Stichting Kempen-Run. \n  \n  \n 
URL:https://hardloopevenementen.com/loopagenda/kempen-run-powered-by-venco-groep-hapert-gemeente-bladel-nb/
END:VEVENT
END:VCALENDAR