BEGIN:VCALENDAR
VERSION:2.0
PRODID:-//Hardloopevenementen - ECPv6.15.14//NONSGML v1.0//EN
CALSCALE:GREGORIAN
METHOD:PUBLISH
X-ORIGINAL-URL:https://hardloopevenementen.com
X-WR-CALDESC:Evenementen voor Hardloopevenementen
REFRESH-INTERVAL;VALUE=DURATION:PT1H
X-Robots-Tag:noindex
X-PUBLISHED-TTL:PT1H
BEGIN:VTIMEZONE
TZID:UTC
BEGIN:STANDARD
TZOFFSETFROM:+0000
TZOFFSETTO:+0000
TZNAME:UTC
DTSTART:20070101T000000
END:STANDARD
END:VTIMEZONE
BEGIN:VEVENT
DTSTART;VALUE=DATE:20080419
DTEND;VALUE=DATE:20080420
DTSTAMP:20260424T025128
CREATED:20141013T174824Z
LAST-MODIFIED:20190423T094757Z
UID:19854-1208563200-1208563200@hardloopevenementen.com
SUMMARY:Powerman Horster Night Run Horst a/d Maas
DESCRIPTION:Doe mee met het hardloopevenement Powerman Horster Night Run te Horst a/d Maas op za 19 apr 2008. De volgende afstanden staan op het programma: 2\,5 km – 5 km hardlopen. Wilt u inschrijven voor dit loopevenement?  Raadpleeg hiervoor dan de website van de organisatie\nDe uitslagen van deze hardloopwedstrijd zijn te raadplegen via dezelfde website of via de bekende websites zoals uitslagen.nl\, runtimer en mylaps. Doet u mee met dit evenement\, zorg dan dat u goed voorbereid aan de start staat! Met een goed trainingsschema komt u een heel eind. Train bijvoorbeeld met start to run van Evy Gruyaert. Download de start to run mp3 bestanden en zet ze op uw telefoon. Oortjes in\, hit the play button en en rennen maar! \n\n\n\n\nMeer informatie over Powerman Horster Night Run op Hardloopkalender.nl  \nDe Horster Night Run over 2\,5 km en  5 km start op zaterdagavond 19 april 2008 om 21.00 uur op het Wilhelminaplein voor het gemeentehuis van Horst aan de  Maas.     Het looprondje is 2500m welke u 1 of 2 maal moet afleggen.    Deze loop\, bij nachtlicht\, is een super gezellige hardloopwedstrijd dwars door het sfeervolle centrum van Horst. Onderweg staan toeschouwers\, joekeskapellen en andere randactiviteiten die samen met de Horeca en winkeliers vereniging van Horst worden geregeld.    Extra verlichting:  Het hele parkoers zal extra verlicht worden wat een extra sfeer zal creëren.  Super sfeer is voor gezorgd    De deelnemers\, supporters\, bezoekers en het attractieve randprogramma en het voor het verkeer geheel afgesloten 2500m looprondje zullen ervoor zorgen dat de Horster Night Run een onvergetelijke ervaring zal zijn.     Start en Finish  Start- en finishtorens zijn voor het Stadhuis. Dit zijn de grote Powerman start- en finish torens.    De Powerman duathlon wedstrijden vinden de dag erna op zondag plaats  Een wedstrijd voor iedereen.    De Horster Night Run moet een feest zijn om mee te doen voor jong\, oud\, voor de beginnende loper en de goed getrainde sportmensen lopers.    De afstanden zijn daarom 2500m en 5000 m    Inschrijven is uitsluitend mogelijk via internet: www.powerman.nl    tot  vrijdag 11 april 2008. Na-inschrijving kost het 5\,- extra. Dus meld je vroeg aan.    De kosten van voor-inschrijving bedragen;  + Voor de 5000 m  10 euro      + Voor de 2500 m  7\,5 euro     Wat krijgt U voor dit inschrijfgeld:     + Huur ChampionChip!  + Startnummerband !  + sportdrank\, water en fruit  + hartige hapjes bij de finish   + entertainment onderweg   + massage    + herinneringsmedaille   + gratis persoonlijke\, digitale oorkonde met uw uitslag down te loaden via www.powerman.nl    En natuurlijk een sportvriendelijke en goede organisatie waardoor u een goede wedstrijd kunt lopen.    DusDit moet je meemaken en mee beleven! \n  \n  \n 
URL:https://hardloopevenementen.com/loopagenda/powerman-horster-night-run-horst-a-d-maas/
END:VEVENT
END:VCALENDAR