BEGIN:VCALENDAR
VERSION:2.0
PRODID:-//Hardloopevenementen - ECPv6.15.14//NONSGML v1.0//EN
CALSCALE:GREGORIAN
METHOD:PUBLISH
X-WR-CALNAME:Hardloopevenementen
X-ORIGINAL-URL:https://hardloopevenementen.com
X-WR-CALDESC:Evenementen voor Hardloopevenementen
REFRESH-INTERVAL;VALUE=DURATION:PT1H
X-Robots-Tag:noindex
X-PUBLISHED-TTL:PT1H
BEGIN:VTIMEZONE
TZID:UTC
BEGIN:STANDARD
TZOFFSETFROM:+0000
TZOFFSETTO:+0000
TZNAME:UTC
DTSTART:20110101T000000
END:STANDARD
END:VTIMEZONE
BEGIN:VEVENT
DTSTART;VALUE=DATE:20140322
DTEND;VALUE=DATE:20140323
DTSTAMP:20260423T013353
CREATED:20070624T053245Z
LAST-MODIFIED:20190423T105702Z
UID:34478-1395446400-1395446400@hardloopevenementen.com
SUMMARY:30 km prestattieloop 5 10 15 km Vlaardingen (ZH)
DESCRIPTION:Doe mee met het hardloopevenement 30 km prestattieloop 5 10 15 km te Vlaardingen (ZH) op za 22 mrt 2014. De volgende afstanden staan op het programma: 5 km – 10 km – 15 km – 30 km hardlopen. Wilt u inschrijven voor dit loopevenement?  Raadpleeg hiervoor dan de website van de organisatie\nDe uitslagen van deze hardloopwedstrijd zijn te raadplegen via dezelfde website of via de bekende websites zoals uitslagen.nl\, runtimer en mylaps. Doet u mee met dit evenement\, zorg dan dat u goed voorbereid aan de start staat! Met een goed trainingsschema komt u een heel eind. Train bijvoorbeeld met start to run van Evy Gruyaert. Download de start to run mp3 bestanden en zet ze op uw telefoon. Oortjes in\, hit the play button en en rennen maar! \n\n\n\n\nMeer informatie over 30 km prestattieloop 5 10 15 km op Hardloopkalender.nl  \nHet loopevenement 30 km prestattieloop 5-10-15 km te Vlaardingen vindt plaats op zaterdag 22 maart 2014. De loop wordt georganisseerd door AV Fortuna. Klik hier voor het adres van de start (Google Maps). \n  \n  \n 
URL:https://hardloopevenementen.com/loopagenda/30-km-prestattieloop-5-10-15-km-vlaardingen-zh-2/
END:VEVENT
BEGIN:VEVENT
DTSTART;VALUE=DATE:20120401
DTEND;VALUE=DATE:20120402
DTSTAMP:20260423T013353
CREATED:20070720T043056Z
LAST-MODIFIED:20190423T103324Z
UID:28598-1333238400-1333238400@hardloopevenementen.com
SUMMARY:30 km prestattieloop 5-10-15 km Vlaardingen (ZH)
DESCRIPTION:Doe mee met het hardloopevenement 30 km prestattieloop 5-10-15 km te Vlaardingen (ZH) op zo 01 apr 2012. De volgende afstanden staan op het programma: 5 km – 10 km – 15 km – 30 km hardlopen. Wilt u inschrijven voor dit loopevenement?  Raadpleeg hiervoor dan de website van de organisatie\nDe uitslagen van deze hardloopwedstrijd zijn te raadplegen via dezelfde website of via de bekende websites zoals uitslagen.nl\, runtimer en mylaps. Doet u mee met dit evenement\, zorg dan dat u goed voorbereid aan de start staat! Met een goed trainingsschema komt u een heel eind. Train bijvoorbeeld met start to run van Evy Gruyaert. Download de start to run mp3 bestanden en zet ze op uw telefoon. Oortjes in\, hit the play button en en rennen maar! \n\n\n\n\nMeer informatie over 30 km prestattieloop 5-10-15 km op Hardloopkalender.nl  \nHet loopevenement 30 km prestattieloop 5-10-15 km te Vlaardingen vindt plaats op zondag 01 april 2012. De loop wordt georganiseerd door AV Fortuna. Inschrijven is mogelijk vanaf 01 februari 2012. Klik hier voor het adres van de start (Google Maps).Er is EHBO aanwezig. Bijzonderheden: ChampionChip tijdregistratie Chiphuur €1\,50.Afstand SoortloopInschrijfgeldStarttijdInfo5 km2\,5011.00u10 km4\,0011.00u15 km4\,0011.00u30 km5\,0011.00uVoor meer informatie:Wil van der Raafweg@avfortuna.nl0104750076http:  www.avfortuna.nl \n  \n  \n 
URL:https://hardloopevenementen.com/loopagenda/30-km-prestattieloop-5-10-15-km-vlaardingen-zh/
END:VEVENT
END:VCALENDAR