BEGIN:VCALENDAR
VERSION:2.0
PRODID:-//Hardloopevenementen - ECPv6.15.14//NONSGML v1.0//EN
CALSCALE:GREGORIAN
METHOD:PUBLISH
X-WR-CALNAME:Hardloopevenementen
X-ORIGINAL-URL:https://hardloopevenementen.com
X-WR-CALDESC:Evenementen voor Hardloopevenementen
REFRESH-INTERVAL;VALUE=DURATION:PT1H
X-Robots-Tag:noindex
X-PUBLISHED-TTL:PT1H
BEGIN:VTIMEZONE
TZID:UTC
BEGIN:STANDARD
TZOFFSETFROM:+0000
TZOFFSETTO:+0000
TZNAME:UTC
DTSTART:20150101T000000
END:STANDARD
END:VTIMEZONE
BEGIN:VEVENT
DTSTART;VALUE=DATE:20190922
DTEND;VALUE=DATE:20190923
DTSTAMP:20260420T233755
CREATED:20150803T033357Z
LAST-MODIFIED:20191114T112440Z
UID:43322-1569110400-1569110400@hardloopevenementen.com
SUMMARY:Profielloop Gemonde\, gemeente Sint-Michielsgestel (NB)
DESCRIPTION:Doe mee met het hardloopevenement Profielloop te Gemonde\, gemeente Sint-Michielsgestel (NB) op zo 22 sep 2019. De volgende afstanden staan op het programma: 0\,8 km – 5\,5 km – 10 km hardlopen. Wilt u inschrijven voor dit loopevenement?  Raadpleeg hiervoor dan de website van de organisatie\nDe uitslagen van deze hardloopwedstrijd zijn te raadplegen via dezelfde website of via de bekende websites zoals uitslagen.nl\, runtimer en mylaps. Doet u mee met dit evenement\, zorg dan dat u goed voorbereid aan de start staat! Met een goed trainingsschema komt u een heel eind. Train bijvoorbeeld met start to run van Evy Gruyaert. Download de start to run mp3 bestanden en zet ze op uw telefoon. Oortjes in\, hit the play button en en rennen maar! \n\n\n\n\nMeer informatie over Profielloop op Hardloopkalender.nl  \nProfielloop – Hét (hard)loopevenement van Gemonde en omstreken!    Met 5 verschillende hardloop- en wandelonderdelen\, is dit evenement een sportief feest voor iedereen.      Zeer gevarieerde parcoursen door de prachtige natuur rondom Gemonde.     Hardlopen : Kidsrun (800 m)\, 5.5 & 10 km  Wandelen : 5.5 & 10 km    www.profielloop.nl  Inschrijving opent op 1 juni 2019!    Tot aan de start! \n  \n  \n 
URL:https://hardloopevenementen.com/loopagenda/profielloop-gemonde-gemeente-sint-michielsgestel-nb-4/
END:VEVENT
BEGIN:VEVENT
DTSTART;VALUE=DATE:20180916
DTEND;VALUE=DATE:20180917
DTSTAMP:20260420T233755
CREATED:20100209T225934Z
LAST-MODIFIED:20190423T120247Z
UID:15987-1537056000-1537056000@hardloopevenementen.com
SUMMARY:Profielloop Gemonde\, gemeente Sint-Michielsgestel (NB)
DESCRIPTION:Doe mee met het hardloopevenement Profielloop te Gemonde\, gemeente Sint-Michielsgestel (NB) op zo 16 sep 2018. De volgende afstanden staan op het programma: 1 km – 5\,5 km – 10 km hardlopen. Wilt u inschrijven voor dit loopevenement?  Raadpleeg hiervoor dan de website van de organisatie\nDe uitslagen van deze hardloopwedstrijd zijn te raadplegen via dezelfde website of via de bekende websites zoals uitslagen.nl\, runtimer en mylaps. Doet u mee met dit evenement\, zorg dan dat u goed voorbereid aan de start staat! Met een goed trainingsschema komt u een heel eind. Train bijvoorbeeld met start to run van Evy Gruyaert. Download de start to run mp3 bestanden en zet ze op uw telefoon. Oortjes in\, hit the play button en en rennen maar! \n\n\n\n\nMeer informatie over Profielloop op Hardloopkalender.nl  \nDe Profielloop – Hét hardloopevenement van Gemonde!    Prachtige parcoursen door de mooie natuur rondom Gemonde. Er is een Kidsrun van 1 km\, een ronde van 5.5 en een ronde van 10 km.     Naast de hardloopparcoursen\, zijn er ook twee wandelroutes. Deze routes zijn 5.5 & 10 km lang.    Wij hopen jullie aan de start te zien van de derde editie van de Profielloop!    Samengevat  – Kidsrun\, 5.5 km en 10 km  – Prachtige\, grotendeels onverharde parcoursen rondom Gemonde  – Start en finish bij VV Irene in Gemonde  – Inschrijven mogelijk vanaf 1 mei via www.profielloop.nl  – Douches + kleedruimtes aanwezig  – Ook twee wandeltochten! (5.5 en 10 km)  – Inschrijfgeld is inclusief fruit en kopje koffie thee \n  \n  \n 
URL:https://hardloopevenementen.com/loopagenda/profielloop-gemonde-gemeente-sint-michielsgestel-nb-3/
END:VEVENT
BEGIN:VEVENT
DTSTART;VALUE=DATE:20170917
DTEND;VALUE=DATE:20170918
DTSTAMP:20260420T233755
CREATED:20150423T021553Z
LAST-MODIFIED:20190423T114358Z
UID:14085-1505606400-1505606400@hardloopevenementen.com
SUMMARY:Profielloop Gemonde\, gemeente Sint-Michielsgestel (NB)
DESCRIPTION:Doe mee met het hardloopevenement Profielloop te Gemonde\, gemeente Sint-Michielsgestel (NB) op zo 17 sep 2017. De volgende afstanden staan op het programma: 1 km – 5\,5 km – 10 km hardlopen. Wilt u inschrijven voor dit loopevenement?  Raadpleeg hiervoor dan de website van de organisatie\nDe uitslagen van deze hardloopwedstrijd zijn te raadplegen via dezelfde website of via de bekende websites zoals uitslagen.nl\, runtimer en mylaps. Doet u mee met dit evenement\, zorg dan dat u goed voorbereid aan de start staat! Met een goed trainingsschema komt u een heel eind. Train bijvoorbeeld met start to run van Evy Gruyaert. Download de start to run mp3 bestanden en zet ze op uw telefoon. Oortjes in\, hit the play button en en rennen maar! \n\n\n\n\nMeer informatie over Profielloop op Hardloopkalender.nl  \nDe Profielloop – Het hardloopevenement van Gemonde!    Prachtige parcoursen door de mooie natuur rondom Gemonde. Er is een Kidsrun van 1 km\, een ronde van 5.5 en een ronde van 10 km.     Vorig jaar hebben we de Profielloop georganiseerd als profielwerkstuk\, een eindexamenwerkstuk van Gymnasium Beekvliet. Omdat we erg veel positieve reacties op de Profielloop hebben gekregen en omdat we het zelf een prachtig evenement vonden\, hebben we besloten om de Profielloop nogmaals te organiseren.    Inschrijven is mogelijk vanaf 1 mei.     Wij hopen jullie aan de start te zien van de tweede editie van de Profielloop.    Samengevat  – Kidsrun\, 5.5 km en 10 km  – Prachtige\, grotendeels onverharde parcoursen rondom Gemonde  – Start en finish bij VV Irene in Gemonde  – Inschrijven mogelijk vanaf 1 mei  – Douches + kleedruimtes aanwezig  – Ook twee wandeltochten! (5.5 en 10 km)  – Inschrijfgeld is inclusief fruit en koffie thee \n  \n  \n 
URL:https://hardloopevenementen.com/loopagenda/profielloop-gemonde-gemeente-sint-michielsgestel-nb-2/
END:VEVENT
BEGIN:VEVENT
DTSTART;VALUE=DATE:20160925
DTEND;VALUE=DATE:20160926
DTSTAMP:20260420T233755
CREATED:20180104T064150Z
LAST-MODIFIED:20190423T112203Z
UID:11905-1474761600-1474761600@hardloopevenementen.com
SUMMARY:Profielloop Gemonde\, gemeente Sint-Michielsgestel (NB)
DESCRIPTION:Doe mee met het hardloopevenement Profielloop te Gemonde\, gemeente Sint-Michielsgestel (NB) op zo 25 sep 2016. De volgende afstanden staan op het programma: 1 km – 5\,5 km – 11\,5 km hardlopen. Wilt u inschrijven voor dit loopevenement?  Raadpleeg hiervoor dan de website van de organisatie\nDe uitslagen van deze hardloopwedstrijd zijn te raadplegen via dezelfde website of via de bekende websites zoals uitslagen.nl\, runtimer en mylaps. Doet u mee met dit evenement\, zorg dan dat u goed voorbereid aan de start staat! Met een goed trainingsschema komt u een heel eind. Train bijvoorbeeld met start to run van Evy Gruyaert. Download de start to run mp3 bestanden en zet ze op uw telefoon. Oortjes in\, hit the play button en en rennen maar! \n\n\n\n\nMeer informatie over Profielloop op Hardloopkalender.nl  \nEindelijk\, een hardloopevenement in Gemonde!    Wij\, Robin Bogers en David Mornout\, organiseren op 25 september een hardloopevenement in het prachtige buitengebied van Gemonde! Wij zijn scholieren van Gymnasium Beekvliet en organiseren dit evenement als profielwerkstuk. Dit houdt in dat dit evenement onderdeel van ons examenprogramma is. Wij gaan er met u een mooie dag van maken!    De profielloop gaat over zowel verharde als onverharde wegen\, waarbij u veel ziet van de prachtige natuur rondom Gemonde. De 5.5 kilometer en de 11.5 kilometer hebben een eigen parcours.    Wie inschrijft voor 23 juli betaalt geen inschrijfgeld!    Vanaf 23 juli is online inschrijven nog steeds mogelijk\, er dient dan nog wel contant te worden betaald bij het inschrijfbureau op 25 september. Inschrijven op 25 september is uiteraard ook mogelijk.    Start en finish bij VV Irene\, Kaal Hoefsteeg 2 te Gemonde.  Kleed- en doucheruimte aanwezig!    Programma  09.00 Inschrijfbureau geopend  10.30 Start Kidsrun (voor kinderen in de basisschoolleeftijd)  11.00 Start 5.5 en 11.5  12.30 Prijsuitreiking van alle onderdelen    Online inschrijven via onderstaande link:  https:  docs.google.com forms d 1bnol0Axq_rzKKpfscu81LkE3zdsxC5sNB6UR_GuVSjY viewform     Check onze site voor meer informatie! \n  \n  \n 
URL:https://hardloopevenementen.com/loopagenda/profielloop-gemonde-gemeente-sint-michielsgestel-nb/
END:VEVENT
END:VCALENDAR