BEGIN:VCALENDAR
VERSION:2.0
PRODID:-//Hardloopevenementen - ECPv6.15.14//NONSGML v1.0//EN
CALSCALE:GREGORIAN
METHOD:PUBLISH
X-ORIGINAL-URL:https://hardloopevenementen.com
X-WR-CALDESC:Evenementen voor Hardloopevenementen
REFRESH-INTERVAL;VALUE=DURATION:PT1H
X-Robots-Tag:noindex
X-PUBLISHED-TTL:PT1H
BEGIN:VTIMEZONE
TZID:UTC
BEGIN:STANDARD
TZOFFSETFROM:+0000
TZOFFSETTO:+0000
TZNAME:UTC
DTSTART:20120101T000000
END:STANDARD
END:VTIMEZONE
BEGIN:VEVENT
DTSTART;VALUE=DATE:20181104
DTEND;VALUE=DATE:20181105
DTSTAMP:20260425T142328
CREATED:20181009T042643Z
LAST-MODIFIED:20190423T120145Z
UID:15718-1541289600-1541289600@hardloopevenementen.com
SUMMARY:Run for The Hunger Project Amsterdam (NH)
DESCRIPTION:Doe mee met het hardloopevenement Run for The Hunger Project te Amsterdam (NH) op zo 04 nov 2018. De volgende afstanden staan op het programma: 0\,4 km – 0\,8 km – 5 km – 10 km hardlopen. Wilt u inschrijven voor dit loopevenement?  Raadpleeg hiervoor dan de website van de organisatie\nDe uitslagen van deze hardloopwedstrijd zijn te raadplegen via dezelfde website of via de bekende websites zoals uitslagen.nl\, runtimer en mylaps. Doet u mee met dit evenement\, zorg dan dat u goed voorbereid aan de start staat! Met een goed trainingsschema komt u een heel eind. Train bijvoorbeeld met start to run van Evy Gruyaert. Download de start to run mp3 bestanden en zet ze op uw telefoon. Oortjes in\, hit the play button en en rennen maar! \n\n\n\n\nMeer informatie over Run for The Hunger Project op Hardloopkalender.nl  \nOp zondag 4 november 2018 vindt de 12e editie van Run for The Hunger Project plaats – een hardloopevenement van 5 of 10 km met start en finish in het Olympisch Stadion in Amsterdam. Meedoen kan als individuele loper (inschrijfkosten:  250\,-) of als Business Team van 6 personen (inschrijfkosten:  1.000\,-). Voor kids (4 t m 14 jaar) organiseren we voorafgaande aan het event een Kids Run van 400 of 800 meter in het Olympisch Stadion.    Met de Run for The Hunger Project proberen we op een sportieve manier zoveel mogelijk geld op te halen voor The Hunger Project Benin.    Alle inschrijfgelden komen ten goede aan The Hunger Project\, dáár doen we het voor! Daarom vragen wij van iedere deelnemer bovenop het inschrijfgeld extra donatiegeld in te zamelen. In 2017 haalden 720 deelnemers 110.000\,- op! Welk team en welke renner weten dit jaar het hoogste bedrag te werven?    Hier kan men zich inschrijven voor de Run for The Hunger Project: https:  www.runforthehungerproject.nl inschrijven \n  \n  \n 
URL:https://hardloopevenementen.com/loopagenda/run-for-the-hunger-project-amsterdam-nh/
END:VEVENT
BEGIN:VEVENT
DTSTART;VALUE=DATE:20131103
DTEND;VALUE=DATE:20131104
DTSTAMP:20260425T142328
CREATED:20140110T095841Z
LAST-MODIFIED:20190423T103844Z
UID:8182-1383436800-1383436800@hardloopevenementen.com
SUMMARY:7e Run for The Hunger Project Amsterdam (NH)
DESCRIPTION:Doe mee met het hardloopevenement 7e Run for The Hunger Project te Amsterdam (NH) op zo 03 nov 2013. De volgende afstanden staan op het programma: 5 km – 10 km hardlopen. Wilt u inschrijven voor dit loopevenement?  Raadpleeg hiervoor dan de website van de organisatie\nDe uitslagen van deze hardloopwedstrijd zijn te raadplegen via dezelfde website of via de bekende websites zoals uitslagen.nl\, runtimer en mylaps. Doet u mee met dit evenement\, zorg dan dat u goed voorbereid aan de start staat! Met een goed trainingsschema komt u een heel eind. Train bijvoorbeeld met start to run van Evy Gruyaert. Download de start to run mp3 bestanden en zet ze op uw telefoon. Oortjes in\, hit the play button en en rennen maar! \n\n\n\n\nMeer informatie over 7e Run for The Hunger Project op Hardloopkalender.nl  \nSponsorloop waarbij de opbrengst bestemd is voor The Hunger Project. Het hoofdevenement is een teamwedstrijd (6 personen: 4 x 5 km en 2 x 10 km). De gezamenlijke tijd telt. Individueel deelnemen is ook mogelijk. Start en finish in het Olympisch Stadion in Amsterdam. \n  \n  \n 
URL:https://hardloopevenementen.com/loopagenda/7e-run-for-the-hunger-project-amsterdam-nh/
END:VEVENT
END:VCALENDAR