BEGIN:VCALENDAR
VERSION:2.0
PRODID:-//Hardloopevenementen - ECPv6.15.14//NONSGML v1.0//EN
CALSCALE:GREGORIAN
METHOD:PUBLISH
X-WR-CALNAME:Hardloopevenementen
X-ORIGINAL-URL:https://hardloopevenementen.com
X-WR-CALDESC:Evenementen voor Hardloopevenementen
REFRESH-INTERVAL;VALUE=DURATION:PT1H
X-Robots-Tag:noindex
X-PUBLISHED-TTL:PT1H
BEGIN:VTIMEZONE
TZID:UTC
BEGIN:STANDARD
TZOFFSETFROM:+0000
TZOFFSETTO:+0000
TZNAME:UTC
DTSTART:20130101T000000
END:STANDARD
END:VTIMEZONE
BEGIN:VEVENT
DTSTART;VALUE=DATE:20180707
DTEND;VALUE=DATE:20180708
DTSTAMP:20260421T043352
CREATED:20181022T171737Z
LAST-MODIFIED:20190423T120352Z
UID:16282-1530921600-1530921600@hardloopevenementen.com
SUMMARY:Prutrace De Weere De Weere\, gemeente Opmeer (NH)
DESCRIPTION:Doe mee met het hardloopevenement Prutrace De Weere te De Weere\, gemeente Opmeer (NH) op za 07 jul 2018. De volgende afstanden staan op het programma: 4 km hardlopen. Wilt u inschrijven voor dit loopevenement?  Raadpleeg hiervoor dan de website van de organisatie\nDe uitslagen van deze hardloopwedstrijd zijn te raadplegen via dezelfde website of via de bekende websites zoals uitslagen.nl\, runtimer en mylaps. Doet u mee met dit evenement\, zorg dan dat u goed voorbereid aan de start staat! Met een goed trainingsschema komt u een heel eind. Train bijvoorbeeld met start to run van Evy Gruyaert. Download de start to run mp3 bestanden en zet ze op uw telefoon. Oortjes in\, hit the play button en en rennen maar! \n\n\n\n\nMeer informatie over Prutrace De Weere op Hardloopkalender.nl  \nDe mooiste looprace van West-Friesland en dit in De Weere! Ieder jaar wordt deze race door sloten en weilanden gehouden tijdens de zaterdagavond van de kermis. Een gezellige en sportieve loop\, dit jaar extra bijzonder i.v.m. ons jubileum (20e editie). \n  \n  \n 
URL:https://hardloopevenementen.com/loopagenda/prutrace-de-weere-de-weere-gemeente-opmeer-nh-2/
END:VEVENT
BEGIN:VEVENT
DTSTART;VALUE=DATE:20170708
DTEND;VALUE=DATE:20170709
DTSTAMP:20260421T043352
CREATED:20140917T023631Z
LAST-MODIFIED:20190423T114510Z
UID:14405-1499472000-1499472000@hardloopevenementen.com
SUMMARY:Prutrace De Weere De Weere\, gemeente Opmeer (NH)
DESCRIPTION:Doe mee met het hardloopevenement Prutrace De Weere te De Weere\, gemeente Opmeer (NH) op za 08 jul 2017. De volgende afstanden staan op het programma: 3\,5 km hardlopen. Wilt u inschrijven voor dit loopevenement?  Raadpleeg hiervoor dan de website van de organisatie\nDe uitslagen van deze hardloopwedstrijd zijn te raadplegen via dezelfde website of via de bekende websites zoals uitslagen.nl\, runtimer en mylaps. Doet u mee met dit evenement\, zorg dan dat u goed voorbereid aan de start staat! Met een goed trainingsschema komt u een heel eind. Train bijvoorbeeld met start to run van Evy Gruyaert. Download de start to run mp3 bestanden en zet ze op uw telefoon. Oortjes in\, hit the play button en en rennen maar! \n\n\n\n\nMeer informatie over Prutrace De Weere op Hardloopkalender.nl  \nHallo sportievelingen en liefhebbers\, loltrappers en alle anderen die interesse hebben in de Prutrace op kermiszaterdag 8 juli om 19.00 uur in De Weere. Hebben jullie zin in 3\,5 km weiland\, bouwland en 40 sloten? Schrijf je dan nu in! Voor meer info\, kijk op onze site www.prutracedeweere.nl \n  \n  \n 
URL:https://hardloopevenementen.com/loopagenda/prutrace-de-weere-de-weere-gemeente-opmeer-nh/
END:VEVENT
BEGIN:VEVENT
DTSTART;VALUE=DATE:20150614
DTEND;VALUE=DATE:20150615
DTSTAMP:20260421T043352
CREATED:20131220T131750Z
LAST-MODIFIED:20190423T111128Z
UID:10282-1434240000-1434240000@hardloopevenementen.com
SUMMARY:Prutrace Kudelstaart Aalsmeer (NH)
DESCRIPTION:Doe mee met het hardloopevenement Prutrace Kudelstaart te Aalsmeer (NH) op zo 14 jun 2015. De volgende afstanden staan op het programma: 1\,6 km – 3\,5 km – 7\,7 km hardlopen. Wilt u inschrijven voor dit loopevenement?  Raadpleeg hiervoor dan de website van de organisatie\nDe uitslagen van deze hardloopwedstrijd zijn te raadplegen via dezelfde website of via de bekende websites zoals uitslagen.nl\, runtimer en mylaps. Doet u mee met dit evenement\, zorg dan dat u goed voorbereid aan de start staat! Met een goed trainingsschema komt u een heel eind. Train bijvoorbeeld met start to run van Evy Gruyaert. Download de start to run mp3 bestanden en zet ze op uw telefoon. Oortjes in\, hit the play button en en rennen maar! \n\n\n\n\nMeer informatie over Prutrace Kudelstaart op Hardloopkalender.nl  \nPrutrace RKDES – 14 Juni 2015    De Prutrace op het terrein van sportvereniging Rkdes.    Kudelstaart bestaat dit jaar 777 jaar. Een speciaal opgericht comité is hiervoor al geruime tijd bezig met voorbereidingen voor een week boordevol met festiviteiten voor jong en oud. De Feestweek Kudelstaart 777 wordt geopend op zondag 14 juni met een heuse Kudelstaartse Prutrace met start en finish bij voetbalvereniging RKDES. Een prachtig spektakel met een uitdagend parcours en dé uitgelezen mogelijkheid om Kudelstaart eens vanuit een andere hoek te bekijken. Een sportieve en uitdagende race waarbij plezier hoog in het vaandel staat.    Deelnamecategorieën.    Er zal gestart gaan worden in 3 leeftijdsgebonden categorieën onderverdeeld in 12 t m 14 jaar\, 15 t m 17 jaar en de 18+ categorie.    Deze categorieën lopen\, zwemmen en baggeren het parcours respectievelijk 1\, 2 en 3 keer door. Uiteraard bevat de modderspetterende race ook een competitief element waarbij de deelnemers zich in de 18+ categorie kunnen kwalificeren voor een uiteindelijke finale ronde! De winnaar & winnares van de finaleronde krijgt de eretitel 1e Prutkampioen Kudelstaart opgespeld. Ook voor niet-deelnemers een geweldig en hilarisch evenement om te aanschouwen en bovendien zal de dag ook voor het publiek een aantrekkelijk programma bieden voor jong en oud.    Vrijwilligers gevraagd!  Om een dergelijk spektakelstuk in goede banen te leiden is de organisatie naarstig op zoek naar vrijwilligers die op en rond het parcours willen assisteren. Lijkt het u leuk om hierin een rol te vervullen meldt u dan aan via ec@rkdes.com!    inschrijven via http:  www.kudelstaart777.nl evenementen prutrace-rkdes \n  \n  \n 
URL:https://hardloopevenementen.com/loopagenda/prutrace-kudelstaart-aalsmeer-nh/
END:VEVENT
BEGIN:VEVENT
DTSTART;VALUE=DATE:20140914
DTEND;VALUE=DATE:20140915
DTSTAMP:20260421T043352
CREATED:20150419T172107Z
LAST-MODIFIED:20190423T105137Z
UID:33277-1410652800-1410652800@hardloopevenementen.com
SUMMARY:Haarse Prutrace Haarzuilens\, gemeente Utrecht (UT)
DESCRIPTION:Doe mee met het hardloopevenement Haarse Prutrace te Haarzuilens\, gemeente Utrecht (UT) op zo 14 sep 2014. De volgende afstanden staan op het programma: 1\,3 km hardlopen. Wilt u inschrijven voor dit loopevenement?  Raadpleeg hiervoor dan de website van de organisatie\nDe uitslagen van deze hardloopwedstrijd zijn te raadplegen via dezelfde website of via de bekende websites zoals uitslagen.nl\, runtimer en mylaps. Doet u mee met dit evenement\, zorg dan dat u goed voorbereid aan de start staat! Met een goed trainingsschema komt u een heel eind. Train bijvoorbeeld met start to run van Evy Gruyaert. Download de start to run mp3 bestanden en zet ze op uw telefoon. Oortjes in\, hit the play button en en rennen maar! \n\n\n\n\nMeer informatie over Haarse Prutrace op Hardloopkalender.nl  \nOp zondag 14 september 2014 zal de 14e Haarse Prutrace plaats vinden\, ook dit jaar wordt dit fantastische evenement weer door de Kermis Oranjevereniging Haarzuilens georganiseerd. Dit unieke\, spectaculaire evenement zal dit jaar in het naast gelegen weiland plaats vinden.   De deelnemers komen uit de omliggende dorpen maar zeker ook uit de rest van het land. Vorig jaar waren er zelfs deelnemers vanuit België gekomen om mee te lopen. \n  \n  \n 
URL:https://hardloopevenementen.com/loopagenda/haarse-prutrace-haarzuilens-gemeente-utrecht-ut/
END:VEVENT
END:VCALENDAR