BEGIN:VCALENDAR
VERSION:2.0
PRODID:-//Hardloopevenementen - ECPv6.15.14//NONSGML v1.0//EN
CALSCALE:GREGORIAN
METHOD:PUBLISH
X-ORIGINAL-URL:https://hardloopevenementen.com
X-WR-CALDESC:Evenementen voor Hardloopevenementen
REFRESH-INTERVAL;VALUE=DURATION:PT1H
X-Robots-Tag:noindex
X-PUBLISHED-TTL:PT1H
BEGIN:VTIMEZONE
TZID:UTC
BEGIN:STANDARD
TZOFFSETFROM:+0000
TZOFFSETTO:+0000
TZNAME:UTC
DTSTART:20070101T000000
END:STANDARD
END:VTIMEZONE
BEGIN:VEVENT
DTSTART;VALUE=DATE:20170129
DTEND;VALUE=DATE:20170130
DTSTAMP:20260426T013117
CREATED:20080113T032408Z
LAST-MODIFIED:20190423T114834Z
UID:15321-1485648000-1485648000@hardloopevenementen.com
SUMMARY:Puinduinrun 's-Gravenhage\, gemeente Den Haag (ZH)
DESCRIPTION:Doe mee met het hardloopevenement Puinduinrun te ‘s-Gravenhage\, gemeente Den Haag (ZH) op zo 29 jan 2017. De volgende afstanden staan op het programma: 3\,2 km – 6\,4 km – 9\,6 km hardlopen. Wilt u inschrijven voor dit loopevenement?  Raadpleeg hiervoor dan de website van de organisatie\nDe uitslagen van deze hardloopwedstrijd zijn te raadplegen via dezelfde website of via de bekende websites zoals uitslagen.nl\, runtimer en mylaps. Doet u mee met dit evenement\, zorg dan dat u goed voorbereid aan de start staat! Met een goed trainingsschema komt u een heel eind. Train bijvoorbeeld met start to run van Evy Gruyaert. Download de start to run mp3 bestanden en zet ze op uw telefoon. Oortjes in\, hit the play button en en rennen maar! \n\n\n\n\nMeer informatie over Puinduinrun op Hardloopkalender.nl  \nTrail in de Haagse Puinduinen \n  \n  \n 
URL:https://hardloopevenementen.com/loopagenda/puinduinrun-s-gravenhage-gemeente-den-haag-zh-2/
END:VEVENT
BEGIN:VEVENT
DTSTART;VALUE=DATE:20160131
DTEND;VALUE=DATE:20160201
DTSTAMP:20260426T013117
CREATED:20100330T132108Z
LAST-MODIFIED:20190423T112725Z
UID:13329-1454198400-1454198400@hardloopevenementen.com
SUMMARY:Puinduinrun 's-Gravenhage\, gemeente Den Haag (ZH)
DESCRIPTION:Doe mee met het hardloopevenement Puinduinrun te ‘s-Gravenhage\, gemeente Den Haag (ZH) op zo 31 jan 2016. De volgende afstanden staan op het programma: 3\,2 km – 6\,4 km – 9\,6 km hardlopen. Wilt u inschrijven voor dit loopevenement?  Raadpleeg hiervoor dan de website van de organisatie\nDe uitslagen van deze hardloopwedstrijd zijn te raadplegen via dezelfde website of via de bekende websites zoals uitslagen.nl\, runtimer en mylaps. Doet u mee met dit evenement\, zorg dan dat u goed voorbereid aan de start staat! Met een goed trainingsschema komt u een heel eind. Train bijvoorbeeld met start to run van Evy Gruyaert. Download de start to run mp3 bestanden en zet ze op uw telefoon. Oortjes in\, hit the play button en en rennen maar! \n\n\n\n\nMeer informatie over Puinduinrun op Hardloopkalender.nl  \n  \n  \n 
URL:https://hardloopevenementen.com/loopagenda/puinduinrun-s-gravenhage-gemeente-den-haag-zh/
END:VEVENT
BEGIN:VEVENT
DTSTART;VALUE=DATE:20130127
DTEND;VALUE=DATE:20130128
DTSTAMP:20260426T013117
CREATED:20120904T023751Z
LAST-MODIFIED:20190423T104530Z
UID:32363-1359244800-1359244800@hardloopevenementen.com
SUMMARY:Puinduinrun 's-Gravenhage\, gemeente Den Haag (ZH)
DESCRIPTION:Doe mee met het hardloopevenement Puinduinrun te ‘s-Gravenhage\, gemeente Den Haag (ZH) op zo 27 jan 2013. De volgende afstanden staan op het programma: 3\,3 km – 6\,6 km – 10 km hardlopen. Wilt u inschrijven voor dit loopevenement?  Raadpleeg hiervoor dan de website van de organisatie\nDe uitslagen van deze hardloopwedstrijd zijn te raadplegen via dezelfde website of via de bekende websites zoals uitslagen.nl\, runtimer en mylaps. Doet u mee met dit evenement\, zorg dan dat u goed voorbereid aan de start staat! Met een goed trainingsschema komt u een heel eind. Train bijvoorbeeld met start to run van Evy Gruyaert. Download de start to run mp3 bestanden en zet ze op uw telefoon. Oortjes in\, hit the play button en en rennen maar! \n\n\n\n\nMeer informatie over Puinduinrun op Hardloopkalender.nl  \nHet loopevenement Puinduinrun te ‘S-Gravenhage vindt plaats op zondag 27 januari 2013. De loop wordt georganisseerd door RTC Duursportvereniging. Inschrijven is mogelijk vanaf 01 november 2012. Klik hier voor het adres van de start (Google Maps).Er is verkleedaccomodatie met douchemogelijkheid aanwezig. Bijzonderheden: parcour over de puinduinen met stevig klimwerk over diverse trappen 100 treden.Voor meer informatie:W. van Leeuwenwim_van_leeuwen@online.nl0630608416http:  www.triathlonweb.nl users rtc index.php?m=1\,31\,puinduinrun \n  \n  \n 
URL:https://hardloopevenementen.com/loopagenda/puinduinrun-s-gravenhage-gemeente-den-haag-zh-4/
END:VEVENT
BEGIN:VEVENT
DTSTART;VALUE=DATE:20120122
DTEND;VALUE=DATE:20120123
DTSTAMP:20260426T013117
CREATED:20091213T104006Z
LAST-MODIFIED:20190423T103508Z
UID:29011-1327190400-1327190400@hardloopevenementen.com
SUMMARY:Puinduinrun 's-Gravenhage\, gemeente Den Haag (ZH)
DESCRIPTION:Doe mee met het hardloopevenement Puinduinrun te ‘s-Gravenhage\, gemeente Den Haag (ZH) op zo 22 jan 2012. De volgende afstanden staan op het programma: 3\,3 km hardlopen. Wilt u inschrijven voor dit loopevenement?  Raadpleeg hiervoor dan de website van de organisatie\nDe uitslagen van deze hardloopwedstrijd zijn te raadplegen via dezelfde website of via de bekende websites zoals uitslagen.nl\, runtimer en mylaps. Doet u mee met dit evenement\, zorg dan dat u goed voorbereid aan de start staat! Met een goed trainingsschema komt u een heel eind. Train bijvoorbeeld met start to run van Evy Gruyaert. Download de start to run mp3 bestanden en zet ze op uw telefoon. Oortjes in\, hit the play button en en rennen maar! \n\n\n\n\nMeer informatie over Puinduinrun op Hardloopkalender.nl  \nHet loopevenement Puinduinrun te ‘s-Gravenhage vindt plaats op zondag 22 januari 2012. De loop wordt georganiseerd door RTC Duursportvereniging. Inschrijven is mogelijk vanaf 01 november 2011. Klik hier voor het adres van de start (Google Maps).Bijzonderheden: cross in puinduinen per ronde ca 3\,3km 2x klim van ruim 100 traptreden.Afstand SoortloopInschrijfgeldStarttijdInfo3.3 km10\,0011.00Voor meer informatie:W. van Leeuwenwim_van_leeuwen@online.nl0630608416http:  www.triathlonweb.nl users rtc index.php?m=1\,31\,puinduinrun \n  \n  \n 
URL:https://hardloopevenementen.com/loopagenda/puinduinrun-s-gravenhage-gemeente-den-haag-zh-3/
END:VEVENT
BEGIN:VEVENT
DTSTART;VALUE=DATE:20110123
DTEND;VALUE=DATE:20110124
DTSTAMP:20260426T013117
CREATED:20130514T120900Z
LAST-MODIFIED:20190423T102423Z
UID:26986-1295740800-1295740800@hardloopevenementen.com
SUMMARY:RTCs Puinduinrun 's-Gravenhage\, gemeente Den Haag (ZH)
DESCRIPTION:Doe mee met het hardloopevenement RTCs Puinduinrun te ‘s-Gravenhage\, gemeente Den Haag (ZH) op zo 23 jan 2011. De volgende afstanden staan op het programma: 3\,5 km – 7 km – 10 km hardlopen. Wilt u inschrijven voor dit loopevenement?  Raadpleeg hiervoor dan de website van de organisatie\nDe uitslagen van deze hardloopwedstrijd zijn te raadplegen via dezelfde website of via de bekende websites zoals uitslagen.nl\, runtimer en mylaps. Doet u mee met dit evenement\, zorg dan dat u goed voorbereid aan de start staat! Met een goed trainingsschema komt u een heel eind. Train bijvoorbeeld met start to run van Evy Gruyaert. Download de start to run mp3 bestanden en zet ze op uw telefoon. Oortjes in\, hit the play button en en rennen maar! \n\n\n\n\nMeer informatie over RTCs Puinduinrun op Hardloopkalender.nl  \nCrossloop    De Puinduinrun is sinds 2004 een begrip voor iedereen die er een keer aan heeft deelgenomen. Deze klim-crossloop van 3\,5 – 7 – 10 km over de Haagse ‘Puinduinen vlakbij Kijkduin is geen makkelijke wedstrijd\, maar wel een bijzonder mooie. Wie hier na één\, twee of drie rondjes zweten en zwoegen de finishlijn passeert voelt zich een echte held. Wellicht enigszins gesloopt\, maar toch… In allerlei opzichten worden de kwaliteiten van de loper op de proef gesteld: techniek\, kracht\, conditie en karakter. Degene die deze loop op zijn naam weet te schrijven mag zich met recht de sterkste crossloper van Den Haag noemen.    De start is om 11.00 uur aan het eind van de Wijndaelerweg\, bij de kruising met het Blijrustduin. Startnummers kunnen tussen 10.00 en 10.45 uur worden afgehaald bij Voetbalvereniging PGS-Vogel (in Sportpark Ockenburgh\, aan de Wijndaelerweg)\, waar ook de dag-inschrijving nog plaatsvindt.   Inschrijven kan ook online.  Zondag 23 januari 2011   Info op; www.puinduinrun.nl  Finishers ontvangen een uniek Haagse Harry op het Puin herinneringsshirt  Voor inschrijving online; 10 euro   Na inschrijving 15 euro (tussen 9.30-10.40)  Degene die het parcoursrecord breekt (D M) ontvangt 150 euro  Apart genoemde inschrijfkosten kinderen\, studenten en teams laten vervallen \n  \n  \n 
URL:https://hardloopevenementen.com/loopagenda/rtcs-puinduinrun-s-gravenhage-gemeente-den-haag-zh/
END:VEVENT
BEGIN:VEVENT
DTSTART;VALUE=DATE:20090118
DTEND;VALUE=DATE:20090119
DTSTAMP:20260426T013117
CREATED:20070921T234952Z
LAST-MODIFIED:20190423T100353Z
UID:2901-1232236800-1232236800@hardloopevenementen.com
SUMMARY:Puinduinrun Den Haag (ZH)
DESCRIPTION:Doe mee met het hardloopevenement Puinduinrun te Den Haag (ZH) op zo 18 jan 2009. De volgende afstanden staan op het programma: 3\,5 km – 7 km – 10 km hardlopen. Wilt u inschrijven voor dit loopevenement?  Raadpleeg hiervoor dan de website van de organisatie\nDe uitslagen van deze hardloopwedstrijd zijn te raadplegen via dezelfde website of via de bekende websites zoals uitslagen.nl\, runtimer en mylaps. Doet u mee met dit evenement\, zorg dan dat u goed voorbereid aan de start staat! Met een goed trainingsschema komt u een heel eind. Train bijvoorbeeld met start to run van Evy Gruyaert. Download de start to run mp3 bestanden en zet ze op uw telefoon. Oortjes in\, hit the play button en en rennen maar! \n\n\n\n\nMeer informatie over Puinduinrun op Hardloopkalender.nl  \n3\,5-7-10 km 11:00 uur \n  \n  \n 
URL:https://hardloopevenementen.com/loopagenda/puinduinrun-den-haag-zh/
END:VEVENT
BEGIN:VEVENT
DTSTART;VALUE=DATE:20080127
DTEND;VALUE=DATE:20080128
DTSTAMP:20260426T013117
CREATED:20070714T004031Z
LAST-MODIFIED:20190423T094932Z
UID:20267-1201392000-1201392000@hardloopevenementen.com
SUMMARY:Puinduinrun Den Haag
DESCRIPTION:Doe mee met het hardloopevenement Puinduinrun te Den Haag op zo 27 jan 2008. De volgende afstanden staan op het programma: 3\,5 km – 7 km – 10 km hardlopen. Wilt u inschrijven voor dit loopevenement?  Raadpleeg hiervoor dan de website van de organisatie\nDe uitslagen van deze hardloopwedstrijd zijn te raadplegen via dezelfde website of via de bekende websites zoals uitslagen.nl\, runtimer en mylaps. Doet u mee met dit evenement\, zorg dan dat u goed voorbereid aan de start staat! Met een goed trainingsschema komt u een heel eind. Train bijvoorbeeld met start to run van Evy Gruyaert. Download de start to run mp3 bestanden en zet ze op uw telefoon. Oortjes in\, hit the play button en en rennen maar! \n\n\n\n\nMeer informatie over Puinduinrun op Hardloopkalender.nl  \n3\,5-7-10 km 10:30 uur  Het crossen over en door de Haagse Puinduinen is voor RTC-leden altijd een feest. Behalve rennend\, gaan we hier met regelmaat ook zwoegend op de ATB doorheen. “Hier moeten we meer mee”\, dachten we. En zo geschiedde: in 2004 vond de eerste editie van de Puinduinrun plaats. De enthousiaste reacties van de lopers en een deelnemersaantal van 130 (waaronder enkele lokale toppers) oplopend tot 230 deelnemers in 2007 hebben ons gestimuleerd om deze loop voor de vijfde keer op de kalender te zetten.     “De Haagse Puinduinen\, ook wel met een knipoog de “Alpen van Den Haag” genoemd\, is een recreatiegebied dat is ontstaan uit een letterlijke hoop van puin als gevolg van allerlei sloopwerkzaamheden in de jaren vijftig en zestig. De Puinduinen\, onder meer dienende als versterking van de kust werd in 1968 voltooid. Grappig is het te weten dat rond ca. 1919 ditzelfde gebied fungeerde als een kleine vlieghaven. Graag willen we ook jou deelgenoot maken van de geneugten en ontberingen die het sporten in dit stukje Haagse Alpen met zich meebrengt. Het klimmen en dalen\, de trappetjes\, de mooie natuur\, het machtige uitzicht op zee\, het ruiken van de zilte zeelucht en dan tot slot het gevoel van opperste euforie en trots na het bereiken van de finish.” \n  \n  \n 
URL:https://hardloopevenementen.com/loopagenda/puinduinrun-den-haag/
END:VEVENT
END:VCALENDAR