BEGIN:VCALENDAR
VERSION:2.0
PRODID:-//Hardloopevenementen - ECPv6.15.14//NONSGML v1.0//EN
CALSCALE:GREGORIAN
METHOD:PUBLISH
X-ORIGINAL-URL:https://hardloopevenementen.com
X-WR-CALDESC:Evenementen voor Hardloopevenementen
REFRESH-INTERVAL;VALUE=DURATION:PT1H
X-Robots-Tag:noindex
X-PUBLISHED-TTL:PT1H
BEGIN:VTIMEZONE
TZID:UTC
BEGIN:STANDARD
TZOFFSETFROM:+0000
TZOFFSETTO:+0000
TZNAME:UTC
DTSTART:20110101T000000
END:STANDARD
END:VTIMEZONE
BEGIN:VEVENT
DTSTART;VALUE=DATE:20190525
DTEND;VALUE=DATE:20190526
DTSTAMP:20260424T025118
CREATED:20140928T193057Z
LAST-MODIFIED:20191114T112624Z
UID:141728-1558742400-1558742400@hardloopevenementen.com
SUMMARY:Ponymarkt 2 punt 0 Prestatieloop Puttershoek\, gemeente Binnenmaas (ZH)
DESCRIPTION:Doe mee met het hardloopevenement Ponymarkt 2 punt 0 Prestatieloop te Puttershoek\, gemeente Binnenmaas (ZH) op za 25 mei 2019. De volgende afstanden staan op het programma: 5 km – 10 km hardlopen. Wilt u inschrijven voor dit loopevenement?  Raadpleeg hiervoor dan de website van de organisatie\nDe uitslagen van deze hardloopwedstrijd zijn te raadplegen via dezelfde website of via de bekende websites zoals uitslagen.nl\, runtimer en mylaps. Doet u mee met dit evenement\, zorg dan dat u goed voorbereid aan de start staat! Met een goed trainingsschema komt u een heel eind. Train bijvoorbeeld met start to run van Evy Gruyaert. Download de start to run mp3 bestanden en zet ze op uw telefoon. Oortjes in\, hit the play button en en rennen maar! \n\n\n\n\nMeer informatie over Ponymarkt 2 punt 0 Prestatieloop op Hardloopkalender.nl  \nPrestatieloop tijdens ponymarkt festijn met kermis\, markt en andere activiteiten. Er is ook een jeugdloop over 1000m voor 7 9 jaar en 1500m voor 10 12 jaar. Jeugdloop is gratis bij voorinschrijving (www.inschrijven.nl) Er zijn leuke prijzen te winnen.   Start jeugdloop om 14:00u en 5 10km om 14:30u \n  \n  \n 
URL:https://hardloopevenementen.com/loopagenda/ponymarkt-2-punt-0-prestatieloop-puttershoek-gemeente-binnenmaas-zh/
END:VEVENT
BEGIN:VEVENT
DTSTART;VALUE=DATE:20120225
DTEND;VALUE=DATE:20120226
DTSTAMP:20260424T025118
CREATED:20111229T144138Z
LAST-MODIFIED:20190423T103417Z
UID:28822-1330128000-1330128000@hardloopevenementen.com
SUMMARY:De Punt Brug Marathon Glimmen\, gemeente Haren (GR)
DESCRIPTION:Doe mee met het hardloopevenement De Punt Brug Marathon te Glimmen\, gemeente Haren (GR) op za 25 feb 2012. De volgende afstanden staan op het programma: halve marathon – marathon hardlopen. Wilt u inschrijven voor dit loopevenement?  Raadpleeg hiervoor dan de website van de organisatie\nDe uitslagen van deze hardloopwedstrijd zijn te raadplegen via dezelfde website of via de bekende websites zoals uitslagen.nl\, runtimer en mylaps. Doet u mee met dit evenement\, zorg dan dat u goed voorbereid aan de start staat! Met een goed trainingsschema komt u een heel eind. Train bijvoorbeeld met start to run van Evy Gruyaert. Download de start to run mp3 bestanden en zet ze op uw telefoon. Oortjes in\, hit the play button en en rennen maar! \n\n\n\n\nMeer informatie over De Punt Brug Marathon op Hardloopkalender.nl  \nHet loopevenement De Punt Brug Marathon te Glimmen vindt plaats op zaterdag 25 februari 2012. De loop wordt georganiseerd door DFW Runners. Inschrijven is mogelijk vanaf 05 januari 2012. Klik hier voor het adres van de start (Google Maps).Afstand SoortloopInschrijfgeldStarttijdInfo42.2 km10\,0011.00uur21.1 km10\,0011.00uurVoor meer informatie:R. Kwintronald.kwint@planet.nl0650533314http:  www.dfwrunners.nl \n  \n  \n 
URL:https://hardloopevenementen.com/loopagenda/de-punt-brug-marathon-glimmen-gemeente-haren-gr/
END:VEVENT
END:VCALENDAR