BEGIN:VCALENDAR
VERSION:2.0
PRODID:-//Hardloopevenementen - ECPv6.15.14//NONSGML v1.0//EN
CALSCALE:GREGORIAN
METHOD:PUBLISH
X-WR-CALNAME:Hardloopevenementen
X-ORIGINAL-URL:https://hardloopevenementen.com
X-WR-CALDESC:Evenementen voor Hardloopevenementen
REFRESH-INTERVAL;VALUE=DURATION:PT1H
X-Robots-Tag:noindex
X-PUBLISHED-TTL:PT1H
BEGIN:VTIMEZONE
TZID:UTC
BEGIN:STANDARD
TZOFFSETFROM:+0000
TZOFFSETTO:+0000
TZNAME:UTC
DTSTART:20100101T000000
END:STANDARD
END:VTIMEZONE
BEGIN:VEVENT
DTSTART;VALUE=DATE:20180427
DTEND;VALUE=DATE:20180428
DTSTAMP:20260425T033534
CREATED:20150313T125813Z
LAST-MODIFIED:20190423T120523Z
UID:16690-1524787200-1524787200@hardloopevenementen.com
SUMMARY:Bavaria Kings en Queens Run Lieshout\, gemeente Laarbeek (NB)
DESCRIPTION:Doe mee met het hardloopevenement Bavaria Kings en Queens Run te Lieshout\, gemeente Laarbeek (NB) op vr 27 apr 2018. De volgende afstanden staan op het programma: 2\,5 km – 5 km – 7\,5 km – 10 km hardlopen. Wilt u inschrijven voor dit loopevenement?  Raadpleeg hiervoor dan de website van de organisatie\nDe uitslagen van deze hardloopwedstrijd zijn te raadplegen via dezelfde website of via de bekende websites zoals uitslagen.nl\, runtimer en mylaps. Doet u mee met dit evenement\, zorg dan dat u goed voorbereid aan de start staat! Met een goed trainingsschema komt u een heel eind. Train bijvoorbeeld met start to run van Evy Gruyaert. Download de start to run mp3 bestanden en zet ze op uw telefoon. Oortjes in\, hit the play button en en rennen maar! \n\n\n\n\nMeer informatie over Bavaria Kings en Queens Run op Hardloopkalender.nl  \nKroon jezelf tot King of Queen op jouw favoriete afstand. De Run bestaat uit vier dorpsronden van 2\,5 km\, en je kunt zelf je favoriete afstand kiezen. Voor de kinderen is er de Prinsen & Prinsessen Run. Er is een muzikale warming up\, en als speciale gasten: “Maxima en Wim-Lex” …   Super gezellig dus! \n  \n  \n 
URL:https://hardloopevenementen.com/loopagenda/bavaria-kings-en-queens-run-lieshout-gemeente-laarbeek-nb/
END:VEVENT
BEGIN:VEVENT
DTSTART;VALUE=DATE:20130430
DTEND;VALUE=DATE:20130501
DTSTAMP:20260425T033534
CREATED:20120619T130002Z
LAST-MODIFIED:20190423T104305Z
UID:31807-1367280000-1367280000@hardloopevenementen.com
SUMMARY:4de Rabo Queens Run Beek (LI)
DESCRIPTION:Doe mee met het hardloopevenement 4de Rabo Queens Run te Beek (LI) op di 30 apr 2013. De volgende afstanden staan op het programma: 0\,5 km – 0\,7 km – 1 km – 2\,5 km – 5 km – 10 km hardlopen. Wilt u inschrijven voor dit loopevenement?  Raadpleeg hiervoor dan de website van de organisatie\nDe uitslagen van deze hardloopwedstrijd zijn te raadplegen via dezelfde website of via de bekende websites zoals uitslagen.nl\, runtimer en mylaps. Doet u mee met dit evenement\, zorg dan dat u goed voorbereid aan de start staat! Met een goed trainingsschema komt u een heel eind. Train bijvoorbeeld met start to run van Evy Gruyaert. Download de start to run mp3 bestanden en zet ze op uw telefoon. Oortjes in\, hit the play button en en rennen maar! \n\n\n\n\nMeer informatie over 4de Rabo Queens Run op Hardloopkalender.nl  \nHet loopevenement 4de Rabo Queen’s Run te Beek vindt plaats op dinsdag 30 april 2013. De loop wordt georganisseerd door AV Caesar. Inschrijven is mogelijk vanaf 01 maart 2013. Klik hier voor het adres van de start (Google Maps).Er is geen verkleedaccomodatie aanwezig. Er is EHBO aanwezig. Voor meer informatie:Sonja Kragteninfo@avcaesar.nl0464372326http:  www.avcaesar.nl \n  \n  \n 
URL:https://hardloopevenementen.com/loopagenda/4de-rabo-queens-run-beek-li/
END:VEVENT
BEGIN:VEVENT
DTSTART;VALUE=DATE:20120430
DTEND;VALUE=DATE:20120501
DTSTAMP:20260425T033534
CREATED:20150816T205141Z
LAST-MODIFIED:20190423T103248Z
UID:28472-1335744000-1335744000@hardloopevenementen.com
SUMMARY:Rabo Queens Run Beek (LI)
DESCRIPTION:Doe mee met het hardloopevenement Rabo Queens Run te Beek (LI) op ma 30 apr 2012. De volgende afstanden staan op het programma: 0\,5 km – 0\,7 km – 1 km – 2\,5 km – 5 km – 10 km hardlopen. Wilt u inschrijven voor dit loopevenement?  Raadpleeg hiervoor dan de website van de organisatie\nDe uitslagen van deze hardloopwedstrijd zijn te raadplegen via dezelfde website of via de bekende websites zoals uitslagen.nl\, runtimer en mylaps. Doet u mee met dit evenement\, zorg dan dat u goed voorbereid aan de start staat! Met een goed trainingsschema komt u een heel eind. Train bijvoorbeeld met start to run van Evy Gruyaert. Download de start to run mp3 bestanden en zet ze op uw telefoon. Oortjes in\, hit the play button en en rennen maar! \n\n\n\n\nMeer informatie over Rabo Queens Run op Hardloopkalender.nl  \nHet loopevenement Rabo Queen’s Run te Beek vindt plaats op maandag 30 april 2012. De loop wordt georganiseerd door AV Caesar. Inschrijven is mogelijk vanaf 31 oktober 2011. Klik hier voor het adres van de start (Google Maps).Er is EHBO aanwezig. Afstand SoortloopInschrijfgeldStarttijdInfo10 km8\,0017.005 km8\,0016.152.5 km8\,0016.151 km3\,0015.200.7 km3\,0015.100.5 km3\,0015.00Voor meer informatie:Els Roversinfo@avcaesar.nl0464746894http:  www.avcaesar.nl \n  \n  \n 
URL:https://hardloopevenementen.com/loopagenda/rabo-queens-run-beek-li-2/
END:VEVENT
BEGIN:VEVENT
DTSTART;VALUE=DATE:20110430
DTEND;VALUE=DATE:20110501
DTSTAMP:20260425T033534
CREATED:20180414T230531Z
LAST-MODIFIED:20190423T102202Z
UID:7079-1304121600-1304121600@hardloopevenementen.com
SUMMARY:Rabo Queens Run Beek (LI)
DESCRIPTION:Doe mee met het hardloopevenement Rabo Queens Run te Beek (LI) op za 30 apr 2011. De volgende afstanden staan op het programma: 1 km – 2 km – 5 km – 10 km hardlopen. Wilt u inschrijven voor dit loopevenement?  Raadpleeg hiervoor dan de website van de organisatie\nDe uitslagen van deze hardloopwedstrijd zijn te raadplegen via dezelfde website of via de bekende websites zoals uitslagen.nl\, runtimer en mylaps. Doet u mee met dit evenement\, zorg dan dat u goed voorbereid aan de start staat! Met een goed trainingsschema komt u een heel eind. Train bijvoorbeeld met start to run van Evy Gruyaert. Download de start to run mp3 bestanden en zet ze op uw telefoon. Oortjes in\, hit the play button en en rennen maar! \n\n\n\n\nMeer informatie over Rabo Queens Run op Hardloopkalender.nl  \nHet loopevenement Rabo Queen’s Run te Beek vindt plaats op zaterdag 30 april 2011. De loop wordt georganiseerd door AV Caesar. Inschrijven is mogelijk vanaf 31 oktober 2010. Klik hier voor het adres van de start (Google Maps).Er is geen verkleedaccomodatie aanwezig. Er is EHBO aanwezig. Bijzonderheden: 2e Editie.Afstand(km)Inschrijfgeld()Starttijd107\,0016.3057\,0015.4522\,0015.0012\,0014.30Voor meer informatie:Els Roversinfo@avcaesar.nl0464746894http:  www.avcaesar.nl \n  \n  \n 
URL:https://hardloopevenementen.com/loopagenda/rabo-queens-run-beek-li/
END:VEVENT
END:VCALENDAR