BEGIN:VCALENDAR
VERSION:2.0
PRODID:-//Hardloopevenementen - ECPv6.15.14//NONSGML v1.0//EN
CALSCALE:GREGORIAN
METHOD:PUBLISH
X-ORIGINAL-URL:https://hardloopevenementen.com
X-WR-CALDESC:Evenementen voor Hardloopevenementen
REFRESH-INTERVAL;VALUE=DURATION:PT1H
X-Robots-Tag:noindex
X-PUBLISHED-TTL:PT1H
BEGIN:VTIMEZONE
TZID:UTC
BEGIN:STANDARD
TZOFFSETFROM:+0000
TZOFFSETTO:+0000
TZNAME:UTC
DTSTART:20150101T000000
END:STANDARD
END:VTIMEZONE
BEGIN:VEVENT
DTSTART;VALUE=DATE:20180324
DTEND;VALUE=DATE:20180325
DTSTAMP:20260423T173122
CREATED:20141204T020355Z
LAST-MODIFIED:20190423T120608Z
UID:16897-1521849600-1521849600@hardloopevenementen.com
SUMMARY:Jumbo Rainbow Run Gouda (ZH)
DESCRIPTION:Doe mee met het hardloopevenement Jumbo Rainbow Run te Gouda (ZH) op za 24 mrt 2018. De volgende afstanden staan op het programma: 5 km hardlopen. Wilt u inschrijven voor dit loopevenement?  Raadpleeg hiervoor dan de website van de organisatie\nDe uitslagen van deze hardloopwedstrijd zijn te raadplegen via dezelfde website of via de bekende websites zoals uitslagen.nl\, runtimer en mylaps. Doet u mee met dit evenement\, zorg dan dat u goed voorbereid aan de start staat! Met een goed trainingsschema komt u een heel eind. Train bijvoorbeeld met start to run van Evy Gruyaert. Download de start to run mp3 bestanden en zet ze op uw telefoon. Oortjes in\, hit the play button en en rennen maar! \n\n\n\n\nMeer informatie over Jumbo Rainbow Run op Hardloopkalender.nl  \nTijdens de Jumbo Rainbow Run vieren we de diversiteit in Gouda e.o\, door met allerlei uiteenlopende personen gezellig door de mooiste steegjes en hofjes van Gouda te rennen. Deze loop wordt gehouden in het kader van het Roze Jaar Gouda. Onderweg stoppen we op een dikke handvol bijzondere plekken\, die als stempelpost én ontmoetingsplek met andere lopers fungeren en waar je telkens iets meekrijgt. De totale afstand van de loop is circa 4\,5 kilometer. De route kan ook gewandeld worden. Dus je kunt ook gezellig met kinderen meedoen of je jeugdsportteam. Na afloop is er een kleine Goudse lekkernij.     Starten kan op zaterdag 24 maart doorlopend tussen 9.30 en 11.15 uur. Binnenkort melden we waar je eventuele droge kleding kunt stallen die ochtend. Je bagage dien je voor 13.15 uur weer opgehaald te hebben. Maar dan heb je nog steeds lekker twee uur de tijd als je pas om 11.15 uur start.     ZIN om mee te doen? Meld je dan aan via info@goudasport.nl en geef je naam en woonplaats door. \n  \n  \n 
URL:https://hardloopevenementen.com/loopagenda/jumbo-rainbow-run-gouda-zh/
END:VEVENT
BEGIN:VEVENT
DTSTART;VALUE=DATE:20160910
DTEND;VALUE=DATE:20160911
DTSTAMP:20260423T173122
CREATED:20150108T232954Z
LAST-MODIFIED:20190423T112231Z
UID:12043-1473465600-1473465600@hardloopevenementen.com
SUMMARY:Talent-Rainbow-run Reijmerstok\, gemeente Gulpen-Wittem (LI)
DESCRIPTION:Doe mee met het hardloopevenement Talent-Rainbow-run te Reijmerstok\, gemeente Gulpen-Wittem (LI) op za 10 sep 2016. De volgende afstanden staan op het programma: 4 km hardlopen. Wilt u inschrijven voor dit loopevenement?  Raadpleeg hiervoor dan de website van de organisatie\nDe uitslagen van deze hardloopwedstrijd zijn te raadplegen via dezelfde website of via de bekende websites zoals uitslagen.nl\, runtimer en mylaps. Doet u mee met dit evenement\, zorg dan dat u goed voorbereid aan de start staat! Met een goed trainingsschema komt u een heel eind. Train bijvoorbeeld met start to run van Evy Gruyaert. Download de start to run mp3 bestanden en zet ze op uw telefoon. Oortjes in\, hit the play button en en rennen maar! \n\n\n\n\nMeer informatie over Talent-Rainbow-run op Hardloopkalender.nl  \nDe RAINBOW-RUN is voor iedereen\, van jong tot oud. Dus iedereen binnen jullie hardloopvereniging is van harte welkom tijdens dit prachtige evenement.     Inschrijven kan via http:  www.vriendenvantalent.nl rainbow-run  en is geheel gratis voor kinderen tot en met 12 jaar!   Voor kinderen van 13 tot 18 jaar zijn de kosten 5\,- per inschrijving. Leerkrachten\, ouders en 18+ kunnen ook deelnemen\, hiervoor zijn de kosten 12\,50 per inschrijving.  Tevens zijn we ook hard op zoek naar vrijwilligers om ons evenement tot een groot succes te maken.     Wat is de Rainbow-run nu exact?    De Rainbow Runner is geen hardloopwedstrijd\, geen tijdsregistratie\, geen zenuwachtige blikken bij de start\, maar wel heel veel plezier!    We maken er de meest kleurrijke ervaring in Zuid-Limburg van\, door kleurenpoeder toe te voegen aan het programma.  Oftewel de Talent Rainbow Run staat garant voor de meest kleurrijke\, vrolijke en sportieve uitdaging met special effects op een prachtig parcours in het mooiste stukje Limburgs Heuvelland.    * De start en finish is gelegen aan de Reijmerstokkerdorpstraat in Reijmerstok en het parcours is 4 km lang (1 ronde).  * Elke deelnemer ontvangt bij de start een wit T-shirt met zonnebril en passeert een 5-tal kleurenbogen waarop je op een ludieke manier met kleur bestuift wordt.  * Bij de finish wordt elke deelnemer als een HELD onthaald.      Wat is het doel achter de Talent Rainbow-Run?  * De opbrengst zal volledig ten goede gaan verschillende goede doelen!   * Stichting Lobstar; Organiseren van midweken voor gezinnen met kinderen met kanker in de Abdij van Rolduc.  * Bevorderen van G-sporten in Limburg\, Educatie-materiaal voor jeugdigen van jeugdigen met een verstandelijke of psychiatrische beperking.  * O.a cursus  Een brug naar werk\, Gezonde eet- en leefwijze\, Bewegen.  * Five 4 Five t.b.v. Kankeronderzoek Limburg. \n  \n  \n 
URL:https://hardloopevenementen.com/loopagenda/talent-rainbow-run-reijmerstok-gemeente-gulpen-wittem-li/
END:VEVENT
END:VCALENDAR