BEGIN:VCALENDAR
VERSION:2.0
PRODID:-//Hardloopevenementen - ECPv6.15.14//NONSGML v1.0//EN
CALSCALE:GREGORIAN
METHOD:PUBLISH
X-ORIGINAL-URL:https://hardloopevenementen.com
X-WR-CALDESC:Evenementen voor Hardloopevenementen
REFRESH-INTERVAL;VALUE=DURATION:PT1H
X-Robots-Tag:noindex
X-PUBLISHED-TTL:PT1H
BEGIN:VTIMEZONE
TZID:UTC
BEGIN:STANDARD
TZOFFSETFROM:+0000
TZOFFSETTO:+0000
TZNAME:UTC
DTSTART:20090101T000000
END:STANDARD
END:VTIMEZONE
BEGIN:VEVENT
DTSTART;VALUE=DATE:20111022
DTEND;VALUE=DATE:20111023
DTSTAMP:20260424T173755
CREATED:20120724T083346Z
LAST-MODIFIED:20190423T101758Z
UID:6123-1319241600-1319241600@hardloopevenementen.com
SUMMARY:Athlos RBR Harderwijk (GE)
DESCRIPTION:Doe mee met het hardloopevenement Athlos RBR te Harderwijk (GE) op za 22 okt 2011. De volgende afstanden staan op het programma: 2\,5 km – 10\,5 km hardlopen. Wilt u inschrijven voor dit loopevenement?  Raadpleeg hiervoor dan de website van de organisatie\nDe uitslagen van deze hardloopwedstrijd zijn te raadplegen via dezelfde website of via de bekende websites zoals uitslagen.nl\, runtimer en mylaps. Doet u mee met dit evenement\, zorg dan dat u goed voorbereid aan de start staat! Met een goed trainingsschema komt u een heel eind. Train bijvoorbeeld met start to run van Evy Gruyaert. Download de start to run mp3 bestanden en zet ze op uw telefoon. Oortjes in\, hit the play button en en rennen maar! \n\n\n\n\nMeer informatie over Athlos RBR op Hardloopkalender.nl  \nHet loopevenement Athlos RBR te Harderwijk vindt plaats op zaterdag 22 oktober 2011. De loop wordt georganiseerd door AV Athlos. Inschrijven is mogelijk vanaf 01 januari 2011. Klik hier voor het adres van de start (Google Maps).Er is verkleedaccomodatie met douchemogelijkheid aanwezig. Er is EHBO aanwezig. Afstand(km)Inschrijfgeld()StarttijdRBR-allecat.7\,0011.00Voor meer informatie:Jeroen Celiewedstrijdsecretariaat@athlos.nl0642017065http:  www.athlos.nl \n  \n  \n 
URL:https://hardloopevenementen.com/loopagenda/athlos-rbr-harderwijk-ge/
END:VEVENT
BEGIN:VEVENT
DTSTART;VALUE=DATE:20101023
DTEND;VALUE=DATE:20101024
DTSTAMP:20260424T173755
CREATED:20140222T072842Z
LAST-MODIFIED:20190423T100726Z
UID:3405-1287792000-1287792000@hardloopevenementen.com
SUMMARY:46e Athlos Cross en RBR Harderwijk (GE)
DESCRIPTION:Doe mee met het hardloopevenement 46e Athlos Cross en RBR te Harderwijk (GE) op za 23 okt 2010. De volgende afstanden staan op het programma: 1 km – 1\,5 km – 2 km – 2\,5 km – 5\,5 km – 8 km – 10\,5 km hardlopen. Wilt u inschrijven voor dit loopevenement?  Raadpleeg hiervoor dan de website van de organisatie\nDe uitslagen van deze hardloopwedstrijd zijn te raadplegen via dezelfde website of via de bekende websites zoals uitslagen.nl\, runtimer en mylaps. Doet u mee met dit evenement\, zorg dan dat u goed voorbereid aan de start staat! Met een goed trainingsschema komt u een heel eind. Train bijvoorbeeld met start to run van Evy Gruyaert. Download de start to run mp3 bestanden en zet ze op uw telefoon. Oortjes in\, hit the play button en en rennen maar! \n\n\n\n\nMeer informatie over 46e Athlos Cross en RBR op Hardloopkalender.nl  \nDit loopevenement wordt georganiseerd door AV Athlos.De eerste afstand (of onderdeel) start om 11:00.Het adres van de start is Strokelweg 9 Het adres van de finish is atletiekbaanCategorie(ën): mannen\, vrouwen\, jeugdVooraf inschrijven is mogelijk vanaf 01 augustus 2010 tot 21 oktober 2010.Inschrijven op de dag van de loop is mogelijk (vanaf 10.00 uur) op dit adres: Strokelweg 9.Meer informatie:Contactpersoon: Luuk de Jong   Anita Foppen (secr.)Tel.: 0341421103Email: wedstrijdsecretariaat@athlos.nlEr is een kleedaccomodatie aanwezig. Douchen is mogelijk.Het parcours is onverhard.Overige bijzonderheden:  1 2 marathon door mooie Twentse land \n  \n  \n 
URL:https://hardloopevenementen.com/loopagenda/46e-athlos-cross-en-rbr-harderwijk-ge/
END:VEVENT
END:VCALENDAR