BEGIN:VCALENDAR
VERSION:2.0
PRODID:-//Hardloopevenementen - ECPv6.15.14//NONSGML v1.0//EN
CALSCALE:GREGORIAN
METHOD:PUBLISH
X-WR-CALNAME:Hardloopevenementen
X-ORIGINAL-URL:https://hardloopevenementen.com
X-WR-CALDESC:Evenementen voor Hardloopevenementen
REFRESH-INTERVAL;VALUE=DURATION:PT1H
X-Robots-Tag:noindex
X-PUBLISHED-TTL:PT1H
BEGIN:VTIMEZONE
TZID:UTC
BEGIN:STANDARD
TZOFFSETFROM:+0000
TZOFFSETTO:+0000
TZNAME:UTC
DTSTART:20090101T000000
END:STANDARD
END:VTIMEZONE
BEGIN:VEVENT
DTSTART;VALUE=DATE:20170903
DTEND;VALUE=DATE:20170904
DTSTAMP:20260426T021958
CREATED:20070104T192148Z
LAST-MODIFIED:20190423T114420Z
UID:14187-1504396800-1504396800@hardloopevenementen.com
SUMMARY:slach om Reahus Reahus\, gemeente Littenseradiel (FR)
DESCRIPTION:Doe mee met het hardloopevenement slach om Reahus te Reahus\, gemeente Littenseradiel (FR) op zo 03 sep 2017. De volgende afstanden staan op het programma: 2 km – 5 km – 10 km hardlopen. Wilt u inschrijven voor dit loopevenement?  Raadpleeg hiervoor dan de website van de organisatie\nDe uitslagen van deze hardloopwedstrijd zijn te raadplegen via dezelfde website of via de bekende websites zoals uitslagen.nl\, runtimer en mylaps. Doet u mee met dit evenement\, zorg dan dat u goed voorbereid aan de start staat! Met een goed trainingsschema komt u een heel eind. Train bijvoorbeeld met start to run van Evy Gruyaert. Download de start to run mp3 bestanden en zet ze op uw telefoon. Oortjes in\, hit the play button en en rennen maar! \n\n\n\n\nMeer informatie over slach om Reahus op Hardloopkalender.nl  \nloop over de beroemde slachterdijk \n  \n  \n 
URL:https://hardloopevenementen.com/loopagenda/slach-om-reahus-reahus-gemeente-littenseradiel-fr-4/
END:VEVENT
BEGIN:VEVENT
DTSTART;VALUE=DATE:20160911
DTEND;VALUE=DATE:20160912
DTSTAMP:20260426T021958
CREATED:20130218T162007Z
LAST-MODIFIED:20190423T112227Z
UID:12021-1473552000-1473552000@hardloopevenementen.com
SUMMARY:Slach om Reahus 2016 Reahus\, gemeente Littenseradiel (FR)
DESCRIPTION:Doe mee met het hardloopevenement Slach om Reahus 2016 te Reahus\, gemeente Littenseradiel (FR) op zo 11 sep 2016. De volgende afstanden staan op het programma: 1 km – 6 km – 9 km hardlopen. Wilt u inschrijven voor dit loopevenement?  Raadpleeg hiervoor dan de website van de organisatie\nDe uitslagen van deze hardloopwedstrijd zijn te raadplegen via dezelfde website of via de bekende websites zoals uitslagen.nl\, runtimer en mylaps. Doet u mee met dit evenement\, zorg dan dat u goed voorbereid aan de start staat! Met een goed trainingsschema komt u een heel eind. Train bijvoorbeeld met start to run van Evy Gruyaert. Download de start to run mp3 bestanden en zet ze op uw telefoon. Oortjes in\, hit the play button en en rennen maar! \n\n\n\n\nMeer informatie over Slach om Reahus 2016 op Hardloopkalender.nl  \nHet loopevenement Slach om Reahus 2016 te Reahus vindt plaats op zondag 11 september 2016. \n  \n  \n 
URL:https://hardloopevenementen.com/loopagenda/slach-om-reahus-2016-reahus-gemeente-littenseradiel-fr/
END:VEVENT
BEGIN:VEVENT
DTSTART;VALUE=DATE:20140907
DTEND;VALUE=DATE:20140908
DTSTAMP:20260426T021958
CREATED:20151209T213526Z
LAST-MODIFIED:20190423T105153Z
UID:33335-1410048000-1410048000@hardloopevenementen.com
SUMMARY:Slach om Reahus 2014 Reahus\, gemeente Littenseradiel (FR)
DESCRIPTION:Doe mee met het hardloopevenement Slach om Reahus 2014 te Reahus\, gemeente Littenseradiel (FR) op zo 07 sep 2014. De volgende afstanden staan op het programma: 1 km – 6 km – 9 km hardlopen. Wilt u inschrijven voor dit loopevenement?  Raadpleeg hiervoor dan de website van de organisatie\nDe uitslagen van deze hardloopwedstrijd zijn te raadplegen via dezelfde website of via de bekende websites zoals uitslagen.nl\, runtimer en mylaps. Doet u mee met dit evenement\, zorg dan dat u goed voorbereid aan de start staat! Met een goed trainingsschema komt u een heel eind. Train bijvoorbeeld met start to run van Evy Gruyaert. Download de start to run mp3 bestanden en zet ze op uw telefoon. Oortjes in\, hit the play button en en rennen maar! \n\n\n\n\nMeer informatie over Slach om Reahus 2014 op Hardloopkalender.nl  \nHet loopevenement Slach om ReahÃ»s 2014 te ReahÃ»s vindt plaats op zondag 07 september 2014. De loop wordt georganisseerd door AV Horror. Klik hier voor het adres van de start (Google Maps).Bijzonderheden: Gezellige loop door mooi deel van Fryslan. Route via landerijen en Slachtedyk.. \n  \n  \n 
URL:https://hardloopevenementen.com/loopagenda/slach-om-reahus-2014-reahus-gemeente-littenseradiel-fr/
END:VEVENT
BEGIN:VEVENT
DTSTART;VALUE=DATE:20120902
DTEND;VALUE=DATE:20120903
DTSTAMP:20260426T021958
CREATED:20131017T205747Z
LAST-MODIFIED:20190423T102953Z
UID:7825-1346544000-1346544000@hardloopevenementen.com
SUMMARY:Slach om Reahus Reahus\, gemeente Littenseradiel (FR)
DESCRIPTION:Doe mee met het hardloopevenement Slach om Reahus te Reahus\, gemeente Littenseradiel (FR) op zo 02 sep 2012. De volgende afstanden staan op het programma: 6 km – 9 km – 1000 km hardlopen. Wilt u inschrijven voor dit loopevenement?  Raadpleeg hiervoor dan de website van de organisatie\nDe uitslagen van deze hardloopwedstrijd zijn te raadplegen via dezelfde website of via de bekende websites zoals uitslagen.nl\, runtimer en mylaps. Doet u mee met dit evenement\, zorg dan dat u goed voorbereid aan de start staat! Met een goed trainingsschema komt u een heel eind. Train bijvoorbeeld met start to run van Evy Gruyaert. Download de start to run mp3 bestanden en zet ze op uw telefoon. Oortjes in\, hit the play button en en rennen maar! \n\n\n\n\nMeer informatie over Slach om Reahus op Hardloopkalender.nl  \nHet loopevenement Slach om Reahûs te ReahûS vindt plaats op zondag 02 september 2012. De loop wordt georganiseerd door AV Horror. Inschrijven is mogelijk vanaf 01 juli 2012. Klik hier voor het adres van de start (Google Maps).Er is EHBO aanwezig. Bijzonderheden: Gezellige loop door mooi deel van Fryslan. Route via landerijen en Slachtedyk..Afstand SoortloopInschrijfgeldStarttijdInfo1.2 km2\,0011.15uur5 km4\,0011.45uur10.4 km6\,0012.45uur10 km8\,0012.45uurVoor meer informatie:Johan Jorritsmainfo@slachomreahus.nl0515417650http:  www.slachomreahus.nl \n  \n  \n 
URL:https://hardloopevenementen.com/loopagenda/slach-om-reahus-reahus-gemeente-littenseradiel-fr-3/
END:VEVENT
BEGIN:VEVENT
DTSTART;VALUE=DATE:20110904
DTEND;VALUE=DATE:20110905
DTSTAMP:20260426T021958
CREATED:20100327T041522Z
LAST-MODIFIED:20190423T101908Z
UID:6417-1315094400-1315094400@hardloopevenementen.com
SUMMARY:Slach om Reahus Reahus\, gemeente Littenseradiel (FR)
DESCRIPTION:Doe mee met het hardloopevenement Slach om Reahus te Reahus\, gemeente Littenseradiel (FR) op zo 04 sep 2011. De volgende afstanden staan op het programma: 6 km – 9 km hardlopen. Wilt u inschrijven voor dit loopevenement?  Raadpleeg hiervoor dan de website van de organisatie\nDe uitslagen van deze hardloopwedstrijd zijn te raadplegen via dezelfde website of via de bekende websites zoals uitslagen.nl\, runtimer en mylaps. Doet u mee met dit evenement\, zorg dan dat u goed voorbereid aan de start staat! Met een goed trainingsschema komt u een heel eind. Train bijvoorbeeld met start to run van Evy Gruyaert. Download de start to run mp3 bestanden en zet ze op uw telefoon. Oortjes in\, hit the play button en en rennen maar! \n\n\n\n\nMeer informatie over Slach om Reahus op Hardloopkalender.nl  \nHet loopevenement Slach om Reahûs te ReahûS vindt plaats op zondag 04 september 2011. De loop wordt georganiseerd door AV Horror. Inschrijven is mogelijk vanaf 04 september 2011. Klik hier voor het adres van de start (Google Maps).Er is verkleedaccomodatie met douchemogelijkheid aanwezig. Er is EHBO aanwezig. Bijzonderheden: Live muziek na afloop.Afstand(km)Inschrijfgeld()Starttijd9-60\,0014.30jeugdloop0\,0013.30Voor meer informatie:Johan Jorritsmainfo@slachomreahus.nl0515417650http:  www.slachomreahus.nl \n  \n  \n 
URL:https://hardloopevenementen.com/loopagenda/slach-om-reahus-reahus-gemeente-littenseradiel-fr-2/
END:VEVENT
BEGIN:VEVENT
DTSTART;VALUE=DATE:20100905
DTEND;VALUE=DATE:20100906
DTSTAMP:20260426T021958
CREATED:20160321T171836Z
LAST-MODIFIED:20190423T100910Z
UID:3675-1283644800-1283644800@hardloopevenementen.com
SUMMARY:Slach om Reahus Reahus\, gemeente Littenseradiel (FR)
DESCRIPTION:Doe mee met het hardloopevenement Slach om Reahus te Reahus\, gemeente Littenseradiel (FR) op zo 05 sep 2010. De volgende afstanden staan op het programma: 3 km – 6 km – 9 km hardlopen. Wilt u inschrijven voor dit loopevenement?  Raadpleeg hiervoor dan de website van de organisatie\nDe uitslagen van deze hardloopwedstrijd zijn te raadplegen via dezelfde website of via de bekende websites zoals uitslagen.nl\, runtimer en mylaps. Doet u mee met dit evenement\, zorg dan dat u goed voorbereid aan de start staat! Met een goed trainingsschema komt u een heel eind. Train bijvoorbeeld met start to run van Evy Gruyaert. Download de start to run mp3 bestanden en zet ze op uw telefoon. Oortjes in\, hit the play button en en rennen maar! \n\n\n\n\nMeer informatie over Slach om Reahus op Hardloopkalender.nl  \nDit loopevenement wordt georganiseerd door AV Horror.De eerste afstand (of onderdeel) start om 14:00.Het adres van de start en de finish is Slijpsterwei Café Altenburg 1Categorie(ën): mannen\, vrouwen\, jeugdVooraf inschrijven is mogelijk vanaf 01 mei 2010 tot 01 september 2010.Inschrijven op de dag van de loop is mogelijk (vanaf 12.30 uur) op dit adres: Café Altenburg  Reahûs.Meer informatie:Contactpersoon: Johan JorritsmaTel.: 0515417650Email: info@slachomreahus.nlEr is een kleedaccomodatie aanwezig. Douchen is mogelijk.Het parcours is verhard.Overige bijzonderheden:  Live muziek na afloop \n  \n  \n 
URL:https://hardloopevenementen.com/loopagenda/slach-om-reahus-reahus-gemeente-littenseradiel-fr/
END:VEVENT
END:VCALENDAR