BEGIN:VCALENDAR
VERSION:2.0
PRODID:-//Hardloopevenementen - ECPv6.15.14//NONSGML v1.0//EN
CALSCALE:GREGORIAN
METHOD:PUBLISH
X-WR-CALNAME:Hardloopevenementen
X-ORIGINAL-URL:https://hardloopevenementen.com
X-WR-CALDESC:Evenementen voor Hardloopevenementen
REFRESH-INTERVAL;VALUE=DURATION:PT1H
X-Robots-Tag:noindex
X-PUBLISHED-TTL:PT1H
BEGIN:VTIMEZONE
TZID:UTC
BEGIN:STANDARD
TZOFFSETFROM:+0000
TZOFFSETTO:+0000
TZNAME:UTC
DTSTART:20120101T000000
END:STANDARD
END:VTIMEZONE
BEGIN:VEVENT
DTSTART;VALUE=DATE:20150222
DTEND;VALUE=DATE:20150223
DTSTAMP:20260421T005946
CREATED:20151204T125629Z
LAST-MODIFIED:20190423T111418Z
UID:11001-1424563200-1424563200@hardloopevenementen.com
SUMMARY:Regte Heide Cross Goirle (NB)
DESCRIPTION:Doe mee met het hardloopevenement Regte Heide Cross te Goirle (NB) op zo 22 feb 2015. De volgende afstanden staan op het programma: 3 km – 5\,4 km – 10 km – halve marathon hardlopen. Wilt u inschrijven voor dit loopevenement?  Raadpleeg hiervoor dan de website van de organisatie\nDe uitslagen van deze hardloopwedstrijd zijn te raadplegen via dezelfde website of via de bekende websites zoals uitslagen.nl\, runtimer en mylaps. Doet u mee met dit evenement\, zorg dan dat u goed voorbereid aan de start staat! Met een goed trainingsschema komt u een heel eind. Train bijvoorbeeld met start to run van Evy Gruyaert. Download de start to run mp3 bestanden en zet ze op uw telefoon. Oortjes in\, hit the play button en en rennen maar! \n\n\n\n\nMeer informatie over Regte Heide Cross op Hardloopkalender.nl  \nHet loopevenement Regte Heide Cross te Goirle vindt plaats op zondag 22 februari 2015. \n  \n  \n 
URL:https://hardloopevenementen.com/loopagenda/regte-heide-cross-goirle-nb/
END:VEVENT
BEGIN:VEVENT
DTSTART;VALUE=DATE:20140223
DTEND;VALUE=DATE:20140224
DTSTAMP:20260421T005946
CREATED:20090103T045731Z
LAST-MODIFIED:20190423T105740Z
UID:34624-1393113600-1393113600@hardloopevenementen.com
SUMMARY:Regte Heide Cross Goirle (NB)
DESCRIPTION:Doe mee met het hardloopevenement Regte Heide Cross te Goirle (NB) op zo 23 feb 2014. De volgende afstanden staan op het programma: 3 km – 5 km – 10 km – halve marathon hardlopen. Wilt u inschrijven voor dit loopevenement?  Raadpleeg hiervoor dan de website van de organisatie\nDe uitslagen van deze hardloopwedstrijd zijn te raadplegen via dezelfde website of via de bekende websites zoals uitslagen.nl\, runtimer en mylaps. Doet u mee met dit evenement\, zorg dan dat u goed voorbereid aan de start staat! Met een goed trainingsschema komt u een heel eind. Train bijvoorbeeld met start to run van Evy Gruyaert. Download de start to run mp3 bestanden en zet ze op uw telefoon. Oortjes in\, hit the play button en en rennen maar! \n\n\n\n\nMeer informatie over Regte Heide Cross op Hardloopkalender.nl  \nDeze cross is GEANNULEERD. Er wordt nog naar een vervangende datum gezocht    Op 23 februari 2014 wordt voor de tweede keer een cross georganiseerd door het mooie natuurgebied de Regte Heide.  Hoewel het gebied dicht tegen Tilburg en Goirle aan ligt is het voor veel lopers nog onbekend. Het wordt gekenmerkt door een licht heuvelachtig parcours met een hoogte verschil van 5 meter. Kenmerkend zijn de prachtige vergezichten over de heide. Het crossparcours bestaat uit zand- en bospaden. Lopers worden begeleid door snelle moutainbikers. \n  \n  \n 
URL:https://hardloopevenementen.com/loopagenda/regte-heide-cross-goirle-nb-3/
END:VEVENT
BEGIN:VEVENT
DTSTART;VALUE=DATE:20130224
DTEND;VALUE=DATE:20130225
DTSTAMP:20260421T005946
CREATED:20100315T224858Z
LAST-MODIFIED:20190423T104451Z
UID:32219-1361664000-1361664000@hardloopevenementen.com
SUMMARY:Regte Heide Cross Goirle (NB)
DESCRIPTION:Doe mee met het hardloopevenement Regte Heide Cross te Goirle (NB) op zo 24 feb 2013. De volgende afstanden staan op het programma: 3 km – 5\,6 km – 10\,8 km hardlopen. Wilt u inschrijven voor dit loopevenement?  Raadpleeg hiervoor dan de website van de organisatie\nDe uitslagen van deze hardloopwedstrijd zijn te raadplegen via dezelfde website of via de bekende websites zoals uitslagen.nl\, runtimer en mylaps. Doet u mee met dit evenement\, zorg dan dat u goed voorbereid aan de start staat! Met een goed trainingsschema komt u een heel eind. Train bijvoorbeeld met start to run van Evy Gruyaert. Download de start to run mp3 bestanden en zet ze op uw telefoon. Oortjes in\, hit the play button en en rennen maar! \n\n\n\n\nMeer informatie over Regte Heide Cross op Hardloopkalender.nl  \nHoewel het gebied dicht tegen Tilburg en Goirle aan ligt is het voor veel lopers nog een onbekend gebied. Het wordt gekenmerkt door een licht heuvelachtig parcours met een hoogte verschil van 5 meter. Kenmerkend zijn de prachtige vergezichten over de heide. Het crossparcours bestaat uit zand- en bospaden. Lopers worden begeleid door snelle moutainbikers.     Op 24 februari 2013 wordt er voor de eerste keer een cross door het mooie natuurgebied de Regte Heide georganiseerd.    We hebben drie verschillende afstanden uitgezet\, die over de heide en door de bossen voeren. De zandpaden bestaan afhankelijk van de weersgesteldheid voornamelijk uit los zand en kunnen op sommige plekken goed nat zijn. Dat maakt het parcours zoals een echte cross behoort te zijn. Pittig en fraai en dus voor de echte liefhebber!  Je kunt kiezen uit de volgende afstanden;  3 km\, 5 km en de 10 km. \n  \n  \n 
URL:https://hardloopevenementen.com/loopagenda/regte-heide-cross-goirle-nb-2/
END:VEVENT
END:VCALENDAR