BEGIN:VCALENDAR
VERSION:2.0
PRODID:-//Hardloopevenementen - ECPv6.15.14//NONSGML v1.0//EN
CALSCALE:GREGORIAN
METHOD:PUBLISH
X-ORIGINAL-URL:https://hardloopevenementen.com
X-WR-CALDESC:Evenementen voor Hardloopevenementen
REFRESH-INTERVAL;VALUE=DURATION:PT1H
X-Robots-Tag:noindex
X-PUBLISHED-TTL:PT1H
BEGIN:VTIMEZONE
TZID:UTC
BEGIN:STANDARD
TZOFFSETFROM:+0000
TZOFFSETTO:+0000
TZNAME:UTC
DTSTART:20130101T000000
END:STANDARD
END:VTIMEZONE
BEGIN:VEVENT
DTSTART;VALUE=DATE:20150927
DTEND;VALUE=DATE:20150928
DTSTAMP:20260425T133658
CREATED:20120609T115617Z
LAST-MODIFIED:20190423T110847Z
UID:9684-1443312000-1443312000@hardloopevenementen.com
SUMMARY:Singelloop Tegen Reuma Utrecht (UT)
DESCRIPTION:Doe mee met het hardloopevenement Singelloop Tegen Reuma te Utrecht (UT) op zo 27 sep 2015. De volgende afstanden staan op het programma: 5 km – 10 km hardlopen. Wilt u inschrijven voor dit loopevenement?  Raadpleeg hiervoor dan de website van de organisatie\nDe uitslagen van deze hardloopwedstrijd zijn te raadplegen via dezelfde website of via de bekende websites zoals uitslagen.nl\, runtimer en mylaps. Doet u mee met dit evenement\, zorg dan dat u goed voorbereid aan de start staat! Met een goed trainingsschema komt u een heel eind. Train bijvoorbeeld met start to run van Evy Gruyaert. Download de start to run mp3 bestanden en zet ze op uw telefoon. Oortjes in\, hit the play button en en rennen maar! \n\n\n\n\nMeer informatie over Singelloop Tegen Reuma op Hardloopkalender.nl  \nHet loopevenement Singelloop Tegen Reuma te Utrecht vindt plaats op zondag 27 september 2015. \n  \n  \n 
URL:https://hardloopevenementen.com/loopagenda/singelloop-tegen-reuma-utrecht-ut/
END:VEVENT
BEGIN:VEVENT
DTSTART;VALUE=DATE:20140928
DTEND;VALUE=DATE:20140929
DTSTAMP:20260425T133658
CREATED:20180209T083716Z
LAST-MODIFIED:20190423T105100Z
UID:9034-1411862400-1411862400@hardloopevenementen.com
SUMMARY:Singelloop Utrecht tegen Reuma Utrecht (UT)
DESCRIPTION:Doe mee met het hardloopevenement Singelloop Utrecht tegen Reuma te Utrecht (UT) op zo 28 sep 2014. De volgende afstanden staan op het programma: 1 km – 2 km – 5 km – 10 km – halve marathon hardlopen. Wilt u inschrijven voor dit loopevenement?  Raadpleeg hiervoor dan de website van de organisatie\nDe uitslagen van deze hardloopwedstrijd zijn te raadplegen via dezelfde website of via de bekende websites zoals uitslagen.nl\, runtimer en mylaps. Doet u mee met dit evenement\, zorg dan dat u goed voorbereid aan de start staat! Met een goed trainingsschema komt u een heel eind. Train bijvoorbeeld met start to run van Evy Gruyaert. Download de start to run mp3 bestanden en zet ze op uw telefoon. Oortjes in\, hit the play button en en rennen maar! \n\n\n\n\nMeer informatie over Singelloop Utrecht tegen Reuma op Hardloopkalender.nl  \nOp zondag 28 september 2014 vindt de 64e editie van de Utrechtse Singelloop plaats. Veelbelovend is\, voor de komende jaren\, de samenwerking met het Reumafonds. Er wordt samengewerkt naar één doel. Het idee is om de lopers een positief gevoel mee te geven hoe zij hun sport kunnen inzetten om er maatschappelijk wat mee te doen. Het evenement heet: Singelloop tegen reuma. Het is in de loopsport uniek dat een (loop)evenement kiest voor een maatschappelijk doel en een bijdrage levert voor mensen die moeilijk of niet kunnen sporten.  Dit jaar zal de start van deze Singelloop tegen reuma wederom plaatsvinden in het Wilhelminapark\, dit om meer ruimte te creëren voor toeschouwers en de lopers. De finish blijft op de statige Maliebaan. \n  \n  \n 
URL:https://hardloopevenementen.com/loopagenda/singelloop-utrecht-tegen-reuma-utrecht-ut/
END:VEVENT
END:VCALENDAR