BEGIN:VCALENDAR
VERSION:2.0
PRODID:-//Hardloopevenementen - ECPv6.15.14//NONSGML v1.0//EN
CALSCALE:GREGORIAN
METHOD:PUBLISH
X-WR-CALNAME:Hardloopevenementen
X-ORIGINAL-URL:https://hardloopevenementen.com
X-WR-CALDESC:Evenementen voor Hardloopevenementen
REFRESH-INTERVAL;VALUE=DURATION:PT1H
X-Robots-Tag:noindex
X-PUBLISHED-TTL:PT1H
BEGIN:VTIMEZONE
TZID:UTC
BEGIN:STANDARD
TZOFFSETFROM:+0000
TZOFFSETTO:+0000
TZNAME:UTC
DTSTART:20110101T000000
END:STANDARD
END:VTIMEZONE
BEGIN:VEVENT
DTSTART;VALUE=DATE:20200201
DTEND;VALUE=DATE:20200202
DTSTAMP:20260421T211554
CREATED:20151130T032250Z
LAST-MODIFIED:20200206T111537Z
UID:145407-1580515200-1580515200@hardloopevenementen.com
SUMMARY:Bos en Vallei Cross   Rhenen Rhenen (UT)
DESCRIPTION:Doe mee met het hardloopevenement Bos en Vallei Cross   Rhenen te Rhenen (UT) op za 01 feb 2020. De volgende afstanden staan op het programma: 1 km – 1\,5 km – 2 km – 3 km – 6 km – 8 km hardlopen. Wilt u inschrijven voor dit loopevenement?  Raadpleeg hiervoor dan de website van de organisatie\nDe uitslagen van deze hardloopwedstrijd zijn te raadplegen via dezelfde website of via de bekende websites zoals uitslagen.nl\, runtimer en mylaps. Doet u mee met dit evenement\, zorg dan dat u goed voorbereid aan de start staat! Met een goed trainingsschema komt u een heel eind. Train bijvoorbeeld met start to run van Evy Gruyaert. Download de start to run mp3 bestanden en zet ze op uw telefoon. Oortjes in\, hit the play button en en rennen maar! \n\n\n\n\nMeer informatie over Bos en Vallei Cross   Rhenen op Hardloopkalender.nl  \n  \n  \n 
URL:https://hardloopevenementen.com/loopagenda/bos-en-vallei-cross-rhenen-rhenen-ut/
END:VEVENT
BEGIN:VEVENT
DTSTART;VALUE=DATE:20161023
DTEND;VALUE=DATE:20161024
DTSTAMP:20260421T211554
CREATED:20111209T171517Z
LAST-MODIFIED:20190423T112119Z
UID:11707-1477180800-1477180800@hardloopevenementen.com
SUMMARY:Ropatrail - Rhenen Rhenen (UT)
DESCRIPTION:Doe mee met het hardloopevenement Ropatrail – Rhenen te Rhenen (UT) op zo 23 okt 2016. De volgende afstanden staan op het programma: 10 km hardlopen. Wilt u inschrijven voor dit loopevenement?  Raadpleeg hiervoor dan de website van de organisatie\nDe uitslagen van deze hardloopwedstrijd zijn te raadplegen via dezelfde website of via de bekende websites zoals uitslagen.nl\, runtimer en mylaps. Doet u mee met dit evenement\, zorg dan dat u goed voorbereid aan de start staat! Met een goed trainingsschema komt u een heel eind. Train bijvoorbeeld met start to run van Evy Gruyaert. Download de start to run mp3 bestanden en zet ze op uw telefoon. Oortjes in\, hit the play button en en rennen maar! \n\n\n\n\nMeer informatie over Ropatrail – Rhenen op Hardloopkalender.nl  \nKleinschalige trail in en om Rhenen en Kwintellooyen;    De eerste ropatrail van het seizoen 2016-2017\, nu met optionele trailclinic.    De trail wordt door stichting Roparunteam 90 georganiseerd. Opbrengst komt geheel ten goede aan de Roparun. \n  \n  \n 
URL:https://hardloopevenementen.com/loopagenda/ropatrail-rhenen-rhenen-ut/
END:VEVENT
BEGIN:VEVENT
DTSTART;VALUE=DATE:20121102
DTEND;VALUE=DATE:20121103
DTSTAMP:20260421T211554
CREATED:20150318T205542Z
LAST-MODIFIED:20190423T102814Z
UID:7444-1351814400-1351814400@hardloopevenementen.com
SUMMARY:Bergrace by Night - Wageningen-Rhenen Rhenen (UT)
DESCRIPTION:Doe mee met het hardloopevenement Bergrace by Night – Wageningen-Rhenen te Rhenen (UT) op vr 02 nov 2012. De volgende afstanden staan op het programma: 5\,6 km – 7\,6 km – 11\,6 km hardlopen. Wilt u inschrijven voor dit loopevenement?  Raadpleeg hiervoor dan de website van de organisatie\nDe uitslagen van deze hardloopwedstrijd zijn te raadplegen via dezelfde website of via de bekende websites zoals uitslagen.nl\, runtimer en mylaps. Doet u mee met dit evenement\, zorg dan dat u goed voorbereid aan de start staat! Met een goed trainingsschema komt u een heel eind. Train bijvoorbeeld met start to run van Evy Gruyaert. Download de start to run mp3 bestanden en zet ze op uw telefoon. Oortjes in\, hit the play button en en rennen maar! \n\n\n\n\nMeer informatie over Bergrace by Night – Wageningen-Rhenen op Hardloopkalender.nl  \nAls hardloper moet je minimaal één keer de Grebbeberg by Night gelopen hebben.    De organisatie heeft diverse signalen opgevangen en daarop gereageerd door het programma in te korten tot drie afstanden. Dat betekend weer meer sfeer bij de start in Wageningen en op het parcours. Weer meer het gevoel om iets gezamenlijk te beleven.    Het blijft genieten tijdens deze unieke loop met de vele bijzonderheden;      1000 brandende  kaarsjes de laatste 1000 meters op de Grebbeberg.      Duizenden lichtstaafjes die gedragen worden tijdens het lopen.      Gratis met de bus\, met het schoolreisje gevoel\, naar Wageningen.      Speciale sfeer bij de warming up.      Mogelijkheid  om een goede prestatie neer te zetten op 5.6 – 7.6 of 11.6 km.      Andere sfeer dan bij een loopevenement overdag.      Gezellige  after-party met een muzikale huldiging van de winnaars.      Bijzondere verdeling van het prijzengeld.      Afzonderlijke start voor vrouwen.      Vele swingende hardlopers tijdens de party in Ouwehand.      Startnummer met naam bij inschrijving voor 16 oktober. \n  \n  \n 
URL:https://hardloopevenementen.com/loopagenda/bergrace-by-night-wageningen-rhenen-rhenen-ut/
END:VEVENT
END:VCALENDAR