BEGIN:VCALENDAR
VERSION:2.0
PRODID:-//Hardloopevenementen - ECPv6.15.14//NONSGML v1.0//EN
CALSCALE:GREGORIAN
METHOD:PUBLISH
X-WR-CALNAME:Hardloopevenementen
X-ORIGINAL-URL:https://hardloopevenementen.com
X-WR-CALDESC:Evenementen voor Hardloopevenementen
REFRESH-INTERVAL;VALUE=DURATION:PT1H
X-Robots-Tag:noindex
X-PUBLISHED-TTL:PT1H
BEGIN:VTIMEZONE
TZID:UTC
BEGIN:STANDARD
TZOFFSETFROM:+0000
TZOFFSETTO:+0000
TZNAME:UTC
DTSTART:20100101T000000
END:STANDARD
END:VTIMEZONE
BEGIN:VEVENT
DTSTART;VALUE=DATE:20150517
DTEND;VALUE=DATE:20150518
DTSTAMP:20260424T040811
CREATED:20140914T200539Z
LAST-MODIFIED:20190423T111218Z
UID:10472-1431820800-1431820800@hardloopevenementen.com
SUMMARY:Ricoh Vestingloop s-Hertogenbosch Den Bosch\, gemeente 's-Hertogenbosch (NB)
DESCRIPTION:Doe mee met het hardloopevenement Ricoh Vestingloop s-Hertogenbosch te Den Bosch\, gemeente ‘s-Hertogenbosch (NB) op zo 17 mei 2015. De volgende afstanden staan op het programma: 1 km – 5 km – 10 km – 15 km hardlopen. Wilt u inschrijven voor dit loopevenement?  Raadpleeg hiervoor dan de website van de organisatie\nDe uitslagen van deze hardloopwedstrijd zijn te raadplegen via dezelfde website of via de bekende websites zoals uitslagen.nl\, runtimer en mylaps. Doet u mee met dit evenement\, zorg dan dat u goed voorbereid aan de start staat! Met een goed trainingsschema komt u een heel eind. Train bijvoorbeeld met start to run van Evy Gruyaert. Download de start to run mp3 bestanden en zet ze op uw telefoon. Oortjes in\, hit the play button en en rennen maar! \n\n\n\n\nMeer informatie over Ricoh Vestingloop s-Hertogenbosch op Hardloopkalender.nl  \nHet loopevenement Ricoh Vestingloop ‘s-Hertogenbosch te ‘S-Hertogenbosch vindt plaats op zondag 17 mei 2015. \n  \n  \n 
URL:https://hardloopevenementen.com/loopagenda/ricoh-vestingloop-s-hertogenbosch-den-bosch-gemeente-s-hertogenbosch-nb/
END:VEVENT
BEGIN:VEVENT
DTSTART;VALUE=DATE:20140525
DTEND;VALUE=DATE:20140526
DTSTAMP:20260424T040811
CREATED:20121228T101202Z
LAST-MODIFIED:20190423T105502Z
UID:34028-1400976000-1400976000@hardloopevenementen.com
SUMMARY:Ricoh Vestingloop s-Hertogenbosch 's-Hertogenbosch (NB)
DESCRIPTION:Doe mee met het hardloopevenement Ricoh Vestingloop s-Hertogenbosch te ‘s-Hertogenbosch (NB) op zo 25 mei 2014. De volgende afstanden staan op het programma: 1 km – 5 km – 10 km – 15 km hardlopen. Wilt u inschrijven voor dit loopevenement?  Raadpleeg hiervoor dan de website van de organisatie\nDe uitslagen van deze hardloopwedstrijd zijn te raadplegen via dezelfde website of via de bekende websites zoals uitslagen.nl\, runtimer en mylaps. Doet u mee met dit evenement\, zorg dan dat u goed voorbereid aan de start staat! Met een goed trainingsschema komt u een heel eind. Train bijvoorbeeld met start to run van Evy Gruyaert. Download de start to run mp3 bestanden en zet ze op uw telefoon. Oortjes in\, hit the play button en en rennen maar! \n\n\n\n\nMeer informatie over Ricoh Vestingloop s-Hertogenbosch op Hardloopkalender.nl  \nHet loopevenement Ricoh Vestingloop ‘s-Hertogenbosch te ‘S-Hertogenbosch vindt plaats op zondag 25 mei 2014. De loop wordt georganisseerd door O.S.S. – VOLO. Klik hier voor het adres van de start (Google Maps).Bijzonderheden: De Ricoh Vestingloop in ‘s-Hertogenbosch bezorgt je een onvergetelijke ervaring.. \n  \n  \n 
URL:https://hardloopevenementen.com/loopagenda/ricoh-vestingloop-s-hertogenbosch-s-hertogenbosch-nb-2/
END:VEVENT
BEGIN:VEVENT
DTSTART;VALUE=DATE:20130526
DTEND;VALUE=DATE:20130527
DTSTAMP:20260424T040811
CREATED:20181027T021847Z
LAST-MODIFIED:20190423T104237Z
UID:31696-1369526400-1369526400@hardloopevenementen.com
SUMMARY:Ricoh Vestingloop Den Bosch\, gemeente 's-Hertogenbosch (NB)
DESCRIPTION:Doe mee met het hardloopevenement Ricoh Vestingloop te Den Bosch\, gemeente ‘s-Hertogenbosch (NB) op zo 26 mei 2013. De volgende afstanden staan op het programma: 5 km – 10 km – 15 km hardlopen. Wilt u inschrijven voor dit loopevenement?  Raadpleeg hiervoor dan de website van de organisatie\nDe uitslagen van deze hardloopwedstrijd zijn te raadplegen via dezelfde website of via de bekende websites zoals uitslagen.nl\, runtimer en mylaps. Doet u mee met dit evenement\, zorg dan dat u goed voorbereid aan de start staat! Met een goed trainingsschema komt u een heel eind. Train bijvoorbeeld met start to run van Evy Gruyaert. Download de start to run mp3 bestanden en zet ze op uw telefoon. Oortjes in\, hit the play button en en rennen maar! \n\n\n\n\nMeer informatie over Ricoh Vestingloop op Hardloopkalender.nl  \nDe Vestingloop in Den Bosch is een jaarlijks terugkerend evenement voor de sportieve stadsliefhebbers. In 2013 wordt het hardloopevenement gehouden op zondag 26 mei. Een leuke en sportieve manier om iets van de stad ‘s-Hertogenbosch te zien. De route loopt door de binnenstad\, over de stadswallen en door het prachtige natuurgebied de Bossche Broek aan de rand van de stad. \n  \n  \n 
URL:https://hardloopevenementen.com/loopagenda/ricoh-vestingloop-den-bosch-gemeente-s-hertogenbosch-nb/
END:VEVENT
BEGIN:VEVENT
DTSTART;VALUE=DATE:20130526
DTEND;VALUE=DATE:20130527
DTSTAMP:20260424T040811
CREATED:20110511T025536Z
LAST-MODIFIED:20190423T104235Z
UID:31692-1369526400-1369526400@hardloopevenementen.com
SUMMARY:Ricoh Vestingloop 's-Hertogenbosch (NB)
DESCRIPTION:Doe mee met het hardloopevenement Ricoh Vestingloop te ‘s-Hertogenbosch (NB) op zo 26 mei 2013. De volgende afstanden staan op het programma: 1 km – 5 km – 10 km – 15 km hardlopen. Wilt u inschrijven voor dit loopevenement?  Raadpleeg hiervoor dan de website van de organisatie\nDe uitslagen van deze hardloopwedstrijd zijn te raadplegen via dezelfde website of via de bekende websites zoals uitslagen.nl\, runtimer en mylaps. Doet u mee met dit evenement\, zorg dan dat u goed voorbereid aan de start staat! Met een goed trainingsschema komt u een heel eind. Train bijvoorbeeld met start to run van Evy Gruyaert. Download de start to run mp3 bestanden en zet ze op uw telefoon. Oortjes in\, hit the play button en en rennen maar! \n\n\n\n\nMeer informatie over Ricoh Vestingloop op Hardloopkalender.nl  \nDe Ricoh Vestingloop heeft haar naam te danken aan de stad waar de loop plaats vindt. s-Hertogenbosch is een van de weinige steden in Nederland waar de vestingwerken bewaard zijn gebleven. Jaren geleden stond de gemeente s-Hertogenbosch aan de wieg van een nieuw sportief evenement waarmee de stad kon laten zien wat de vesting aan recreatieve waarde voor een groot publiek in huis heeft. Nu is de Ricoh Vestingloop een begrip in stad en omgeving! \n  \n  \n 
URL:https://hardloopevenementen.com/loopagenda/ricoh-vestingloop-s-hertogenbosch-nb-2/
END:VEVENT
BEGIN:VEVENT
DTSTART;VALUE=DATE:20120520
DTEND;VALUE=DATE:20120521
DTSTAMP:20260424T040811
CREATED:20130630T172725Z
LAST-MODIFIED:20190423T103221Z
UID:28352-1337472000-1337472000@hardloopevenementen.com
SUMMARY:Ricoh Vestingloop s-Hertogenbosch 's-Hertogenbosch (NB)
DESCRIPTION:Doe mee met het hardloopevenement Ricoh Vestingloop s-Hertogenbosch te ‘s-Hertogenbosch (NB) op zo 20 mei 2012. De volgende afstanden staan op het programma: 1 km – 5 km – 10 km – 15 km hardlopen. Wilt u inschrijven voor dit loopevenement?  Raadpleeg hiervoor dan de website van de organisatie\nDe uitslagen van deze hardloopwedstrijd zijn te raadplegen via dezelfde website of via de bekende websites zoals uitslagen.nl\, runtimer en mylaps. Doet u mee met dit evenement\, zorg dan dat u goed voorbereid aan de start staat! Met een goed trainingsschema komt u een heel eind. Train bijvoorbeeld met start to run van Evy Gruyaert. Download de start to run mp3 bestanden en zet ze op uw telefoon. Oortjes in\, hit the play button en en rennen maar! \n\n\n\n\nMeer informatie over Ricoh Vestingloop s-Hertogenbosch op Hardloopkalender.nl  \nHet loopevenement Ricoh Vestingloop ‘s-Hertogenbosch te ‘s-Hertogenbosch vindt plaats op zondag 13 mei 2012. De loop wordt georganiseerd door O.S.S. – VOLO. Inschrijven is mogelijk vanaf 24 december 2011. Klik hier voor het adres van de start (Google Maps).Er is EHBO aanwezig. Bijzonderheden: De Ricoh Vestingloop in ‘s-Hertogenbosch bezorgt je een onvergetelijke ervaring..      Afstand SoortloopInschrijfgeldStarttijdInfo        1 km  0\,00  13.15         5 km  9\,50  13.40         10 km  9\,50  15.15           Voor meer informatie:Artishock events & marketinginfo@ricohvestingloop.nl0736901504http:  www.ricohvestingloop.nl \n  \n  \n 
URL:https://hardloopevenementen.com/loopagenda/ricoh-vestingloop-s-hertogenbosch-s-hertogenbosch-nb/
END:VEVENT
BEGIN:VEVENT
DTSTART;VALUE=DATE:20110529
DTEND;VALUE=DATE:20110530
DTSTAMP:20260424T040811
CREATED:20110115T085628Z
LAST-MODIFIED:20190423T102118Z
UID:6910-1306627200-1306627200@hardloopevenementen.com
SUMMARY:Ricoh Vestingloop 's-Hertogenbosch (NB)
DESCRIPTION:Doe mee met het hardloopevenement Ricoh Vestingloop te ‘s-Hertogenbosch (NB) op zo 29 mei 2011. De volgende afstanden staan op het programma: 5 km – 10 km – 15 km hardlopen. Wilt u inschrijven voor dit loopevenement?  Raadpleeg hiervoor dan de website van de organisatie\nDe uitslagen van deze hardloopwedstrijd zijn te raadplegen via dezelfde website of via de bekende websites zoals uitslagen.nl\, runtimer en mylaps. Doet u mee met dit evenement\, zorg dan dat u goed voorbereid aan de start staat! Met een goed trainingsschema komt u een heel eind. Train bijvoorbeeld met start to run van Evy Gruyaert. Download de start to run mp3 bestanden en zet ze op uw telefoon. Oortjes in\, hit the play button en en rennen maar! \n\n\n\n\nMeer informatie over Ricoh Vestingloop op Hardloopkalender.nl  \nRicoh Vestingloop vindt op 29 mei 2011 voor de zesde keer plaats in s-Hertogenbosch en de omliggende natuur. Met de naamskoppeling aan Ricoh investeren hoofdsponsor en Stichting Vestingloop nog nadrukkelijker samen in een duurzame relatie. Op de Parade naast de Sint-Jan starten en finishen maximaal 4500 lopers. Alleen of met een bedrijventeam lopen ze een recreatief of wedstrijdparcours van 5\, 10 of 15 kilometer. Nieuw dit jaar is de aansluiting van de loop bij het maatschappelijke thema food & health. Bewegen en gezond eten als lifestyle. De Ricoh Vestingloop s-Hertogenbosch laat op verschillende manieren zien hoe je dat in de praktijk kunt brengen. De Vestingloop: een doel op zich én een eindsprint op weg naar beter eten en bewegen. Schrijf snel in! \n  \n  \n 
URL:https://hardloopevenementen.com/loopagenda/ricoh-vestingloop-s-hertogenbosch-nb/
END:VEVENT
END:VCALENDAR