BEGIN:VCALENDAR
VERSION:2.0
PRODID:-//Hardloopevenementen - ECPv6.15.14//NONSGML v1.0//EN
CALSCALE:GREGORIAN
METHOD:PUBLISH
X-WR-CALNAME:Hardloopevenementen
X-ORIGINAL-URL:https://hardloopevenementen.com
X-WR-CALDESC:Evenementen voor Hardloopevenementen
REFRESH-INTERVAL;VALUE=DURATION:PT1H
X-Robots-Tag:noindex
X-PUBLISHED-TTL:PT1H
BEGIN:VTIMEZONE
TZID:UTC
BEGIN:STANDARD
TZOFFSETFROM:+0000
TZOFFSETTO:+0000
TZNAME:UTC
DTSTART:20110101T000000
END:STANDARD
END:VTIMEZONE
BEGIN:VEVENT
DTSTART;VALUE=DATE:20120922
DTEND;VALUE=DATE:20120923
DTSTAMP:20260425T103722
CREATED:20060919T211838Z
LAST-MODIFIED:20190423T102920Z
UID:7691-1348272000-1348272000@hardloopevenementen.com
SUMMARY:Estafetteloop Rinjani 12-5 jaar Putten (GE)
DESCRIPTION:Doe mee met het hardloopevenement Estafetteloop Rinjani 12-5 jaar te Putten (GE) op za 22 sep 2012. De volgende afstanden staan op het programma: 5\,2 km hardlopen. Wilt u inschrijven voor dit loopevenement?  Raadpleeg hiervoor dan de website van de organisatie\nDe uitslagen van deze hardloopwedstrijd zijn te raadplegen via dezelfde website of via de bekende websites zoals uitslagen.nl\, runtimer en mylaps. Doet u mee met dit evenement\, zorg dan dat u goed voorbereid aan de start staat! Met een goed trainingsschema komt u een heel eind. Train bijvoorbeeld met start to run van Evy Gruyaert. Download de start to run mp3 bestanden en zet ze op uw telefoon. Oortjes in\, hit the play button en en rennen maar! \n\n\n\n\nMeer informatie over Estafetteloop Rinjani 12-5 jaar op Hardloopkalender.nl  \nRonde 5\,2 km (1 8 marathon). Met een team van max. 8 lopers kun je samen een hele marathon lopen. Je mag ook met een kleiner team meedoen waarbij de lopers meerdere rondes lopen.  Route http:  www.afstandmeten.nl index.php?id=339387 .    Deelnamekosten zijn 5 euro per persoon. Opbrengst voor het Hospice in Ermelo.    Inschrijven op de dag zelf kan ook tot 10.30 uur. \n  \n  \n 
URL:https://hardloopevenementen.com/loopagenda/estafetteloop-rinjani-12-5-jaar-putten-ge/
END:VEVENT
END:VCALENDAR