BEGIN:VCALENDAR
VERSION:2.0
PRODID:-//Hardloopevenementen - ECPv6.15.14//NONSGML v1.0//EN
CALSCALE:GREGORIAN
METHOD:PUBLISH
X-WR-CALNAME:Hardloopevenementen
X-ORIGINAL-URL:https://hardloopevenementen.com
X-WR-CALDESC:Evenementen voor Hardloopevenementen
REFRESH-INTERVAL;VALUE=DURATION:PT1H
X-Robots-Tag:noindex
X-PUBLISHED-TTL:PT1H
BEGIN:VTIMEZONE
TZID:UTC
BEGIN:STANDARD
TZOFFSETFROM:+0000
TZOFFSETTO:+0000
TZNAME:UTC
DTSTART:20120101T000000
END:STANDARD
END:VTIMEZONE
BEGIN:VEVENT
DTSTART;VALUE=DATE:20200201
DTEND;VALUE=DATE:20200202
DTSTAMP:20260420T051811
CREATED:20161004T135544Z
LAST-MODIFIED:20200206T111536Z
UID:143526-1580515200-1580515200@hardloopevenementen.com
SUMMARY:Rondje Roege Barg Onstwedde\, gemeente Stadskanaal (GR)
DESCRIPTION:Doe mee met het hardloopevenement Rondje Roege Barg te Onstwedde\, gemeente Stadskanaal (GR) op za 01 feb 2020. De volgende afstanden staan op het programma: 6 km – 10 km – 18 km – 22 km hardlopen. Wilt u inschrijven voor dit loopevenement?  Raadpleeg hiervoor dan de website van de organisatie\nDe uitslagen van deze hardloopwedstrijd zijn te raadplegen via dezelfde website of via de bekende websites zoals uitslagen.nl\, runtimer en mylaps. Doet u mee met dit evenement\, zorg dan dat u goed voorbereid aan de start staat! Met een goed trainingsschema komt u een heel eind. Train bijvoorbeeld met start to run van Evy Gruyaert. Download de start to run mp3 bestanden en zet ze op uw telefoon. Oortjes in\, hit the play button en en rennen maar! \n\n\n\n\nMeer informatie over Rondje Roege Barg op Hardloopkalender.nl  \nDe crossloop van de HLC staat weer in de agenda\, een jaarlijks terugkerende loop op de eerste zaterdag in februari. De loop rondom de Roege Baarg\, die voor een ieder een afstand heeft\, van beginnende tot de ervaren loper \n  \n  \n 
URL:https://hardloopevenementen.com/loopagenda/rondje-roege-barg-onstwedde-gemeente-stadskanaal-gr/
END:VEVENT
BEGIN:VEVENT
DTSTART;VALUE=DATE:20150207
DTEND;VALUE=DATE:20150208
DTSTAMP:20260420T051811
CREATED:20080421T073107Z
LAST-MODIFIED:20190423T111436Z
UID:11086-1423267200-1423267200@hardloopevenementen.com
SUMMARY:Rondje Roege Baarg Onstwedde\, gemeente Stadskanaal (GR)
DESCRIPTION:Doe mee met het hardloopevenement Rondje Roege Baarg te Onstwedde\, gemeente Stadskanaal (GR) op za 07 feb 2015. De volgende afstanden staan op het programma: 6 km – 10 km hardlopen. Wilt u inschrijven voor dit loopevenement?  Raadpleeg hiervoor dan de website van de organisatie\nDe uitslagen van deze hardloopwedstrijd zijn te raadplegen via dezelfde website of via de bekende websites zoals uitslagen.nl\, runtimer en mylaps. Doet u mee met dit evenement\, zorg dan dat u goed voorbereid aan de start staat! Met een goed trainingsschema komt u een heel eind. Train bijvoorbeeld met start to run van Evy Gruyaert. Download de start to run mp3 bestanden en zet ze op uw telefoon. Oortjes in\, hit the play button en en rennen maar! \n\n\n\n\nMeer informatie over Rondje Roege Baarg op Hardloopkalender.nl  \n  \n  \n 
URL:https://hardloopevenementen.com/loopagenda/rondje-roege-baarg-onstwedde-gemeente-stadskanaal-gr/
END:VEVENT
BEGIN:VEVENT
DTSTART;VALUE=DATE:20130309
DTEND;VALUE=DATE:20130310
DTSTAMP:20260420T051811
CREATED:20061201T132645Z
LAST-MODIFIED:20190423T104434Z
UID:32145-1362787200-1362787200@hardloopevenementen.com
SUMMARY:Rondje Roege Baarg Onstwedde\, gemeente Stadskanaal (GR)
DESCRIPTION:Doe mee met het hardloopevenement Rondje Roege Baarg te Onstwedde\, gemeente Stadskanaal (GR) op za 09 mrt 2013. De volgende afstanden staan op het programma: 5 km – 10 km hardlopen. Wilt u inschrijven voor dit loopevenement?  Raadpleeg hiervoor dan de website van de organisatie\nDe uitslagen van deze hardloopwedstrijd zijn te raadplegen via dezelfde website of via de bekende websites zoals uitslagen.nl\, runtimer en mylaps. Doet u mee met dit evenement\, zorg dan dat u goed voorbereid aan de start staat! Met een goed trainingsschema komt u een heel eind. Train bijvoorbeeld met start to run van Evy Gruyaert. Download de start to run mp3 bestanden en zet ze op uw telefoon. Oortjes in\, hit the play button en en rennen maar! \n\n\n\n\nMeer informatie over Rondje Roege Baarg op Hardloopkalender.nl  \nHet loopevenement Rondje Roege Baarg te Onstwedde vindt plaats op zaterdag 09 maart 2013. De loop wordt georganisseerd door Runners Stadskanaal. Inschrijven is mogelijk vanaf 09 maart 2013. Klik hier voor het adres van de start (Google Maps).Er is verkleedaccomodatie met douchemogelijkheid aanwezig. Bijzonderheden: Crossloop ter ere van 5 jarig jubileum HLC Onstwedde. .Voor meer informatie:Jetsko Borgjetskoborg@online.nl0599331663http:  www.hardloopclub-onstwedde.nl \n  \n  \n 
URL:https://hardloopevenementen.com/loopagenda/rondje-roege-baarg-onstwedde-gemeente-stadskanaal-gr-2/
END:VEVENT
END:VCALENDAR