BEGIN:VCALENDAR
VERSION:2.0
PRODID:-//Hardloopevenementen - ECPv6.15.14//NONSGML v1.0//EN
CALSCALE:GREGORIAN
METHOD:PUBLISH
X-ORIGINAL-URL:https://hardloopevenementen.com
X-WR-CALDESC:Evenementen voor Hardloopevenementen
REFRESH-INTERVAL;VALUE=DURATION:PT1H
X-Robots-Tag:noindex
X-PUBLISHED-TTL:PT1H
BEGIN:VTIMEZONE
TZID:UTC
BEGIN:STANDARD
TZOFFSETFROM:+0000
TZOFFSETTO:+0000
TZNAME:UTC
DTSTART:20160101T000000
END:STANDARD
END:VTIMEZONE
BEGIN:VEVENT
DTSTART;VALUE=DATE:20170625
DTEND;VALUE=DATE:20170626
DTSTAMP:20260425T132003
CREATED:20091020T023739Z
LAST-MODIFIED:20190423T114520Z
UID:14453-1498348800-1498348800@hardloopevenementen.com
SUMMARY:Halve Marathon van Roosendaa Roosendaal (NB)
DESCRIPTION:Doe mee met het hardloopevenement Halve Marathon van Roosendaa te Roosendaal (NB) op zo 25 jun 2017. De volgende afstanden staan op het programma: 0\,8 km – 1\,6 km – 10 km – halve marathon hardlopen. Wilt u inschrijven voor dit loopevenement?  Raadpleeg hiervoor dan de website van de organisatie\nDe uitslagen van deze hardloopwedstrijd zijn te raadplegen via dezelfde website of via de bekende websites zoals uitslagen.nl\, runtimer en mylaps. Doet u mee met dit evenement\, zorg dan dat u goed voorbereid aan de start staat! Met een goed trainingsschema komt u een heel eind. Train bijvoorbeeld met start to run van Evy Gruyaert. Download de start to run mp3 bestanden en zet ze op uw telefoon. Oortjes in\, hit the play button en en rennen maar! \n\n\n\n\nMeer informatie over Halve Marathon van Roosendaa op Hardloopkalender.nl  \nDe Halve Marathon van Roosendaal heeft voor de kleinsten t m de recreatieve en wedstrijdlopers op de Zondag middag een passende afstand.  Tevens is er een bedrijvenloop. (10 km & 1 2M)  Start en finish in het gezellige centrum.  Voor de wandelaars en Nordic Walkers is er in de ochtend een interessant programma : 6 km &12 km  door centrum en de wijken. De 25 km gaat ook door het buitengebied. (Start en finish bij Chagal aan de Markt) \n  \n  \n 
URL:https://hardloopevenementen.com/loopagenda/halve-marathon-van-roosendaa-roosendaal-nb/
END:VEVENT
END:VCALENDAR