BEGIN:VCALENDAR
VERSION:2.0
PRODID:-//Hardloopevenementen - ECPv6.15.14//NONSGML v1.0//EN
CALSCALE:GREGORIAN
METHOD:PUBLISH
X-WR-CALNAME:Hardloopevenementen
X-ORIGINAL-URL:https://hardloopevenementen.com
X-WR-CALDESC:Evenementen voor Hardloopevenementen
REFRESH-INTERVAL;VALUE=DURATION:PT1H
X-Robots-Tag:noindex
X-PUBLISHED-TTL:PT1H
BEGIN:VTIMEZONE
TZID:UTC
BEGIN:STANDARD
TZOFFSETFROM:+0000
TZOFFSETTO:+0000
TZNAME:UTC
DTSTART:20070101T000000
END:STANDARD
END:VTIMEZONE
BEGIN:VEVENT
DTSTART;VALUE=DATE:20130602
DTEND;VALUE=DATE:20130603
DTSTAMP:20260421T113839
CREATED:20110607T035541Z
LAST-MODIFIED:20190423T104223Z
UID:31649-1370131200-1370131200@hardloopevenementen.com
SUMMARY:Ruiner Dorpsloop Ruinen\, gemeente De Wolden (DR)
DESCRIPTION:Doe mee met het hardloopevenement Ruiner Dorpsloop te Ruinen\, gemeente De Wolden (DR) op zo 02 jun 2013. De volgende afstanden staan op het programma: 0\,8 km – 1\,6 km – 5 km – 10 km hardlopen. Wilt u inschrijven voor dit loopevenement?  Raadpleeg hiervoor dan de website van de organisatie\nDe uitslagen van deze hardloopwedstrijd zijn te raadplegen via dezelfde website of via de bekende websites zoals uitslagen.nl\, runtimer en mylaps. Doet u mee met dit evenement\, zorg dan dat u goed voorbereid aan de start staat! Met een goed trainingsschema komt u een heel eind. Train bijvoorbeeld met start to run van Evy Gruyaert. Download de start to run mp3 bestanden en zet ze op uw telefoon. Oortjes in\, hit the play button en en rennen maar! \n\n\n\n\nMeer informatie over Ruiner Dorpsloop op Hardloopkalender.nl  \nVanaf de Brink van Ruinen hebben we een 5 km grotendeels verhard parcours. \n  \n  \n 
URL:https://hardloopevenementen.com/loopagenda/ruiner-dorpsloop-ruinen-gemeente-de-wolden-dr-2/
END:VEVENT
BEGIN:VEVENT
DTSTART;VALUE=DATE:20110605
DTEND;VALUE=DATE:20110606
DTSTAMP:20260421T113839
CREATED:20130428T120925Z
LAST-MODIFIED:20190423T102103Z
UID:6856-1307232000-1307232000@hardloopevenementen.com
SUMMARY:Ruiner Dorpsloop Ruinen\, gemeente De Wolden (DR)
DESCRIPTION:Doe mee met het hardloopevenement Ruiner Dorpsloop te Ruinen\, gemeente De Wolden (DR) op zo 05 jun 2011. De volgende afstanden staan op het programma: 0\,8 km – 1\,6 km – 5 km – 10 km hardlopen. Wilt u inschrijven voor dit loopevenement?  Raadpleeg hiervoor dan de website van de organisatie\nDe uitslagen van deze hardloopwedstrijd zijn te raadplegen via dezelfde website of via de bekende websites zoals uitslagen.nl\, runtimer en mylaps. Doet u mee met dit evenement\, zorg dan dat u goed voorbereid aan de start staat! Met een goed trainingsschema komt u een heel eind. Train bijvoorbeeld met start to run van Evy Gruyaert. Download de start to run mp3 bestanden en zet ze op uw telefoon. Oortjes in\, hit the play button en en rennen maar! \n\n\n\n\nMeer informatie over Ruiner Dorpsloop op Hardloopkalender.nl  \nHet loopevenement Ruiner Dorpsloop te Ruinen vindt plaats op zondag 05 juni 2011. De loop wordt georganiseerd door Loopgroep Ruinen. Inschrijven is mogelijk vanaf 05 juni 2011. Klik hier voor het adres van de start (Google Maps).Er is verkleedaccomodatie met douchemogelijkheid aanwezig. Er is EHBO aanwezig. Bijzonderheden: Mooie ronde over fietspaden en de start en finish op de gezellige brink .Afstand(km)Inschrijfgeld(€)Starttijd0.8km.€2\,0013.30uur1.6km.€2\,0014.00uur5.0km€5\,0014.30uur10km€5\,0014.30uurVoor meer informatie:Elly Meermanhendriks.meerman@kpnplanet.nl0624733345http:  www.loopgroepruinen.nl \n  \n  \n 
URL:https://hardloopevenementen.com/loopagenda/ruiner-dorpsloop-ruinen-gemeente-de-wolden-dr/
END:VEVENT
BEGIN:VEVENT
DTSTART;VALUE=DATE:20080611
DTEND;VALUE=DATE:20080612
DTSTAMP:20260421T113839
CREATED:20061116T075310Z
LAST-MODIFIED:20190423T094653Z
UID:19576-1213142400-1213142400@hardloopevenementen.com
SUMMARY:Ruiner Dorpsloop Ruinen
DESCRIPTION:Doe mee met het hardloopevenement Ruiner Dorpsloop te Ruinen op wo 11 jun 2008. De volgende afstanden staan op het programma: 0\,8 km – 1\,6 km – 5 km – 10 km hardlopen. Wilt u inschrijven voor dit loopevenement?  Raadpleeg hiervoor dan de website van de organisatie\nDe uitslagen van deze hardloopwedstrijd zijn te raadplegen via dezelfde website of via de bekende websites zoals uitslagen.nl\, runtimer en mylaps. Doet u mee met dit evenement\, zorg dan dat u goed voorbereid aan de start staat! Met een goed trainingsschema komt u een heel eind. Train bijvoorbeeld met start to run van Evy Gruyaert. Download de start to run mp3 bestanden en zet ze op uw telefoon. Oortjes in\, hit the play button en en rennen maar! \n\n\n\n\nMeer informatie over Ruiner Dorpsloop op Hardloopkalender.nl  \nstart  0\,8 km 18:30 uur  0\,8 km 18:45 uur  1\,6 km 19:00 uur  5-10 km 19:30 uur \n  \n  \n 
URL:https://hardloopevenementen.com/loopagenda/ruiner-dorpsloop-ruinen/
END:VEVENT
END:VCALENDAR