BEGIN:VCALENDAR
VERSION:2.0
PRODID:-//Hardloopevenementen - ECPv6.15.14//NONSGML v1.0//EN
CALSCALE:GREGORIAN
METHOD:PUBLISH
X-ORIGINAL-URL:https://hardloopevenementen.com
X-WR-CALDESC:Evenementen voor Hardloopevenementen
REFRESH-INTERVAL;VALUE=DURATION:PT1H
X-Robots-Tag:noindex
X-PUBLISHED-TTL:PT1H
BEGIN:VTIMEZONE
TZID:UTC
BEGIN:STANDARD
TZOFFSETFROM:+0000
TZOFFSETTO:+0000
TZNAME:UTC
DTSTART:20100101T000000
END:STANDARD
END:VTIMEZONE
BEGIN:VEVENT
DTSTART;VALUE=DATE:20141214
DTEND;VALUE=DATE:20141215
DTSTAMP:20260422T013815
CREATED:20120821T233425Z
LAST-MODIFIED:20190423T104845Z
UID:8546-1418515200-1418515200@hardloopevenementen.com
SUMMARY:4e Krijnenbouw Schaats-Loop Tilburg (NB)
DESCRIPTION:Doe mee met het hardloopevenement 4e Krijnenbouw Schaats-Loop te Tilburg (NB) op zo 14 dec 2014. De volgende afstanden staan op het programma:  hardlopen. Wilt u inschrijven voor dit loopevenement?  Raadpleeg hiervoor dan de website van de organisatie\nDe uitslagen van deze hardloopwedstrijd zijn te raadplegen via dezelfde website of via de bekende websites zoals uitslagen.nl\, runtimer en mylaps. Doet u mee met dit evenement\, zorg dan dat u goed voorbereid aan de start staat! Met een goed trainingsschema komt u een heel eind. Train bijvoorbeeld met start to run van Evy Gruyaert. Download de start to run mp3 bestanden en zet ze op uw telefoon. Oortjes in\, hit the play button en en rennen maar! \n\n\n\n\nMeer informatie over 4e Krijnenbouw Schaats-Loop op Hardloopkalender.nl  \nOp zondag 14 december organiseren IJsclub Tilburg en de atletiekverenigingen Attila en Tilburg Road Runners voor de vierde keer een winterduatlon in Tilburg. Dit sportevenement in Tilburg combineert schaatsen op de Ireen Wüst ijsbaan met lopen op de gemeentelijke atletiekbaan.  Iedereen kan meedoen\, recreanten en wedstrijdatleten\, jong en oud. Na diverse rondjes op de ijsbaan afgelegd te hebben worden de schaatsen in de wisselzone verwisseld voor loopschoenen. Vervolgens loop je naar de atletiekbaan waar het looponderdeel wordt afgewerkt. De finish is op de atletiekbaan.   Voor elk onderdeel en leeftijdscategorie is deelname in teamverband mogelijk waarbij de ene deelnemer schaatst en de andere loopt.  Nieuw dit jaar is de combinatie kind en ouder\, kinderen van 8 t m 10 jaar nemen het schaatsonderdeel voor hun rekening en hun vader of moeder gaan daarna hardlopen.  Inschrijven is mogelijk tot uiterlijk 7 december\, er is geen gelegenheid tot na inschrijving. Alle informatie is te vinden op www.schaatsloop.nl. \n  \n  \n 
URL:https://hardloopevenementen.com/loopagenda/4e-krijnenbouw-schaats-loop-tilburg-nb/
END:VEVENT
BEGIN:VEVENT
DTSTART;VALUE=DATE:20121209
DTEND;VALUE=DATE:20121210
DTSTAMP:20260422T013815
CREATED:20071014T090818Z
LAST-MODIFIED:20190423T102716Z
UID:7216-1355011200-1355011200@hardloopevenementen.com
SUMMARY:2e Krijnenbouw Schaats-Loop Tilburg (NB)
DESCRIPTION:Doe mee met het hardloopevenement 2e Krijnenbouw Schaats-Loop te Tilburg (NB) op zo 09 dec 2012. De volgende afstanden staan op het programma: 10 km hardlopen. Wilt u inschrijven voor dit loopevenement?  Raadpleeg hiervoor dan de website van de organisatie\nDe uitslagen van deze hardloopwedstrijd zijn te raadplegen via dezelfde website of via de bekende websites zoals uitslagen.nl\, runtimer en mylaps. Doet u mee met dit evenement\, zorg dan dat u goed voorbereid aan de start staat! Met een goed trainingsschema komt u een heel eind. Train bijvoorbeeld met start to run van Evy Gruyaert. Download de start to run mp3 bestanden en zet ze op uw telefoon. Oortjes in\, hit the play button en en rennen maar! \n\n\n\n\nMeer informatie over 2e Krijnenbouw Schaats-Loop op Hardloopkalender.nl  \nOp zondag 9 december 2012 organiseren IJsclub Tilburg samen met de atletiekverenigingen Attila en Tilburg Road Runners voor de tweede keer de Krijnen Bouw Schaats-Loop tilburg. Er wordt geschaatst op de Ireen Wüstbaan en aansluitend gelopen op de gemeentelijke atletiekbaan. Iedereen kan meedoen en mocht je niet beide disciplines uit willen voeren kun je ook als duo meedoen\, waarbij de ene deelnemer het schaatsonderdeel voor zijn rekening neemt en de ander het looponderdeel. \n  \n  \n 
URL:https://hardloopevenementen.com/loopagenda/2e-krijnenbouw-schaats-loop-tilburg-nb/
END:VEVENT
BEGIN:VEVENT
DTSTART;VALUE=DATE:20111211
DTEND;VALUE=DATE:20111212
DTSTAMP:20260422T013815
CREATED:20110302T144133Z
LAST-MODIFIED:20190423T101641Z
UID:5825-1323561600-1323561600@hardloopevenementen.com
SUMMARY:1e Krijnen Bouw schaats-loop Tilburg (NB)
DESCRIPTION:Doe mee met het hardloopevenement 1e Krijnen Bouw schaats-loop te Tilburg (NB) op zo 11 dec 2011. De volgende afstanden staan op het programma: 1 km – 1\,4 km – 2\,3 km – 4\,1 km hardlopen. Wilt u inschrijven voor dit loopevenement?  Raadpleeg hiervoor dan de website van de organisatie\nDe uitslagen van deze hardloopwedstrijd zijn te raadplegen via dezelfde website of via de bekende websites zoals uitslagen.nl\, runtimer en mylaps. Doet u mee met dit evenement\, zorg dan dat u goed voorbereid aan de start staat! Met een goed trainingsschema komt u een heel eind. Train bijvoorbeeld met start to run van Evy Gruyaert. Download de start to run mp3 bestanden en zet ze op uw telefoon. Oortjes in\, hit the play button en en rennen maar! \n\n\n\n\nMeer informatie over 1e Krijnen Bouw schaats-loop op Hardloopkalender.nl  \nDe Krijnen bouw Schaats-Loop is een nieuw schaats- en loop-evenement in Tilburg. Allereerst zal er geschaatst worden in de Ireen Wüst ijsbaan en aansluitend gelopen worden op de gemeentelijke atletiekbaan. Er zijn diverse onderdelen voor jong en oud\, ook kunnen teams meedoen waarbij de ene deelnemer schaatst en de andere loopt. \n  \n  \n 
URL:https://hardloopevenementen.com/loopagenda/1e-krijnen-bouw-schaats-loop-tilburg-nb/
END:VEVENT
END:VCALENDAR