BEGIN:VCALENDAR
VERSION:2.0
PRODID:-//Hardloopevenementen - ECPv6.15.14//NONSGML v1.0//EN
CALSCALE:GREGORIAN
METHOD:PUBLISH
X-WR-CALNAME:Hardloopevenementen
X-ORIGINAL-URL:https://hardloopevenementen.com
X-WR-CALDESC:Evenementen voor Hardloopevenementen
REFRESH-INTERVAL;VALUE=DURATION:PT1H
X-Robots-Tag:noindex
X-PUBLISHED-TTL:PT1H
BEGIN:VTIMEZONE
TZID:UTC
BEGIN:STANDARD
TZOFFSETFROM:+0000
TZOFFSETTO:+0000
TZNAME:UTC
DTSTART:20090101T000000
END:STANDARD
END:VTIMEZONE
BEGIN:VEVENT
DTSTART;VALUE=DATE:20151011
DTEND;VALUE=DATE:20151012
DTSTAMP:20260420T052934
CREATED:20130619T202736Z
LAST-MODIFIED:20190423T110822Z
UID:9598-1444521600-1444521600@hardloopevenementen.com
SUMMARY:Simon Kroon Vestingloop Edam\, gemeente Edam-Volendam (NH)
DESCRIPTION:Doe mee met het hardloopevenement Simon Kroon Vestingloop te Edam\, gemeente Edam-Volendam (NH) op zo 11 okt 2015. De volgende afstanden staan op het programma: 2 km – 4\,8 km – 10 km hardlopen. Wilt u inschrijven voor dit loopevenement?  Raadpleeg hiervoor dan de website van de organisatie\nDe uitslagen van deze hardloopwedstrijd zijn te raadplegen via dezelfde website of via de bekende websites zoals uitslagen.nl\, runtimer en mylaps. Doet u mee met dit evenement\, zorg dan dat u goed voorbereid aan de start staat! Met een goed trainingsschema komt u een heel eind. Train bijvoorbeeld met start to run van Evy Gruyaert. Download de start to run mp3 bestanden en zet ze op uw telefoon. Oortjes in\, hit the play button en en rennen maar! \n\n\n\n\nMeer informatie over Simon Kroon Vestingloop op Hardloopkalender.nl  \nHet loopevenement Simon Kroon Vestingloop te Edam vindt plaats op zondag 11 oktober 2015. \n  \n  \n 
URL:https://hardloopevenementen.com/loopagenda/simon-kroon-vestingloop-edam-gemeente-edam-volendam-nh-6/
END:VEVENT
BEGIN:VEVENT
DTSTART;VALUE=DATE:20141012
DTEND;VALUE=DATE:20141013
DTSTAMP:20260420T052934
CREATED:20120406T202347Z
LAST-MODIFIED:20190423T105026Z
UID:8917-1413072000-1413072000@hardloopevenementen.com
SUMMARY:Simon Kroon Vestingloop Edam\, gemeente Edam-Volendam (NH)
DESCRIPTION:Doe mee met het hardloopevenement Simon Kroon Vestingloop te Edam\, gemeente Edam-Volendam (NH) op zo 12 okt 2014. De volgende afstanden staan op het programma: 2 km – 4\,8 km – 10 km hardlopen. Wilt u inschrijven voor dit loopevenement?  Raadpleeg hiervoor dan de website van de organisatie\nDe uitslagen van deze hardloopwedstrijd zijn te raadplegen via dezelfde website of via de bekende websites zoals uitslagen.nl\, runtimer en mylaps. Doet u mee met dit evenement\, zorg dan dat u goed voorbereid aan de start staat! Met een goed trainingsschema komt u een heel eind. Train bijvoorbeeld met start to run van Evy Gruyaert. Download de start to run mp3 bestanden en zet ze op uw telefoon. Oortjes in\, hit the play button en en rennen maar! \n\n\n\n\nMeer informatie over Simon Kroon Vestingloop op Hardloopkalender.nl  \nHet loopevenement Simon Kroon Vestingloop te Edam vindt plaats op zondag 12 oktober 2014. De loop wordt georganisseerd door AV Edam. Klik hier voor het adres van de start (Google Maps).Bijzonderheden: Herinnering voor iedere deelnemer. \n  \n  \n 
URL:https://hardloopevenementen.com/loopagenda/simon-kroon-vestingloop-edam-gemeente-edam-volendam-nh-5/
END:VEVENT
BEGIN:VEVENT
DTSTART;VALUE=DATE:20131020
DTEND;VALUE=DATE:20131021
DTSTAMP:20260420T052934
CREATED:20130524T001603Z
LAST-MODIFIED:20190423T103902Z
UID:8253-1382227200-1382227200@hardloopevenementen.com
SUMMARY:Simon Kroon Vestingloop Edam\, gemeente Edam-Volendam (NH)
DESCRIPTION:Doe mee met het hardloopevenement Simon Kroon Vestingloop te Edam\, gemeente Edam-Volendam (NH) op zo 20 okt 2013. De volgende afstanden staan op het programma: 2 km – 4\,8 km – 10 km hardlopen. Wilt u inschrijven voor dit loopevenement?  Raadpleeg hiervoor dan de website van de organisatie\nDe uitslagen van deze hardloopwedstrijd zijn te raadplegen via dezelfde website of via de bekende websites zoals uitslagen.nl\, runtimer en mylaps. Doet u mee met dit evenement\, zorg dan dat u goed voorbereid aan de start staat! Met een goed trainingsschema komt u een heel eind. Train bijvoorbeeld met start to run van Evy Gruyaert. Download de start to run mp3 bestanden en zet ze op uw telefoon. Oortjes in\, hit the play button en en rennen maar! \n\n\n\n\nMeer informatie over Simon Kroon Vestingloop op Hardloopkalender.nl  \nHet loopevenement Simon Kroon Vestingloop te Edam vindt plaats op zondag 20 oktober 2013. De loop wordt georganisseerd door AV Edam. Inschrijven is mogelijk vanaf 20 oktober 2013. Klik hier voor het adres van de start (Google Maps).Er is verkleedaccomodatie met douchemogelijkheid aanwezig. Er is EHBO aanwezig. Bijzonderheden: Herinnering voor iedere deelnemer.Voor meer informatie:Martinus Ouwehandmartinus.ouwehand@planet.nl0645886891http:  www.avedam.nl \n  \n  \n 
URL:https://hardloopevenementen.com/loopagenda/simon-kroon-vestingloop-edam-gemeente-edam-volendam-nh-4/
END:VEVENT
BEGIN:VEVENT
DTSTART;VALUE=DATE:20121021
DTEND;VALUE=DATE:20121022
DTSTAMP:20260420T052934
CREATED:20091020T040215Z
LAST-MODIFIED:20190423T102833Z
UID:7505-1350777600-1350777600@hardloopevenementen.com
SUMMARY:Simon Kroon Vestingloop Edam\, gemeente Edam-Volendam (NH)
DESCRIPTION:Doe mee met het hardloopevenement Simon Kroon Vestingloop te Edam\, gemeente Edam-Volendam (NH) op zo 21 okt 2012. De volgende afstanden staan op het programma: 2 km – 4\,8 km – 10 km hardlopen. Wilt u inschrijven voor dit loopevenement?  Raadpleeg hiervoor dan de website van de organisatie\nDe uitslagen van deze hardloopwedstrijd zijn te raadplegen via dezelfde website of via de bekende websites zoals uitslagen.nl\, runtimer en mylaps. Doet u mee met dit evenement\, zorg dan dat u goed voorbereid aan de start staat! Met een goed trainingsschema komt u een heel eind. Train bijvoorbeeld met start to run van Evy Gruyaert. Download de start to run mp3 bestanden en zet ze op uw telefoon. Oortjes in\, hit the play button en en rennen maar! \n\n\n\n\nMeer informatie over Simon Kroon Vestingloop op Hardloopkalender.nl  \nHet loopevenement Simon Kroon Vestingloop te Edam vindt plaats op zondag 21 oktober 2012. De loop wordt georganiseerd door AV Edam. Inschrijven is mogelijk vanaf 21 oktober 2012. Klik hier voor het adres van de start (Google Maps).Er is EHBO aanwezig. Bijzonderheden: Herinnering voor iedere deelnemer.Afstand SoortloopInschrijfgeldStarttijdInfo10 km5\,0011.004.8 km5\,0011.002 km2\,0011.05Voor meer informatie:Martinus Ouwehandmartinus.ouwehand@planet.nl0645886891http:  www.avedam.nl \n  \n  \n 
URL:https://hardloopevenementen.com/loopagenda/simon-kroon-vestingloop-edam-gemeente-edam-volendam-nh-3/
END:VEVENT
BEGIN:VEVENT
DTSTART;VALUE=DATE:20111023
DTEND;VALUE=DATE:20111024
DTSTAMP:20260420T052934
CREATED:20080621T000914Z
LAST-MODIFIED:20190423T101755Z
UID:6109-1319328000-1319328000@hardloopevenementen.com
SUMMARY:Simon Kroon Vestingloop Edam\, gemeente Edam-Volendam (NH)
DESCRIPTION:Doe mee met het hardloopevenement Simon Kroon Vestingloop te Edam\, gemeente Edam-Volendam (NH) op zo 23 okt 2011. De volgende afstanden staan op het programma: 2 km – 4\,8 km – 10 km hardlopen. Wilt u inschrijven voor dit loopevenement?  Raadpleeg hiervoor dan de website van de organisatie\nDe uitslagen van deze hardloopwedstrijd zijn te raadplegen via dezelfde website of via de bekende websites zoals uitslagen.nl\, runtimer en mylaps. Doet u mee met dit evenement\, zorg dan dat u goed voorbereid aan de start staat! Met een goed trainingsschema komt u een heel eind. Train bijvoorbeeld met start to run van Evy Gruyaert. Download de start to run mp3 bestanden en zet ze op uw telefoon. Oortjes in\, hit the play button en en rennen maar! \n\n\n\n\nMeer informatie over Simon Kroon Vestingloop op Hardloopkalender.nl  \nHet loopevenement Simon Kroon Vestingloop te Edam vindt plaats op zondag 23 oktober 2011. De loop wordt georganiseerd door AV Edam. Inschrijven is mogelijk vanaf 23 oktober 2011. Klik hier voor het adres van de start (Google Maps).Er is verkleedaccomodatie met douchemogelijkheid aanwezig. Er is EHBO aanwezig. Bijzonderheden: Herinnering voor iedere deelnemer.Afstand(km)Inschrijfgeld(€)Starttijd10€5\,0011.004.8€5\,0011.002€2\,5011.05Voor meer informatie:Martinus Ouwehandmartinus.ouwehand@planet.nl0645886891http:  www.avedam.nl \n  \n  \n 
URL:https://hardloopevenementen.com/loopagenda/simon-kroon-vestingloop-edam-gemeente-edam-volendam-nh-2/
END:VEVENT
BEGIN:VEVENT
DTSTART;VALUE=DATE:20101024
DTEND;VALUE=DATE:20101025
DTSTAMP:20260420T052934
CREATED:20161023T104014Z
LAST-MODIFIED:20190423T100725Z
UID:3396-1287878400-1287878400@hardloopevenementen.com
SUMMARY:Simon Kroon Vestingloop Edam\, gemeente Edam-Volendam (NH)
DESCRIPTION:Doe mee met het hardloopevenement Simon Kroon Vestingloop te Edam\, gemeente Edam-Volendam (NH) op zo 24 okt 2010. De volgende afstanden staan op het programma: 2 km – 4\,8 km – 10 km hardlopen. Wilt u inschrijven voor dit loopevenement?  Raadpleeg hiervoor dan de website van de organisatie\nDe uitslagen van deze hardloopwedstrijd zijn te raadplegen via dezelfde website of via de bekende websites zoals uitslagen.nl\, runtimer en mylaps. Doet u mee met dit evenement\, zorg dan dat u goed voorbereid aan de start staat! Met een goed trainingsschema komt u een heel eind. Train bijvoorbeeld met start to run van Evy Gruyaert. Download de start to run mp3 bestanden en zet ze op uw telefoon. Oortjes in\, hit the play button en en rennen maar! \n\n\n\n\nMeer informatie over Simon Kroon Vestingloop op Hardloopkalender.nl  \nDit loopevenement wordt georganiseerd door AV Edam.De eerste afstand (of onderdeel) start om 11:00.Het adres van de start is Noordervesting 100 Het adres van de finish is Baandervesting 100Categorie(ën): mannen\, vrouwen\, jeugdVooraf inschrijven is mogelijk vanaf 24 oktober 2010 tot niet van toepassing.Inschrijven op de dag van de loop is mogelijk (vanaf 9.30) op dit adres: Burgemeester Versteeghsingel 5a\, Edam.Meer informatie:Contactpersoon: Martinus OuwehandTel.: 0645886891Email: martinus.ouwehand@planet.nlEr is een kleedaccomodatie aanwezig. Douchen is mogelijk.Het parcours is verhard.Overige bijzonderheden:  Herinnering voor iedere deelnemer \n  \n  \n 
URL:https://hardloopevenementen.com/loopagenda/simon-kroon-vestingloop-edam-gemeente-edam-volendam-nh/
END:VEVENT
END:VCALENDAR