BEGIN:VCALENDAR
VERSION:2.0
PRODID:-//Hardloopevenementen - ECPv6.15.14//NONSGML v1.0//EN
CALSCALE:GREGORIAN
METHOD:PUBLISH
X-ORIGINAL-URL:https://hardloopevenementen.com
X-WR-CALDESC:Evenementen voor Hardloopevenementen
REFRESH-INTERVAL;VALUE=DURATION:PT1H
X-Robots-Tag:noindex
X-PUBLISHED-TTL:PT1H
BEGIN:VTIMEZONE
TZID:UTC
BEGIN:STANDARD
TZOFFSETFROM:+0000
TZOFFSETTO:+0000
TZNAME:UTC
DTSTART:20070101T000000
END:STANDARD
END:VTIMEZONE
BEGIN:VEVENT
DTSTART;VALUE=DATE:20181216
DTEND;VALUE=DATE:20181217
DTSTAMP:20260420T145557
CREATED:20180103T214303Z
LAST-MODIFIED:20190423T120108Z
UID:15555-1544918400-1544918400@hardloopevenementen.com
SUMMARY:SantaRun Son en Breugel Son\, gemeente Son en Breugel (NB)
DESCRIPTION:Doe mee met het hardloopevenement SantaRun Son en Breugel te Son\, gemeente Son en Breugel (NB) op zo 16 dec 2018. De volgende afstanden staan op het programma: 5 km – 10 km hardlopen. Wilt u inschrijven voor dit loopevenement?  Raadpleeg hiervoor dan de website van de organisatie\nDe uitslagen van deze hardloopwedstrijd zijn te raadplegen via dezelfde website of via de bekende websites zoals uitslagen.nl\, runtimer en mylaps. Doet u mee met dit evenement\, zorg dan dat u goed voorbereid aan de start staat! Met een goed trainingsschema komt u een heel eind. Train bijvoorbeeld met start to run van Evy Gruyaert. Download de start to run mp3 bestanden en zet ze op uw telefoon. Oortjes in\, hit the play button en en rennen maar! \n\n\n\n\nMeer informatie over SantaRun Son en Breugel op Hardloopkalender.nl  \n  \n  \n 
URL:https://hardloopevenementen.com/loopagenda/santarun-son-en-breugel-son-gemeente-son-en-breugel-nb/
END:VEVENT
BEGIN:VEVENT
DTSTART;VALUE=DATE:20120909
DTEND;VALUE=DATE:20120910
DTSTAMP:20260420T145557
CREATED:20140912T022016Z
LAST-MODIFIED:20190423T102941Z
UID:7775-1347148800-1347148800@hardloopevenementen.com
SUMMARY:Thermae Son Duorace 2012 Son\, gemeente Son en Breugel (NB)
DESCRIPTION:Doe mee met het hardloopevenement Thermae Son Duorace 2012 te Son\, gemeente Son en Breugel (NB) op zo 09 sep 2012. De volgende afstanden staan op het programma: 9 km – 15\,4 km hardlopen. Wilt u inschrijven voor dit loopevenement?  Raadpleeg hiervoor dan de website van de organisatie\nDe uitslagen van deze hardloopwedstrijd zijn te raadplegen via dezelfde website of via de bekende websites zoals uitslagen.nl\, runtimer en mylaps. Doet u mee met dit evenement\, zorg dan dat u goed voorbereid aan de start staat! Met een goed trainingsschema komt u een heel eind. Train bijvoorbeeld met start to run van Evy Gruyaert. Download de start to run mp3 bestanden en zet ze op uw telefoon. Oortjes in\, hit the play button en en rennen maar! \n\n\n\n\nMeer informatie over Thermae Son Duorace 2012 op Hardloopkalender.nl  \n  \n  \n 
URL:https://hardloopevenementen.com/loopagenda/thermae-son-duorace-2012-son-gemeente-son-en-breugel-nb/
END:VEVENT
BEGIN:VEVENT
DTSTART;VALUE=DATE:20100321
DTEND;VALUE=DATE:20100322
DTSTAMP:20260420T145557
CREATED:20100503T111121Z
LAST-MODIFIED:20190423T101316Z
UID:23795-1269129600-1269129600@hardloopevenementen.com
SUMMARY:Thermae Son Lenteloop Son\, gemeente Son en Breugel (NB)
DESCRIPTION:Doe mee met het hardloopevenement Thermae Son Lenteloop te Son\, gemeente Son en Breugel (NB) op zo 21 mrt 2010. De volgende afstanden staan op het programma: 5 km – 10 km – 15 km hardlopen. Wilt u inschrijven voor dit loopevenement?  Raadpleeg hiervoor dan de website van de organisatie\nDe uitslagen van deze hardloopwedstrijd zijn te raadplegen via dezelfde website of via de bekende websites zoals uitslagen.nl\, runtimer en mylaps. Doet u mee met dit evenement\, zorg dan dat u goed voorbereid aan de start staat! Met een goed trainingsschema komt u een heel eind. Train bijvoorbeeld met start to run van Evy Gruyaert. Download de start to run mp3 bestanden en zet ze op uw telefoon. Oortjes in\, hit the play button en en rennen maar! \n\n\n\n\nMeer informatie over Thermae Son Lenteloop op Hardloopkalender.nl  \n  \n  \n 
URL:https://hardloopevenementen.com/loopagenda/thermae-son-lenteloop-son-gemeente-son-en-breugel-nb-2/
END:VEVENT
BEGIN:VEVENT
DTSTART;VALUE=DATE:20090517
DTEND;VALUE=DATE:20090518
DTSTAMP:20260420T145557
CREATED:20070703T162340Z
LAST-MODIFIED:20190423T100122Z
UID:2316-1242518400-1242518400@hardloopevenementen.com
SUMMARY:Van Son Kaatsheuvelse Pleinloop Kaatsheuvel\, gemeente Loon op Zand (NB)
DESCRIPTION:Doe mee met het hardloopevenement Van Son Kaatsheuvelse Pleinloop te Kaatsheuvel\, gemeente Loon op Zand (NB) op zo 17 mei 2009. De volgende afstanden staan op het programma: 0\,6 km – 0\,9 km – 1\,9 km – 5 km – 10 km hardlopen. Wilt u inschrijven voor dit loopevenement?  Raadpleeg hiervoor dan de website van de organisatie\nDe uitslagen van deze hardloopwedstrijd zijn te raadplegen via dezelfde website of via de bekende websites zoals uitslagen.nl\, runtimer en mylaps. Doet u mee met dit evenement\, zorg dan dat u goed voorbereid aan de start staat! Met een goed trainingsschema komt u een heel eind. Train bijvoorbeeld met start to run van Evy Gruyaert. Download de start to run mp3 bestanden en zet ze op uw telefoon. Oortjes in\, hit the play button en en rennen maar! \n\n\n\n\nMeer informatie over Van Son Kaatsheuvelse Pleinloop op Hardloopkalender.nl  \n0\,6 km 12:00 uur\, 0\,9 km 12:15 uur\, 1\,9 km 12:30 uur\, 5-5 km 13:30 uur\, 10-10-10 km 14:30 uur \n  \n  \n 
URL:https://hardloopevenementen.com/loopagenda/van-son-kaatsheuvelse-pleinloop-kaatsheuvel-gemeente-loon-op-zand-nb/
END:VEVENT
BEGIN:VEVENT
DTSTART;VALUE=DATE:20090322
DTEND;VALUE=DATE:20090323
DTSTAMP:20260420T145557
CREATED:20150515T062751Z
LAST-MODIFIED:20190423T100235Z
UID:2605-1237680000-1237680000@hardloopevenementen.com
SUMMARY:Thermae Son Lenteloop Son\, gemeente Son en Breugel (NB)
DESCRIPTION:Doe mee met het hardloopevenement Thermae Son Lenteloop te Son\, gemeente Son en Breugel (NB) op zo 22 mrt 2009. De volgende afstanden staan op het programma: 5 km – 10 km – 15 km hardlopen. Wilt u inschrijven voor dit loopevenement?  Raadpleeg hiervoor dan de website van de organisatie\nDe uitslagen van deze hardloopwedstrijd zijn te raadplegen via dezelfde website of via de bekende websites zoals uitslagen.nl\, runtimer en mylaps. Doet u mee met dit evenement\, zorg dan dat u goed voorbereid aan de start staat! Met een goed trainingsschema komt u een heel eind. Train bijvoorbeeld met start to run van Evy Gruyaert. Download de start to run mp3 bestanden en zet ze op uw telefoon. Oortjes in\, hit the play button en en rennen maar! \n\n\n\n\nMeer informatie over Thermae Son Lenteloop op Hardloopkalender.nl  \nDe starttijden zijn gewijzigd:    10.30 uur: 5km  10.40 uur: 10km  10.50 uur: 15km    Voorinschrijven: www.inschrijven.nl (EUR 7\,50)  Na-inschrijven: Thermae Son aan de Planetenlaan 2B te Son (EUR 9\,00)    De opbrengst van de loop gaat naar de Nederlandse Cystic Fibrosis Stichting. \n  \n  \n 
URL:https://hardloopevenementen.com/loopagenda/thermae-son-lenteloop-son-gemeente-son-en-breugel-nb/
END:VEVENT
BEGIN:VEVENT
DTSTART;VALUE=DATE:20080517
DTEND;VALUE=DATE:20080518
DTSTAMP:20260420T145557
CREATED:20160706T080233Z
LAST-MODIFIED:20190423T094723Z
UID:19700-1210982400-1210982400@hardloopevenementen.com
SUMMARY:Van Son Kaatsheuvelse Pleinloop Kaatsheuvel
DESCRIPTION:Doe mee met het hardloopevenement Van Son Kaatsheuvelse Pleinloop te Kaatsheuvel op za 17 mei 2008. De volgende afstanden staan op het programma: 1 km – 2 km – 5 km – 10 km hardlopen. Wilt u inschrijven voor dit loopevenement?  Raadpleeg hiervoor dan de website van de organisatie\nDe uitslagen van deze hardloopwedstrijd zijn te raadplegen via dezelfde website of via de bekende websites zoals uitslagen.nl\, runtimer en mylaps. Doet u mee met dit evenement\, zorg dan dat u goed voorbereid aan de start staat! Met een goed trainingsschema komt u een heel eind. Train bijvoorbeeld met start to run van Evy Gruyaert. Download de start to run mp3 bestanden en zet ze op uw telefoon. Oortjes in\, hit the play button en en rennen maar! \n\n\n\n\nMeer informatie over Van Son Kaatsheuvelse Pleinloop op Hardloopkalender.nl  \n1 km 18:00 uur\, 1 km 18:20 uur\, 2 km 18:40 uur\, 5-10-10-10 km 19:30 uur  K.N.A.U. wedstrijd:		Ja  Championchip:		Nee  Evenementenchip:		Nee  Gatewaychip:		Ja  Wedstrijdloop:		Ja  Prestatieloop:		Ja  Inschrijven vanaf:		1 februari  Inschrijven tot en met:		16 mei  Aantal deelnemers vorig jaar:	850  Verwacht aantal deelnemers:	1000  Editie:			4    Kleedgelegenheid:		Ja  Kleding inname:		Nee  Bewaking kleding:		Nee  Douches:			Ja  Sportdrank:		Ja  Damestoilet:		Ja  Herentoilet:		Ja  Horeca:			Ja  Parkeergelegenheid:		Ja  Openbaar vervoer:		Ja  Taxi:			Ja    Organisatie: Kaatsheuvelse Pleinloop  Contactpersoon: Marijke van Hilst  eMail: secretariaat@kaatsheuvelsepleinloop.nl \n  \n  \n 
URL:https://hardloopevenementen.com/loopagenda/van-son-kaatsheuvelse-pleinloop-kaatsheuvel/
END:VEVENT
END:VCALENDAR