BEGIN:VCALENDAR
VERSION:2.0
PRODID:-//Hardloopevenementen - ECPv6.15.14//NONSGML v1.0//EN
CALSCALE:GREGORIAN
METHOD:PUBLISH
X-WR-CALNAME:Hardloopevenementen
X-ORIGINAL-URL:https://hardloopevenementen.com
X-WR-CALDESC:Evenementen voor Hardloopevenementen
REFRESH-INTERVAL;VALUE=DURATION:PT1H
X-Robots-Tag:noindex
X-PUBLISHED-TTL:PT1H
BEGIN:VTIMEZONE
TZID:UTC
BEGIN:STANDARD
TZOFFSETFROM:+0000
TZOFFSETTO:+0000
TZNAME:UTC
DTSTART:20070101T000000
END:STANDARD
END:VTIMEZONE
BEGIN:VEVENT
DTSTART;VALUE=DATE:20191027
DTEND;VALUE=DATE:20191028
DTSTAMP:20260420T235934
CREATED:20131011T132238Z
LAST-MODIFIED:20191114T112407Z
UID:142548-1572134400-1572134400@hardloopevenementen.com
SUMMARY:Unilux Sparrenbosloop Boxtel (NB)
DESCRIPTION:Doe mee met het hardloopevenement Unilux Sparrenbosloop te Boxtel (NB) op zo 27 okt 2019. De volgende afstanden staan op het programma: 3\,6 km – 7\,3 km – 11 km hardlopen. Wilt u inschrijven voor dit loopevenement?  Raadpleeg hiervoor dan de website van de organisatie\nDe uitslagen van deze hardloopwedstrijd zijn te raadplegen via dezelfde website of via de bekende websites zoals uitslagen.nl\, runtimer en mylaps. Doet u mee met dit evenement\, zorg dan dat u goed voorbereid aan de start staat! Met een goed trainingsschema komt u een heel eind. Train bijvoorbeeld met start to run van Evy Gruyaert. Download de start to run mp3 bestanden en zet ze op uw telefoon. Oortjes in\, hit the play button en en rennen maar! \n\n\n\n\nMeer informatie over Unilux Sparrenbosloop op Hardloopkalender.nl  \nHet parcours is in 2017 vernieuwd\, nog afwisselender en uitdagender gemaakt en loopt door de bossen van het landgoed Sparrenrijk in Boxtel. Een avontuurlijke bosloop met enkele obstakels. De recreantenloop is 3\,6 ( 1 ronde) of 7\,3 km. (2 ronden) en de wedstrijdloop is 11\,0 km. (3 ronden). \n  \n  \n 
URL:https://hardloopevenementen.com/loopagenda/unilux-sparrenbosloop-boxtel-nb-2/
END:VEVENT
BEGIN:VEVENT
DTSTART;VALUE=DATE:20191027
DTEND;VALUE=DATE:20191028
DTSTAMP:20260420T235934
CREATED:20121126T211059Z
LAST-MODIFIED:20191114T112406Z
UID:43245-1572134400-1572134400@hardloopevenementen.com
SUMMARY:Unilux Sparrenbosloop Boxtel (NB)
DESCRIPTION:Doe mee met het hardloopevenement Unilux Sparrenbosloop te Boxtel (NB) op zo 27 okt 2019. De volgende afstanden staan op het programma: 3\,6 km – 7\,3 km – 11 km hardlopen. Wilt u inschrijven voor dit loopevenement?  Raadpleeg hiervoor dan de website van de organisatie\nDe uitslagen van deze hardloopwedstrijd zijn te raadplegen via dezelfde website of via de bekende websites zoals uitslagen.nl\, runtimer en mylaps. Doet u mee met dit evenement\, zorg dan dat u goed voorbereid aan de start staat! Met een goed trainingsschema komt u een heel eind. Train bijvoorbeeld met start to run van Evy Gruyaert. Download de start to run mp3 bestanden en zet ze op uw telefoon. Oortjes in\, hit the play button en en rennen maar! \n\n\n\n\nMeer informatie over Unilux Sparrenbosloop op Hardloopkalender.nl  \nHet parcours is in 2017 vernieuwd\, nog afwisselender en uitdagender gemaakt en loopt door de bossen van het landgoed Sparrenrijk in Boxtel. Een avontuurlijke bosloop met enkele obstakels. De recreantenloop is 3\,6 ( 1 ronde) of 7\,3 km. (2 ronden) en de wedstrijdloop is 11\,0 km. (3 ronden). \n  \n  \n 
URL:https://hardloopevenementen.com/loopagenda/unilux-sparrenbosloop-boxtel-nb/
END:VEVENT
BEGIN:VEVENT
DTSTART;VALUE=DATE:20181028
DTEND;VALUE=DATE:20181029
DTSTAMP:20260420T235934
CREATED:20120905T091339Z
LAST-MODIFIED:20190423T120153Z
UID:15754-1540684800-1540684800@hardloopevenementen.com
SUMMARY:Don Quichotte Sparrenbosloop Boxtel (NB)
DESCRIPTION:Doe mee met het hardloopevenement Don Quichotte Sparrenbosloop te Boxtel (NB) op zo 28 okt 2018. De volgende afstanden staan op het programma: 1\,5 km – 3\,6 km – 7\,3 km – 11 km hardlopen. Wilt u inschrijven voor dit loopevenement?  Raadpleeg hiervoor dan de website van de organisatie\nDe uitslagen van deze hardloopwedstrijd zijn te raadplegen via dezelfde website of via de bekende websites zoals uitslagen.nl\, runtimer en mylaps. Doet u mee met dit evenement\, zorg dan dat u goed voorbereid aan de start staat! Met een goed trainingsschema komt u een heel eind. Train bijvoorbeeld met start to run van Evy Gruyaert. Download de start to run mp3 bestanden en zet ze op uw telefoon. Oortjes in\, hit the play button en en rennen maar! \n\n\n\n\nMeer informatie over Don Quichotte Sparrenbosloop op Hardloopkalender.nl  \n  \n  \n 
URL:https://hardloopevenementen.com/loopagenda/don-quichotte-sparrenbosloop-boxtel-nb-5/
END:VEVENT
BEGIN:VEVENT
DTSTART;VALUE=DATE:20151025
DTEND;VALUE=DATE:20151026
DTSTAMP:20260420T235934
CREATED:20070724T100922Z
LAST-MODIFIED:20190423T110759Z
UID:9518-1445731200-1445731200@hardloopevenementen.com
SUMMARY:Don Quichotte Sparrenbosloop Boxtel (NB)
DESCRIPTION:Doe mee met het hardloopevenement Don Quichotte Sparrenbosloop te Boxtel (NB) op zo 25 okt 2015. De volgende afstanden staan op het programma: 1 km – 1\,5 km – 2\,1 km – 7\,7 km – 9\,2 km hardlopen. Wilt u inschrijven voor dit loopevenement?  Raadpleeg hiervoor dan de website van de organisatie\nDe uitslagen van deze hardloopwedstrijd zijn te raadplegen via dezelfde website of via de bekende websites zoals uitslagen.nl\, runtimer en mylaps. Doet u mee met dit evenement\, zorg dan dat u goed voorbereid aan de start staat! Met een goed trainingsschema komt u een heel eind. Train bijvoorbeeld met start to run van Evy Gruyaert. Download de start to run mp3 bestanden en zet ze op uw telefoon. Oortjes in\, hit the play button en en rennen maar! \n\n\n\n\nMeer informatie over Don Quichotte Sparrenbosloop op Hardloopkalender.nl  \nHet loopevenement Don Quichotte Sparrenbosloop te Boxtel vindt plaats op zondag 25 oktober 2015. \n  \n  \n 
URL:https://hardloopevenementen.com/loopagenda/don-quichotte-sparrenbosloop-boxtel-nb-4/
END:VEVENT
BEGIN:VEVENT
DTSTART;VALUE=DATE:20141026
DTEND;VALUE=DATE:20141027
DTSTAMP:20260420T235934
CREATED:20170310T031609Z
LAST-MODIFIED:20190423T105011Z
UID:8853-1414281600-1414281600@hardloopevenementen.com
SUMMARY:Don Quichotte Sparrenbosloop Boxtel (NB)
DESCRIPTION:Doe mee met het hardloopevenement Don Quichotte Sparrenbosloop te Boxtel (NB) op zo 26 okt 2014. De volgende afstanden staan op het programma: 1 km – 1\,5 km – 2\,1 km – 7\,7 km – 9\,2 km hardlopen. Wilt u inschrijven voor dit loopevenement?  Raadpleeg hiervoor dan de website van de organisatie\nDe uitslagen van deze hardloopwedstrijd zijn te raadplegen via dezelfde website of via de bekende websites zoals uitslagen.nl\, runtimer en mylaps. Doet u mee met dit evenement\, zorg dan dat u goed voorbereid aan de start staat! Met een goed trainingsschema komt u een heel eind. Train bijvoorbeeld met start to run van Evy Gruyaert. Download de start to run mp3 bestanden en zet ze op uw telefoon. Oortjes in\, hit the play button en en rennen maar! \n\n\n\n\nMeer informatie over Don Quichotte Sparrenbosloop op Hardloopkalender.nl  \nHet loopevenement Don Quichotte Sparrenbosloop te Boxtel vindt plaats op zondag 26 oktober 2014. De loop wordt georganisseerd door AV Marvel. Klik hier voor het adres van de start (Google Maps). \n  \n  \n 
URL:https://hardloopevenementen.com/loopagenda/don-quichotte-sparrenbosloop-boxtel-nb-3/
END:VEVENT
BEGIN:VEVENT
DTSTART;VALUE=DATE:20131027
DTEND;VALUE=DATE:20131028
DTSTAMP:20260420T235934
CREATED:20121024T105921Z
LAST-MODIFIED:20190423T103853Z
UID:8217-1382832000-1382832000@hardloopevenementen.com
SUMMARY:Don Quichotte Sparrenbosloop Boxtel (NB)
DESCRIPTION:Doe mee met het hardloopevenement Don Quichotte Sparrenbosloop te Boxtel (NB) op zo 27 okt 2013. De volgende afstanden staan op het programma: 1 km – 1\,5 km – 2\,1 km – 7\,7 km – 9\,2 km hardlopen. Wilt u inschrijven voor dit loopevenement?  Raadpleeg hiervoor dan de website van de organisatie\nDe uitslagen van deze hardloopwedstrijd zijn te raadplegen via dezelfde website of via de bekende websites zoals uitslagen.nl\, runtimer en mylaps. Doet u mee met dit evenement\, zorg dan dat u goed voorbereid aan de start staat! Met een goed trainingsschema komt u een heel eind. Train bijvoorbeeld met start to run van Evy Gruyaert. Download de start to run mp3 bestanden en zet ze op uw telefoon. Oortjes in\, hit the play button en en rennen maar! \n\n\n\n\nMeer informatie over Don Quichotte Sparrenbosloop op Hardloopkalender.nl  \nHet loopevenement Don Quichotte Sparrenbosloop te Boxtel vindt plaats op zondag 27 oktober 2013. De loop wordt georganisseerd door AV Marvel. Inschrijven is mogelijk vanaf 15 september 2012. Klik hier voor het adres van de start (Google Maps).Er is geen verkleedaccomodatie aanwezig. Er is EHBO aanwezig. Voor meer informatie:Mevr. Carla Schalkenwoc@avmarvel.nl0411682000http:  avmarvel.nl \n  \n  \n 
URL:https://hardloopevenementen.com/loopagenda/don-quichotte-sparrenbosloop-boxtel-nb-2/
END:VEVENT
BEGIN:VEVENT
DTSTART;VALUE=DATE:20111030
DTEND;VALUE=DATE:20111031
DTSTAMP:20260420T235934
CREATED:20130803T233158Z
LAST-MODIFIED:20190423T101746Z
UID:6074-1319932800-1319932800@hardloopevenementen.com
SUMMARY:Don Quichotte Sparrenbosloop Boxtel (NB)
DESCRIPTION:Doe mee met het hardloopevenement Don Quichotte Sparrenbosloop te Boxtel (NB) op zo 30 okt 2011. De volgende afstanden staan op het programma: 1 km – 1\,5 km – 3\,1 km – 4\,6 km – 5\,4 km – 6\,1 km – 7\,7 km – 9\,2 km hardlopen. Wilt u inschrijven voor dit loopevenement?  Raadpleeg hiervoor dan de website van de organisatie\nDe uitslagen van deze hardloopwedstrijd zijn te raadplegen via dezelfde website of via de bekende websites zoals uitslagen.nl\, runtimer en mylaps. Doet u mee met dit evenement\, zorg dan dat u goed voorbereid aan de start staat! Met een goed trainingsschema komt u een heel eind. Train bijvoorbeeld met start to run van Evy Gruyaert. Download de start to run mp3 bestanden en zet ze op uw telefoon. Oortjes in\, hit the play button en en rennen maar! \n\n\n\n\nMeer informatie over Don Quichotte Sparrenbosloop op Hardloopkalender.nl  \nHet loopevenement Don Quichotte Sparrenbosloop te Boxtel vindt plaats op zondag 30 oktober 2011. De loop wordt georganiseerd door AV Marvel. Inschrijven is mogelijk vanaf 15 september 2011. Klik hier voor het adres van de start (Google Maps).Er is geen verkleedaccomodatie aanwezig. Er is EHBO aanwezig. Afstand(km)Inschrijfgeld(€)Starttijdrecreantensenioren€5\,0010.30recreantenjeugd€3\,0010.30wedstrijdheren€4\,0011.30+JJA+JJBwedstrijddames€4\,0012.25+MJA+MJBwedstrijdJuniorenC D€3\,5013.00vanafwedstrijdpupillen€3\,0013.30vanafVoor meer informatie:Mevr.Franca Verstratenwoc@avmarvel.nl0411632536http:  avmarvel.nl \n  \n  \n 
URL:https://hardloopevenementen.com/loopagenda/don-quichotte-sparrenbosloop-boxtel-nb/
END:VEVENT
BEGIN:VEVENT
DTSTART;VALUE=DATE:20101031
DTEND;VALUE=DATE:20101101
DTSTAMP:20260420T235934
CREATED:20100511T093023Z
LAST-MODIFIED:20190423T100710Z
UID:3363-1288483200-1288483200@hardloopevenementen.com
SUMMARY:Sparrenbosloop Boxtel (NB)
DESCRIPTION:Doe mee met het hardloopevenement Sparrenbosloop te Boxtel (NB) op zo 31 okt 2010. De volgende afstanden staan op het programma: 1 km – 1\,5 km – 3\,1 km – 4\,6 km – 5\,4 km – 6\,1 km – 7\,7 km – 9\,2 km hardlopen. Wilt u inschrijven voor dit loopevenement?  Raadpleeg hiervoor dan de website van de organisatie\nDe uitslagen van deze hardloopwedstrijd zijn te raadplegen via dezelfde website of via de bekende websites zoals uitslagen.nl\, runtimer en mylaps. Doet u mee met dit evenement\, zorg dan dat u goed voorbereid aan de start staat! Met een goed trainingsschema komt u een heel eind. Train bijvoorbeeld met start to run van Evy Gruyaert. Download de start to run mp3 bestanden en zet ze op uw telefoon. Oortjes in\, hit the play button en en rennen maar! \n\n\n\n\nMeer informatie over Sparrenbosloop op Hardloopkalender.nl  \nDit loopevenement wordt georganiseerd door AV Marvel.De eerste afstand (of onderdeel) start om 10:30.Het adres van de start en de finish is Molenwijkseweg nvtCategorie(ën): mannen\, vrouwen\, jeugdVooraf inschrijven is mogelijk vanaf 01 september 2010 tot 22 oktober 2010.Inschrijven op de dag van de loop is mogelijk (vanaf 09.30 uur) op dit adres: Sparrenrijk  Molenwijkseweg  5282 KA Boxtel.Meer informatie:Contactpersoon: Mevr.Franca VerstratenTel.: 0411632536Email: woc@avmarvel.nlEr is geen kleedaccomodatie aanwezig.Het parcours is onverhard.Overige bijzonderheden:  Uur tijdsverschil geeft snelle tijd. Finish in Grandcafé De Rechter \n  \n  \n 
URL:https://hardloopevenementen.com/loopagenda/sparrenbosloop-boxtel-nb-2/
END:VEVENT
BEGIN:VEVENT
DTSTART;VALUE=DATE:20091025
DTEND;VALUE=DATE:20091026
DTSTAMP:20260420T235934
CREATED:20170923T223303Z
LAST-MODIFIED:20190423T095752Z
UID:1571-1256428800-1256428800@hardloopevenementen.com
SUMMARY:Sparrenbosloop Boxtel (NB)
DESCRIPTION:Doe mee met het hardloopevenement Sparrenbosloop te Boxtel (NB) op zo 25 okt 2009. De volgende afstanden staan op het programma: 1 km – 1\,5 km – 2\,1 km – 3\,1 km – 4\,7 km – 5\,4 km – 6\,2 km – 7\,7 km – 9\,2 km hardlopen. Wilt u inschrijven voor dit loopevenement?  Raadpleeg hiervoor dan de website van de organisatie\nDe uitslagen van deze hardloopwedstrijd zijn te raadplegen via dezelfde website of via de bekende websites zoals uitslagen.nl\, runtimer en mylaps. Doet u mee met dit evenement\, zorg dan dat u goed voorbereid aan de start staat! Met een goed trainingsschema komt u een heel eind. Train bijvoorbeeld met start to run van Evy Gruyaert. Download de start to run mp3 bestanden en zet ze op uw telefoon. Oortjes in\, hit the play button en en rennen maar! \n\n\n\n\nMeer informatie over Sparrenbosloop op Hardloopkalender.nl  \n1\,5-3\,1-4\,7-6\,2-7\,7 km 10:30 uur\, 9\,2 km 11:30 uur\, 5\,4 km 12:25 uur\, 2\,1 km 13:00 uur\, 1 km 13:30 uur \n  \n  \n 
URL:https://hardloopevenementen.com/loopagenda/sparrenbosloop-boxtel-nb/
END:VEVENT
BEGIN:VEVENT
DTSTART;VALUE=DATE:20081026
DTEND;VALUE=DATE:20081027
DTSTAMP:20260420T235934
CREATED:20070619T180637Z
LAST-MODIFIED:20190423T094434Z
UID:1169-1224979200-1224979200@hardloopevenementen.com
SUMMARY:Sparrenbosloop Boxtel
DESCRIPTION:Doe mee met het hardloopevenement Sparrenbosloop te Boxtel op zo 26 okt 2008. De volgende afstanden staan op het programma: 1 km – 1\,5 km – 2\,1 km – 3\,1 km – 4\,7 km – 5\,4 km – 6\,2 km – 7\,7 km – 9\,2 km hardlopen. Wilt u inschrijven voor dit loopevenement?  Raadpleeg hiervoor dan de website van de organisatie\nDe uitslagen van deze hardloopwedstrijd zijn te raadplegen via dezelfde website of via de bekende websites zoals uitslagen.nl\, runtimer en mylaps. Doet u mee met dit evenement\, zorg dan dat u goed voorbereid aan de start staat! Met een goed trainingsschema komt u een heel eind. Train bijvoorbeeld met start to run van Evy Gruyaert. Download de start to run mp3 bestanden en zet ze op uw telefoon. Oortjes in\, hit the play button en en rennen maar! \n\n\n\n\nMeer informatie over Sparrenbosloop op Hardloopkalender.nl  \n  \n  \n 
URL:https://hardloopevenementen.com/loopagenda/sparrenbosloop-boxtel/
END:VEVENT
END:VCALENDAR