BEGIN:VCALENDAR
VERSION:2.0
PRODID:-//Hardloopevenementen - ECPv6.15.14//NONSGML v1.0//EN
CALSCALE:GREGORIAN
METHOD:PUBLISH
X-WR-CALNAME:Hardloopevenementen
X-ORIGINAL-URL:https://hardloopevenementen.com
X-WR-CALDESC:Evenementen voor Hardloopevenementen
REFRESH-INTERVAL;VALUE=DURATION:PT1H
X-Robots-Tag:noindex
X-PUBLISHED-TTL:PT1H
BEGIN:VTIMEZONE
TZID:UTC
BEGIN:STANDARD
TZOFFSETFROM:+0000
TZOFFSETTO:+0000
TZNAME:UTC
DTSTART:20070101T000000
END:STANDARD
END:VTIMEZONE
BEGIN:VEVENT
DTSTART;VALUE=DATE:20100625
DTEND;VALUE=DATE:20100626
DTSTAMP:20260421T141715
CREATED:20171230T140024Z
LAST-MODIFIED:20190423T101042Z
UID:3992-1277424000-1277424000@hardloopevenementen.com
SUMMARY:spartaan estafette Lisse (ZH)
DESCRIPTION:Doe mee met het hardloopevenement spartaan estafette te Lisse (ZH) op vr 25 jun 2010. De volgende afstanden staan op het programma: 5\,1 km hardlopen. Wilt u inschrijven voor dit loopevenement?  Raadpleeg hiervoor dan de website van de organisatie\nDe uitslagen van deze hardloopwedstrijd zijn te raadplegen via dezelfde website of via de bekende websites zoals uitslagen.nl\, runtimer en mylaps. Doet u mee met dit evenement\, zorg dan dat u goed voorbereid aan de start staat! Met een goed trainingsschema komt u een heel eind. Train bijvoorbeeld met start to run van Evy Gruyaert. Download de start to run mp3 bestanden en zet ze op uw telefoon. Oortjes in\, hit the play button en en rennen maar! \n\n\n\n\nMeer informatie over spartaan estafette op Hardloopkalender.nl  \nDit loopevenement wordt georganiseerd door AV De Spartaan.De eerste afstand (of onderdeel) start om 19:00.Het adres van de start en de finish is spekkelaan 1Categorie(ën): mannen\, vrouwen\, jeugdVooraf inschrijven is mogelijk vanaf 01 mei 2010 tot 20 juni 2010.Inschrijven op de dag van de loop is mogelijk (vanaf 18.00) op dit adres: av de spartaan  lisse.Meer informatie:Contactpersoon: r. van loonTel.: 0252415029Email: ro.loon@wxs.nlEr is een kleedaccomodatie aanwezig. Douchen is mogelijk.Het parcours is verhard.Overige bijzonderheden:  Herinnering voor iedere deelnemer \n  \n  \n 
URL:https://hardloopevenementen.com/loopagenda/spartaan-estafette-lisse-zh/
END:VEVENT
BEGIN:VEVENT
DTSTART;VALUE=DATE:20090626
DTEND;VALUE=DATE:20090627
DTSTAMP:20260421T141715
CREATED:20161210T011955Z
LAST-MODIFIED:20190423T100027Z
UID:2109-1245974400-1245974400@hardloopevenementen.com
SUMMARY:14e Spartaan Estafette Lisse (ZH)
DESCRIPTION:Doe mee met het hardloopevenement 14e Spartaan Estafette te Lisse (ZH) op vr 26 jun 2009. De volgende afstanden staan op het programma:  hardlopen. Wilt u inschrijven voor dit loopevenement?  Raadpleeg hiervoor dan de website van de organisatie\nDe uitslagen van deze hardloopwedstrijd zijn te raadplegen via dezelfde website of via de bekende websites zoals uitslagen.nl\, runtimer en mylaps. Doet u mee met dit evenement\, zorg dan dat u goed voorbereid aan de start staat! Met een goed trainingsschema komt u een heel eind. Train bijvoorbeeld met start to run van Evy Gruyaert. Download de start to run mp3 bestanden en zet ze op uw telefoon. Oortjes in\, hit the play button en en rennen maar! \n\n\n\n\nMeer informatie over 14e Spartaan Estafette op Hardloopkalender.nl  \nestafette 19:00 uur \n  \n  \n 
URL:https://hardloopevenementen.com/loopagenda/14e-spartaan-estafette-lisse-zh/
END:VEVENT
BEGIN:VEVENT
DTSTART;VALUE=DATE:20080627
DTEND;VALUE=DATE:20080628
DTSTAMP:20260421T141715
CREATED:20160807T120356Z
LAST-MODIFIED:20190423T094634Z
UID:19484-1214524800-1214524800@hardloopevenementen.com
SUMMARY:13e Spartaan Estafette Lisse
DESCRIPTION:Doe mee met het hardloopevenement 13e Spartaan Estafette te Lisse op vr 27 jun 2008. De volgende afstanden staan op het programma:  hardlopen. Wilt u inschrijven voor dit loopevenement?  Raadpleeg hiervoor dan de website van de organisatie\nDe uitslagen van deze hardloopwedstrijd zijn te raadplegen via dezelfde website of via de bekende websites zoals uitslagen.nl\, runtimer en mylaps. Doet u mee met dit evenement\, zorg dan dat u goed voorbereid aan de start staat! Met een goed trainingsschema komt u een heel eind. Train bijvoorbeeld met start to run van Evy Gruyaert. Download de start to run mp3 bestanden en zet ze op uw telefoon. Oortjes in\, hit the play button en en rennen maar! \n\n\n\n\nMeer informatie over 13e Spartaan Estafette op Hardloopkalender.nl  \nstart  estafette 19:00 uur \n  \n  \n 
URL:https://hardloopevenementen.com/loopagenda/13e-spartaan-estafette-lisse/
END:VEVENT
END:VCALENDAR