BEGIN:VCALENDAR
VERSION:2.0
PRODID:-//Hardloopevenementen - ECPv6.15.14//NONSGML v1.0//EN
CALSCALE:GREGORIAN
METHOD:PUBLISH
X-WR-CALNAME:Hardloopevenementen
X-ORIGINAL-URL:https://hardloopevenementen.com
X-WR-CALDESC:Evenementen voor Hardloopevenementen
REFRESH-INTERVAL;VALUE=DURATION:PT1H
X-Robots-Tag:noindex
X-PUBLISHED-TTL:PT1H
BEGIN:VTIMEZONE
TZID:UTC
BEGIN:STANDARD
TZOFFSETFROM:+0000
TZOFFSETTO:+0000
TZNAME:UTC
DTSTART:20090101T000000
END:STANDARD
END:VTIMEZONE
BEGIN:VEVENT
DTSTART;VALUE=DATE:20141207
DTEND;VALUE=DATE:20141208
DTSTAMP:20260423T061932
CREATED:20151022T070051Z
LAST-MODIFIED:20190423T104855Z
UID:8586-1417910400-1417910400@hardloopevenementen.com
SUMMARY:24e Ter Speckeloop Lisse (ZH)
DESCRIPTION:Doe mee met het hardloopevenement 24e Ter Speckeloop te Lisse (ZH) op zo 07 dec 2014. De volgende afstanden staan op het programma: 1 km – 5 km – 10 km – 15 km hardlopen. Wilt u inschrijven voor dit loopevenement?  Raadpleeg hiervoor dan de website van de organisatie\nDe uitslagen van deze hardloopwedstrijd zijn te raadplegen via dezelfde website of via de bekende websites zoals uitslagen.nl\, runtimer en mylaps. Doet u mee met dit evenement\, zorg dan dat u goed voorbereid aan de start staat! Met een goed trainingsschema komt u een heel eind. Train bijvoorbeeld met start to run van Evy Gruyaert. Download de start to run mp3 bestanden en zet ze op uw telefoon. Oortjes in\, hit the play button en en rennen maar! \n\n\n\n\nMeer informatie over 24e Ter Speckeloop op Hardloopkalender.nl  \nHet loopevenement 24e Ter Speckeloop te Lisse vindt plaats op zondag 07 december 2014. De loop wordt georganisseerd door AV De Spartaan. Klik hier voor het adres van de start (Google Maps). \n  \n  \n 
URL:https://hardloopevenementen.com/loopagenda/24e-ter-speckeloop-lisse-zh/
END:VEVENT
BEGIN:VEVENT
DTSTART;VALUE=DATE:20131201
DTEND;VALUE=DATE:20131202
DTSTAMP:20260423T061932
CREATED:20061216T221423Z
LAST-MODIFIED:20190423T103755Z
UID:8015-1385856000-1385856000@hardloopevenementen.com
SUMMARY:Ter Speckeloop Lisse (ZH)
DESCRIPTION:Doe mee met het hardloopevenement Ter Speckeloop te Lisse (ZH) op zo 01 dec 2013. De volgende afstanden staan op het programma: 5 km – 10 km – 10 Engelse mijl hardlopen. Wilt u inschrijven voor dit loopevenement?  Raadpleeg hiervoor dan de website van de organisatie\nDe uitslagen van deze hardloopwedstrijd zijn te raadplegen via dezelfde website of via de bekende websites zoals uitslagen.nl\, runtimer en mylaps. Doet u mee met dit evenement\, zorg dan dat u goed voorbereid aan de start staat! Met een goed trainingsschema komt u een heel eind. Train bijvoorbeeld met start to run van Evy Gruyaert. Download de start to run mp3 bestanden en zet ze op uw telefoon. Oortjes in\, hit the play button en en rennen maar! \n\n\n\n\nMeer informatie over Ter Speckeloop op Hardloopkalender.nl  \nLopen langs de bollenvelden en in de bossen bij Lisse? Dat kan tijdens de Ter Speckeloop. Naar gelang de afstand die je loopt ren je het parcours één\, twee of driemaal.  Inschrijving	: dag van de loop tussen 09:00 en 10:30 uur \n  \n  \n 
URL:https://hardloopevenementen.com/loopagenda/ter-speckeloop-lisse-zh-2/
END:VEVENT
BEGIN:VEVENT
DTSTART;VALUE=DATE:20101205
DTEND;VALUE=DATE:20101206
DTSTAMP:20260423T061932
CREATED:20180521T011348Z
LAST-MODIFIED:20190423T100608Z
UID:3155-1291507200-1291507200@hardloopevenementen.com
SUMMARY:ter speckeloop Lisse (ZH)
DESCRIPTION:Doe mee met het hardloopevenement ter speckeloop te Lisse (ZH) op zo 05 dec 2010. De volgende afstanden staan op het programma: 2 km – 5 km – 10 km – 15 km hardlopen. Wilt u inschrijven voor dit loopevenement?  Raadpleeg hiervoor dan de website van de organisatie\nDe uitslagen van deze hardloopwedstrijd zijn te raadplegen via dezelfde website of via de bekende websites zoals uitslagen.nl\, runtimer en mylaps. Doet u mee met dit evenement\, zorg dan dat u goed voorbereid aan de start staat! Met een goed trainingsschema komt u een heel eind. Train bijvoorbeeld met start to run van Evy Gruyaert. Download de start to run mp3 bestanden en zet ze op uw telefoon. Oortjes in\, hit the play button en en rennen maar! \n\n\n\n\nMeer informatie over ter speckeloop op Hardloopkalender.nl  \nDit loopevenement wordt georganiseerd door AV De Spartaan.De eerste afstand (of onderdeel) start om 11:00.Het adres van de start en de finish is spekkelaan 1Categorie(ën): mannen\, vrouwen\, jeugdVooraf inschrijven is mogelijk vanaf 05 november 2010 tot 01 december 2010.Inschrijven op de dag van de loop is mogelijk (vanaf 10.00) op dit adres: de spartaan  lisse.Meer informatie:Contactpersoon: r.van loonTel.: 0252415029Email: ro.loon@wxs.nlEr is een kleedaccomodatie aanwezig. Douchen is mogelijk.Het parcours is verhard.Overige bijzonderheden:  Parcours gaat door de mooie parken van tussen Delft en Nootdorp \n  \n  \n 
URL:https://hardloopevenementen.com/loopagenda/ter-speckeloop-lisse-zh/
END:VEVENT
END:VCALENDAR