BEGIN:VCALENDAR
VERSION:2.0
PRODID:-//Hardloopevenementen - ECPv6.15.14//NONSGML v1.0//EN
CALSCALE:GREGORIAN
METHOD:PUBLISH
X-ORIGINAL-URL:https://hardloopevenementen.com
X-WR-CALDESC:Evenementen voor Hardloopevenementen
REFRESH-INTERVAL;VALUE=DURATION:PT1H
X-Robots-Tag:noindex
X-PUBLISHED-TTL:PT1H
BEGIN:VTIMEZONE
TZID:UTC
BEGIN:STANDARD
TZOFFSETFROM:+0000
TZOFFSETTO:+0000
TZNAME:UTC
DTSTART:20110101T000000
END:STANDARD
END:VTIMEZONE
BEGIN:VEVENT
DTSTART;VALUE=DATE:20120619
DTEND;VALUE=DATE:20120620
DTSTAMP:20260424T175740
CREATED:20100505T195950Z
LAST-MODIFIED:20190423T103127Z
UID:28135-1340064000-1340064000@hardloopevenementen.com
SUMMARY:10e Staete Ballonnenloop 's-Hertogenbosch (NB)
DESCRIPTION:Doe mee met het hardloopevenement 10e Staete Ballonnenloop te ‘s-Hertogenbosch (NB) op di 19 jun 2012. De volgende afstanden staan op het programma: 4 km – 10 km hardlopen. Wilt u inschrijven voor dit loopevenement?  Raadpleeg hiervoor dan de website van de organisatie\nDe uitslagen van deze hardloopwedstrijd zijn te raadplegen via dezelfde website of via de bekende websites zoals uitslagen.nl\, runtimer en mylaps. Doet u mee met dit evenement\, zorg dan dat u goed voorbereid aan de start staat! Met een goed trainingsschema komt u een heel eind. Train bijvoorbeeld met start to run van Evy Gruyaert. Download de start to run mp3 bestanden en zet ze op uw telefoon. Oortjes in\, hit the play button en en rennen maar! \n\n\n\n\nMeer informatie over 10e Staete Ballonnenloop op Hardloopkalender.nl  \nTrimloop in mooie omgeving tussen Den Bosch en Sint michielsgestel \n  \n  \n 
URL:https://hardloopevenementen.com/loopagenda/10e-staete-ballonnenloop-s-hertogenbosch-nb/
END:VEVENT
END:VCALENDAR