BEGIN:VCALENDAR
VERSION:2.0
PRODID:-//Hardloopevenementen - ECPv6.15.14//NONSGML v1.0//EN
CALSCALE:GREGORIAN
METHOD:PUBLISH
X-WR-CALNAME:Hardloopevenementen
X-ORIGINAL-URL:https://hardloopevenementen.com
X-WR-CALDESC:Evenementen voor Hardloopevenementen
REFRESH-INTERVAL;VALUE=DURATION:PT1H
X-Robots-Tag:noindex
X-PUBLISHED-TTL:PT1H
BEGIN:VTIMEZONE
TZID:UTC
BEGIN:STANDARD
TZOFFSETFROM:+0000
TZOFFSETTO:+0000
TZNAME:UTC
DTSTART:20110101T000000
END:STANDARD
END:VTIMEZONE
BEGIN:VEVENT
DTSTART;VALUE=DATE:20170923
DTEND;VALUE=DATE:20170924
DTSTAMP:20260420T220208
CREATED:20070914T035636Z
LAST-MODIFIED:20190423T114351Z
UID:14059-1506124800-1506124800@hardloopevenementen.com
SUMMARY:STAPloop Brunssum (LI)
DESCRIPTION:Doe mee met het hardloopevenement STAPloop te Brunssum (LI) op za 23 sep 2017. De volgende afstanden staan op het programma: 3 km – 5 km – 10 km – 12 km hardlopen. Wilt u inschrijven voor dit loopevenement?  Raadpleeg hiervoor dan de website van de organisatie\nDe uitslagen van deze hardloopwedstrijd zijn te raadplegen via dezelfde website of via de bekende websites zoals uitslagen.nl\, runtimer en mylaps. Doet u mee met dit evenement\, zorg dan dat u goed voorbereid aan de start staat! Met een goed trainingsschema komt u een heel eind. Train bijvoorbeeld met start to run van Evy Gruyaert. Download de start to run mp3 bestanden en zet ze op uw telefoon. Oortjes in\, hit the play button en en rennen maar! \n\n\n\n\nMeer informatie over STAPloop op Hardloopkalender.nl  \nDe STAPloop wordt gehouden in het prachtige natuurgebied\, De Brunssummerheide. Start- en finish locatie zijn de sportvelden van Voetbalvereniging Langeberg Brunssum\, gelegen aan de rand van de Brunssummerheide. De STAPloop bestaat uit 4 onderdelen\, een 3 km jeugdloop\, de 5 km trimloop\, de 10 km hoofdloop en de 12 km Team estafetteloop. \n  \n  \n 
URL:https://hardloopevenementen.com/loopagenda/staploop-brunssum-li/
END:VEVENT
BEGIN:VEVENT
DTSTART;VALUE=DATE:20140927
DTEND;VALUE=DATE:20140928
DTSTAMP:20260420T220208
CREATED:20170119T193549Z
LAST-MODIFIED:20190423T105112Z
UID:9079-1411776000-1411776000@hardloopevenementen.com
SUMMARY:19e STAPloop Brunssum (LI)
DESCRIPTION:Doe mee met het hardloopevenement 19e STAPloop te Brunssum (LI) op za 27 sep 2014. De volgende afstanden staan op het programma: 5 km – 10 km hardlopen. Wilt u inschrijven voor dit loopevenement?  Raadpleeg hiervoor dan de website van de organisatie\nDe uitslagen van deze hardloopwedstrijd zijn te raadplegen via dezelfde website of via de bekende websites zoals uitslagen.nl\, runtimer en mylaps. Doet u mee met dit evenement\, zorg dan dat u goed voorbereid aan de start staat! Met een goed trainingsschema komt u een heel eind. Train bijvoorbeeld met start to run van Evy Gruyaert. Download de start to run mp3 bestanden en zet ze op uw telefoon. Oortjes in\, hit the play button en en rennen maar! \n\n\n\n\nMeer informatie over 19e STAPloop op Hardloopkalender.nl  \nHet loopevenement 19e STAPloop te Brunssum vindt plaats op zaterdag 27 september 2014. De loop wordt georganisseerd door STAP Brunssum. Klik hier voor het adres van de start (Google Maps). \n  \n  \n 
URL:https://hardloopevenementen.com/loopagenda/19e-staploop-brunssum-li/
END:VEVENT
BEGIN:VEVENT
DTSTART;VALUE=DATE:20120929
DTEND;VALUE=DATE:20120930
DTSTAMP:20260420T220208
CREATED:20121208T195129Z
LAST-MODIFIED:20190423T102916Z
UID:7672-1348876800-1348876800@hardloopevenementen.com
SUMMARY:STAPloop Brunssum 17e editie Brunssum (LI)
DESCRIPTION:Doe mee met het hardloopevenement STAPloop Brunssum 17e editie te Brunssum (LI) op za 29 sep 2012. De volgende afstanden staan op het programma: 3 km – 5 km – 12 km hardlopen. Wilt u inschrijven voor dit loopevenement?  Raadpleeg hiervoor dan de website van de organisatie\nDe uitslagen van deze hardloopwedstrijd zijn te raadplegen via dezelfde website of via de bekende websites zoals uitslagen.nl\, runtimer en mylaps. Doet u mee met dit evenement\, zorg dan dat u goed voorbereid aan de start staat! Met een goed trainingsschema komt u een heel eind. Train bijvoorbeeld met start to run van Evy Gruyaert. Download de start to run mp3 bestanden en zet ze op uw telefoon. Oortjes in\, hit the play button en en rennen maar! \n\n\n\n\nMeer informatie over STAPloop Brunssum 17e editie op Hardloopkalender.nl  \nDe Staploop is een cross op de Brunsummerheide \n  \n  \n 
URL:https://hardloopevenementen.com/loopagenda/staploop-brunssum-17e-editie-brunssum-li/
END:VEVENT
END:VCALENDAR