BEGIN:VCALENDAR
VERSION:2.0
PRODID:-//Hardloopevenementen - ECPv6.15.14//NONSGML v1.0//EN
CALSCALE:GREGORIAN
METHOD:PUBLISH
X-ORIGINAL-URL:https://hardloopevenementen.com
X-WR-CALDESC:Evenementen voor Hardloopevenementen
REFRESH-INTERVAL;VALUE=DURATION:PT1H
X-Robots-Tag:noindex
X-PUBLISHED-TTL:PT1H
BEGIN:VTIMEZONE
TZID:UTC
BEGIN:STANDARD
TZOFFSETFROM:+0000
TZOFFSETTO:+0000
TZNAME:UTC
DTSTART:20070101T000000
END:STANDARD
END:VTIMEZONE
BEGIN:VEVENT
DTSTART;VALUE=DATE:20160521
DTEND;VALUE=DATE:20160522
DTSTAMP:20260425T155027
CREATED:20060916T184025Z
LAST-MODIFIED:20190423T112512Z
UID:12740-1463788800-1463788800@hardloopevenementen.com
SUMMARY:Statentocht Oenkerk\, gemeente Tytsjerksteradiel (FR)
DESCRIPTION:Doe mee met het hardloopevenement Statentocht te Oenkerk\, gemeente Tytsjerksteradiel (FR) op za 21 mei 2016. De volgende afstanden staan op het programma: 4 km – 5 km – 10 km – 10 Engelse mijl – halve marathon – 30 km hardlopen. Wilt u inschrijven voor dit loopevenement?  Raadpleeg hiervoor dan de website van de organisatie\nDe uitslagen van deze hardloopwedstrijd zijn te raadplegen via dezelfde website of via de bekende websites zoals uitslagen.nl\, runtimer en mylaps. Doet u mee met dit evenement\, zorg dan dat u goed voorbereid aan de start staat! Met een goed trainingsschema komt u een heel eind. Train bijvoorbeeld met start to run van Evy Gruyaert. Download de start to run mp3 bestanden en zet ze op uw telefoon. Oortjes in\, hit the play button en en rennen maar! \n\n\n\n\nMeer informatie over Statentocht op Hardloopkalender.nl  \nHet loopevenement Statentocht te Oenkerk vindt plaats op zaterdag 21 mei 2016. \n  \n  \n 
URL:https://hardloopevenementen.com/loopagenda/statentocht-oenkerk-gemeente-tytsjerksteradiel-fr-2/
END:VEVENT
BEGIN:VEVENT
DTSTART;VALUE=DATE:20150516
DTEND;VALUE=DATE:20150517
DTSTAMP:20260425T155027
CREATED:20130817T182724Z
LAST-MODIFIED:20190423T111219Z
UID:10477-1431734400-1431734400@hardloopevenementen.com
SUMMARY:Statentocht Oenkerk\, gemeente Tytsjerksteradiel (FR)
DESCRIPTION:Doe mee met het hardloopevenement Statentocht te Oenkerk\, gemeente Tytsjerksteradiel (FR) op za 16 mei 2015. De volgende afstanden staan op het programma: 5 km – 10 km – 10 Engelse mijl – halve marathon – 30 km hardlopen. Wilt u inschrijven voor dit loopevenement?  Raadpleeg hiervoor dan de website van de organisatie\nDe uitslagen van deze hardloopwedstrijd zijn te raadplegen via dezelfde website of via de bekende websites zoals uitslagen.nl\, runtimer en mylaps. Doet u mee met dit evenement\, zorg dan dat u goed voorbereid aan de start staat! Met een goed trainingsschema komt u een heel eind. Train bijvoorbeeld met start to run van Evy Gruyaert. Download de start to run mp3 bestanden en zet ze op uw telefoon. Oortjes in\, hit the play button en en rennen maar! \n\n\n\n\nMeer informatie over Statentocht op Hardloopkalender.nl  \nHet loopevenement Statentocht te Oenkerk vindt plaats op zaterdag 16 mei 2015. \n  \n  \n 
URL:https://hardloopevenementen.com/loopagenda/statentocht-oenkerk-gemeente-tytsjerksteradiel-fr/
END:VEVENT
BEGIN:VEVENT
DTSTART;VALUE=DATE:20140517
DTEND;VALUE=DATE:20140518
DTSTAMP:20260425T155027
CREATED:20080813T004906Z
LAST-MODIFIED:20190423T105520Z
UID:34094-1400284800-1400284800@hardloopevenementen.com
SUMMARY:Statentocht Oenkerk\, gemeente Tytsjerksteradiel (FR)
DESCRIPTION:Doe mee met het hardloopevenement Statentocht te Oenkerk\, gemeente Tytsjerksteradiel (FR) op za 17 mei 2014. De volgende afstanden staan op het programma: 2\,5 km – 5 km – 10 km – 10 Engelse mijl – halve marathon – 30 km hardlopen. Wilt u inschrijven voor dit loopevenement?  Raadpleeg hiervoor dan de website van de organisatie\nDe uitslagen van deze hardloopwedstrijd zijn te raadplegen via dezelfde website of via de bekende websites zoals uitslagen.nl\, runtimer en mylaps. Doet u mee met dit evenement\, zorg dan dat u goed voorbereid aan de start staat! Met een goed trainingsschema komt u een heel eind. Train bijvoorbeeld met start to run van Evy Gruyaert. Download de start to run mp3 bestanden en zet ze op uw telefoon. Oortjes in\, hit the play button en en rennen maar! \n\n\n\n\nMeer informatie over Statentocht op Hardloopkalender.nl  \nDe Statentocht te Oenkerk vindt plaats op zaterdag 17 mei 2014.     Het evenement wordt georganisseerd door SV Friesland\, Zorggroep Tellens en SCW BOB     Naast het hardlooponderdeel zijn er ook meerdere afstanden voor wheelers handbikers en afstanden voor wandelaars    Meer informatie en starttijden zie website. \n  \n  \n 
URL:https://hardloopevenementen.com/loopagenda/statentocht-oenkerk-gemeente-tytsjerksteradiel-fr-3/
END:VEVENT
BEGIN:VEVENT
DTSTART;VALUE=DATE:20080517
DTEND;VALUE=DATE:20080518
DTSTAMP:20260425T155027
CREATED:20080220T150202Z
LAST-MODIFIED:20190423T094722Z
UID:19695-1210982400-1210982400@hardloopevenementen.com
SUMMARY:Statentocht Oentsjerk
DESCRIPTION:Doe mee met het hardloopevenement Statentocht te Oentsjerk op za 17 mei 2008. De volgende afstanden staan op het programma: 2\,5 km – 5 km – 10 km – 10 Engelse mijl – halve marathon – 30 km hardlopen. Wilt u inschrijven voor dit loopevenement?  Raadpleeg hiervoor dan de website van de organisatie\nDe uitslagen van deze hardloopwedstrijd zijn te raadplegen via dezelfde website of via de bekende websites zoals uitslagen.nl\, runtimer en mylaps. Doet u mee met dit evenement\, zorg dan dat u goed voorbereid aan de start staat! Met een goed trainingsschema komt u een heel eind. Train bijvoorbeeld met start to run van Evy Gruyaert. Download de start to run mp3 bestanden en zet ze op uw telefoon. Oortjes in\, hit the play button en en rennen maar! \n\n\n\n\nMeer informatie over Statentocht op Hardloopkalender.nl  \ntevens zijn er verschillende afstanden voor het wandelen en nordickwandelen.  2\,5 – 5 – 10 – 16 – 21 – 30 – 40 km.    alle afstanden bestaan uit één ronde    er is verzorging onderweg    er kan zowel met als zonder herinnering gelopen worden.    de routes gaan via de friesche wouden en natuurgebieden \n  \n  \n 
URL:https://hardloopevenementen.com/loopagenda/statentocht-oentsjerk/
END:VEVENT
END:VCALENDAR