BEGIN:VCALENDAR
VERSION:2.0
PRODID:-//Hardloopevenementen - ECPv6.15.14//NONSGML v1.0//EN
CALSCALE:GREGORIAN
METHOD:PUBLISH
X-WR-CALNAME:Hardloopevenementen
X-ORIGINAL-URL:https://hardloopevenementen.com
X-WR-CALDESC:Evenementen voor Hardloopevenementen
REFRESH-INTERVAL;VALUE=DURATION:PT1H
X-Robots-Tag:noindex
X-PUBLISHED-TTL:PT1H
BEGIN:VTIMEZONE
TZID:UTC
BEGIN:STANDARD
TZOFFSETFROM:+0000
TZOFFSETTO:+0000
TZNAME:UTC
DTSTART:20120101T000000
END:STANDARD
END:VTIMEZONE
BEGIN:VEVENT
DTSTART;VALUE=DATE:20180512
DTEND;VALUE=DATE:20180513
DTSTAMP:20260422T001339
CREATED:20130604T032826Z
LAST-MODIFIED:20190423T120506Z
UID:16615-1526083200-1526083200@hardloopevenementen.com
SUMMARY:Steemer Omloop Stedum\, gemeente Loppersum (GR)
DESCRIPTION:Doe mee met het hardloopevenement Steemer Omloop te Stedum\, gemeente Loppersum (GR) op za 12 mei 2018. De volgende afstanden staan op het programma: 5 km – 10 km hardlopen. Wilt u inschrijven voor dit loopevenement?  Raadpleeg hiervoor dan de website van de organisatie\nDe uitslagen van deze hardloopwedstrijd zijn te raadplegen via dezelfde website of via de bekende websites zoals uitslagen.nl\, runtimer en mylaps. Doet u mee met dit evenement\, zorg dan dat u goed voorbereid aan de start staat! Met een goed trainingsschema komt u een heel eind. Train bijvoorbeeld met start to run van Evy Gruyaert. Download de start to run mp3 bestanden en zet ze op uw telefoon. Oortjes in\, hit the play button en en rennen maar! \n\n\n\n\nMeer informatie over Steemer Omloop op Hardloopkalender.nl  \nwedstrijd en recreatief . Om en rond ons prachtig dorp.Start finish gebouw Moarstee. Aanvang 14.00 uur \n  \n  \n 
URL:https://hardloopevenementen.com/loopagenda/steemer-omloop-stedum-gemeente-loppersum-gr-3/
END:VEVENT
BEGIN:VEVENT
DTSTART;VALUE=DATE:20160514
DTEND;VALUE=DATE:20160515
DTSTAMP:20260422T001339
CREATED:20140625T224916Z
LAST-MODIFIED:20190423T112524Z
UID:12790-1463184000-1463184000@hardloopevenementen.com
SUMMARY:Steemer Omloop Stedum\, gemeente Loppersum (GR)
DESCRIPTION:Doe mee met het hardloopevenement Steemer Omloop te Stedum\, gemeente Loppersum (GR) op za 14 mei 2016. De volgende afstanden staan op het programma: 10 km hardlopen. Wilt u inschrijven voor dit loopevenement?  Raadpleeg hiervoor dan de website van de organisatie\nDe uitslagen van deze hardloopwedstrijd zijn te raadplegen via dezelfde website of via de bekende websites zoals uitslagen.nl\, runtimer en mylaps. Doet u mee met dit evenement\, zorg dan dat u goed voorbereid aan de start staat! Met een goed trainingsschema komt u een heel eind. Train bijvoorbeeld met start to run van Evy Gruyaert. Download de start to run mp3 bestanden en zet ze op uw telefoon. Oortjes in\, hit the play button en en rennen maar! \n\n\n\n\nMeer informatie over Steemer Omloop op Hardloopkalender.nl  \nHet loopevenement Steemer Omloop te Stedum vindt plaats op zaterdag 14 mei 2016. \n  \n  \n 
URL:https://hardloopevenementen.com/loopagenda/steemer-omloop-stedum-gemeente-loppersum-gr-2/
END:VEVENT
BEGIN:VEVENT
DTSTART;VALUE=DATE:20150509
DTEND;VALUE=DATE:20150510
DTSTAMP:20260422T001339
CREATED:20090317T203003Z
LAST-MODIFIED:20190423T111231Z
UID:10521-1431129600-1431129600@hardloopevenementen.com
SUMMARY:Steemer Omloop Stedum\, gemeente Loppersum (GR)
DESCRIPTION:Doe mee met het hardloopevenement Steemer Omloop te Stedum\, gemeente Loppersum (GR) op za 09 mei 2015. De volgende afstanden staan op het programma: 10 km hardlopen. Wilt u inschrijven voor dit loopevenement?  Raadpleeg hiervoor dan de website van de organisatie\nDe uitslagen van deze hardloopwedstrijd zijn te raadplegen via dezelfde website of via de bekende websites zoals uitslagen.nl\, runtimer en mylaps. Doet u mee met dit evenement\, zorg dan dat u goed voorbereid aan de start staat! Met een goed trainingsschema komt u een heel eind. Train bijvoorbeeld met start to run van Evy Gruyaert. Download de start to run mp3 bestanden en zet ze op uw telefoon. Oortjes in\, hit the play button en en rennen maar! \n\n\n\n\nMeer informatie over Steemer Omloop op Hardloopkalender.nl  \nHet loopevenement Steemer Omloop te Stedum vindt plaats op zaterdag 09 mei 2015. \n  \n  \n 
URL:https://hardloopevenementen.com/loopagenda/steemer-omloop-stedum-gemeente-loppersum-gr/
END:VEVENT
BEGIN:VEVENT
DTSTART;VALUE=DATE:20130511
DTEND;VALUE=DATE:20130512
DTSTAMP:20260422T001339
CREATED:20160319T165210Z
LAST-MODIFIED:20190423T104253Z
UID:31764-1368230400-1368230400@hardloopevenementen.com
SUMMARY:Steemer omloop Stedum\, gemeente Loppersum (GR)
DESCRIPTION:Doe mee met het hardloopevenement Steemer omloop te Stedum\, gemeente Loppersum (GR) op za 11 mei 2013. De volgende afstanden staan op het programma: 10 km hardlopen. Wilt u inschrijven voor dit loopevenement?  Raadpleeg hiervoor dan de website van de organisatie\nDe uitslagen van deze hardloopwedstrijd zijn te raadplegen via dezelfde website of via de bekende websites zoals uitslagen.nl\, runtimer en mylaps. Doet u mee met dit evenement\, zorg dan dat u goed voorbereid aan de start staat! Met een goed trainingsschema komt u een heel eind. Train bijvoorbeeld met start to run van Evy Gruyaert. Download de start to run mp3 bestanden en zet ze op uw telefoon. Oortjes in\, hit the play button en en rennen maar! \n\n\n\n\nMeer informatie over Steemer omloop op Hardloopkalender.nl  \nHet loopevenement Steemer omloop te Stedum vindt plaats op zaterdag 11 mei 2013. De loop wordt georganisseerd door Ijsclub Stedum . Inschrijven is mogelijk vanaf 11 mei 2013. Klik hier voor het adres van de start (Google Maps).Er is verkleedaccomodatie met douchemogelijkheid aanwezig. Er is EHBO aanwezig. Bijzonderheden: De Steemer omloop valt onder het buurcontactloopcircuit ..Voor meer informatie:P.Slagerslagerp@hetnet.nl0596551972 \n  \n  \n 
URL:https://hardloopevenementen.com/loopagenda/steemer-omloop-stedum-gemeente-loppersum-gr-4/
END:VEVENT
END:VCALENDAR