BEGIN:VCALENDAR
VERSION:2.0
PRODID:-//Hardloopevenementen - ECPv6.15.14//NONSGML v1.0//EN
CALSCALE:GREGORIAN
METHOD:PUBLISH
X-ORIGINAL-URL:https://hardloopevenementen.com
X-WR-CALDESC:Evenementen voor Hardloopevenementen
REFRESH-INTERVAL;VALUE=DURATION:PT1H
X-Robots-Tag:noindex
X-PUBLISHED-TTL:PT1H
BEGIN:VTIMEZONE
TZID:UTC
BEGIN:STANDARD
TZOFFSETFROM:+0000
TZOFFSETTO:+0000
TZNAME:UTC
DTSTART:20160101T000000
END:STANDARD
END:VTIMEZONE
BEGIN:VEVENT
DTSTART;VALUE=DATE:20170520
DTEND;VALUE=DATE:20170521
DTSTAMP:20260424T164834
CREATED:20170106T171321Z
LAST-MODIFIED:20190423T114624Z
UID:14740-1495238400-1495238400@hardloopevenementen.com
SUMMARY:Stellingwerver dorpen estafette Oosterwolde\, gemeente Ooststellingwerf (FR)
DESCRIPTION:Doe mee met het hardloopevenement Stellingwerver dorpen estafette te Oosterwolde\, gemeente Ooststellingwerf (FR) op za 20 mei 2017. De volgende afstanden staan op het programma: 4 km – 7 km hardlopen. Wilt u inschrijven voor dit loopevenement?  Raadpleeg hiervoor dan de website van de organisatie\nDe uitslagen van deze hardloopwedstrijd zijn te raadplegen via dezelfde website of via de bekende websites zoals uitslagen.nl\, runtimer en mylaps. Doet u mee met dit evenement\, zorg dan dat u goed voorbereid aan de start staat! Met een goed trainingsschema komt u een heel eind. Train bijvoorbeeld met start to run van Evy Gruyaert. Download de start to run mp3 bestanden en zet ze op uw telefoon. Oortjes in\, hit the play button en en rennen maar! \n\n\n\n\nMeer informatie over Stellingwerver dorpen estafette op Hardloopkalender.nl  \nEstafette van 4 tot 7 km ( totaal 13 etappes ). Max. 13 deelnemers in estafette. Inschrijving gratis. \n  \n  \n 
URL:https://hardloopevenementen.com/loopagenda/stellingwerver-dorpen-estafette-oosterwolde-gemeente-ooststellingwerf-fr/
END:VEVENT
END:VCALENDAR