BEGIN:VCALENDAR
VERSION:2.0
PRODID:-//Hardloopevenementen - ECPv6.15.14//NONSGML v1.0//EN
CALSCALE:GREGORIAN
METHOD:PUBLISH
X-WR-CALNAME:Hardloopevenementen
X-ORIGINAL-URL:https://hardloopevenementen.com
X-WR-CALDESC:Evenementen voor Hardloopevenementen
REFRESH-INTERVAL;VALUE=DURATION:PT1H
X-Robots-Tag:noindex
X-PUBLISHED-TTL:PT1H
BEGIN:VTIMEZONE
TZID:UTC
BEGIN:STANDARD
TZOFFSETFROM:+0000
TZOFFSETTO:+0000
TZNAME:UTC
DTSTART:20080101T000000
END:STANDARD
END:VTIMEZONE
BEGIN:VEVENT
DTSTART;VALUE=DATE:20090118
DTEND;VALUE=DATE:20090119
DTSTAMP:20260425T134258
CREATED:20141031T025014Z
LAST-MODIFIED:20190423T100357Z
UID:2912-1232236800-1232236800@hardloopevenementen.com
SUMMARY:40e BN-De Stem Mastboscross Breda (NB)
DESCRIPTION:Doe mee met het hardloopevenement 40e BN-De Stem Mastboscross te Breda (NB) op zo 18 jan 2009. De volgende afstanden staan op het programma: 1 km – 7\,5 km hardlopen. Wilt u inschrijven voor dit loopevenement?  Raadpleeg hiervoor dan de website van de organisatie\nDe uitslagen van deze hardloopwedstrijd zijn te raadplegen via dezelfde website of via de bekende websites zoals uitslagen.nl\, runtimer en mylaps. Doet u mee met dit evenement\, zorg dan dat u goed voorbereid aan de start staat! Met een goed trainingsschema komt u een heel eind. Train bijvoorbeeld met start to run van Evy Gruyaert. Download de start to run mp3 bestanden en zet ze op uw telefoon. Oortjes in\, hit the play button en en rennen maar! \n\n\n\n\nMeer informatie over 40e BN-De Stem Mastboscross op Hardloopkalender.nl  \n7\,5 km 10:00 uur\, 1 km 11:00 uur \n  \n  \n 
URL:https://hardloopevenementen.com/loopagenda/40e-bn-de-stem-mastboscross-breda-nb/
END:VEVENT
BEGIN:VEVENT
DTSTART;VALUE=DATE:20090117
DTEND;VALUE=DATE:20090118
DTSTAMP:20260425T134258
CREATED:20090207T154855Z
LAST-MODIFIED:20190423T100359Z
UID:2921-1232150400-1232150400@hardloopevenementen.com
SUMMARY:40e BN De Stem Mastboscross Breda (NB)
DESCRIPTION:Doe mee met het hardloopevenement 40e BN De Stem Mastboscross te Breda (NB) op za 17 jan 2009. De volgende afstanden staan op het programma: 1\,2 km – 1\,7 km – 5 km – 10 km hardlopen. Wilt u inschrijven voor dit loopevenement?  Raadpleeg hiervoor dan de website van de organisatie\nDe uitslagen van deze hardloopwedstrijd zijn te raadplegen via dezelfde website of via de bekende websites zoals uitslagen.nl\, runtimer en mylaps. Doet u mee met dit evenement\, zorg dan dat u goed voorbereid aan de start staat! Met een goed trainingsschema komt u een heel eind. Train bijvoorbeeld met start to run van Evy Gruyaert. Download de start to run mp3 bestanden en zet ze op uw telefoon. Oortjes in\, hit the play button en en rennen maar! \n\n\n\n\nMeer informatie over 40e BN De Stem Mastboscross op Hardloopkalender.nl  \n5 km 9:45 uur\, 10 km 10:15 uur\, 1\,2 km 11:00 uur\, 5 km 11:30 uur\, 10 km 11:35 uur\, 1\,7 km 11:36 uur \n  \n  \n 
URL:https://hardloopevenementen.com/loopagenda/40e-bn-de-stem-mastboscross-breda-nb-2/
END:VEVENT
END:VCALENDAR