BEGIN:VCALENDAR
VERSION:2.0
PRODID:-//Hardloopevenementen - ECPv6.15.14//NONSGML v1.0//EN
CALSCALE:GREGORIAN
METHOD:PUBLISH
X-WR-CALNAME:Hardloopevenementen
X-ORIGINAL-URL:https://hardloopevenementen.com
X-WR-CALDESC:Evenementen voor Hardloopevenementen
REFRESH-INTERVAL;VALUE=DURATION:PT1H
X-Robots-Tag:noindex
X-PUBLISHED-TTL:PT1H
BEGIN:VTIMEZONE
TZID:UTC
BEGIN:STANDARD
TZOFFSETFROM:+0000
TZOFFSETTO:+0000
TZNAME:UTC
DTSTART:20090101T000000
END:STANDARD
END:VTIMEZONE
BEGIN:VEVENT
DTSTART;VALUE=DATE:20110518
DTEND;VALUE=DATE:20110519
DTSTAMP:20260421T041523
CREATED:20081117T000954Z
LAST-MODIFIED:20190423T102136Z
UID:6975-1305676800-1305676800@hardloopevenementen.com
SUMMARY:Strubben Marathon Anloo\, gemeente Aa en Hunze (DR)
DESCRIPTION:Doe mee met het hardloopevenement Strubben Marathon te Anloo\, gemeente Aa en Hunze (DR) op wo 18 mei 2011. De volgende afstanden staan op het programma: halve marathon – marathon hardlopen. Wilt u inschrijven voor dit loopevenement?  Raadpleeg hiervoor dan de website van de organisatie\nDe uitslagen van deze hardloopwedstrijd zijn te raadplegen via dezelfde website of via de bekende websites zoals uitslagen.nl\, runtimer en mylaps. Doet u mee met dit evenement\, zorg dan dat u goed voorbereid aan de start staat! Met een goed trainingsschema komt u een heel eind. Train bijvoorbeeld met start to run van Evy Gruyaert. Download de start to run mp3 bestanden en zet ze op uw telefoon. Oortjes in\, hit the play button en en rennen maar! \n\n\n\n\nMeer informatie over Strubben Marathon op Hardloopkalender.nl  \nStart 11 uur.  Alle afstanden:  5.-   Alleen vooraanmelding! \n  \n  \n 
URL:https://hardloopevenementen.com/loopagenda/strubben-marathon-anloo-gemeente-aa-en-hunze-dr/
END:VEVENT
BEGIN:VEVENT
DTSTART;VALUE=DATE:20110518
DTEND;VALUE=DATE:20110519
DTSTAMP:20260421T041523
CREATED:20080913T053651Z
LAST-MODIFIED:20190423T102136Z
UID:6974-1305676800-1305676800@hardloopevenementen.com
SUMMARY:Strubben Marathon Schipborg\, gemeente Aa en Hunze (DR)
DESCRIPTION:Doe mee met het hardloopevenement Strubben Marathon te Schipborg\, gemeente Aa en Hunze (DR) op wo 18 mei 2011. De volgende afstanden staan op het programma: halve marathon – marathon hardlopen. Wilt u inschrijven voor dit loopevenement?  Raadpleeg hiervoor dan de website van de organisatie\nDe uitslagen van deze hardloopwedstrijd zijn te raadplegen via dezelfde website of via de bekende websites zoals uitslagen.nl\, runtimer en mylaps. Doet u mee met dit evenement\, zorg dan dat u goed voorbereid aan de start staat! Met een goed trainingsschema komt u een heel eind. Train bijvoorbeeld met start to run van Evy Gruyaert. Download de start to run mp3 bestanden en zet ze op uw telefoon. Oortjes in\, hit the play button en en rennen maar! \n\n\n\n\nMeer informatie over Strubben Marathon op Hardloopkalender.nl  \nHet loopevenement Strubben Marathon te Schipborg vindt plaats op woensdag 18 mei 2011. De loop wordt georganiseerd door DFW Runners. Inschrijven is mogelijk vanaf 17 maart 2011. Klik hier voor het adres van de start (Google Maps).Er is geen verkleedaccomodatie aanwezig. Afstand(km)Inschrijfgeld(€)Starttijd42\,2€5\,0011.0021\,1€5\,0011.00Voor meer informatie:R. Kwintronald.kwint@planet.nl0650533314http:  www.dfwrunners.nl \n  \n  \n 
URL:https://hardloopevenementen.com/loopagenda/strubben-marathon-schipborg-gemeente-aa-en-hunze-dr-2/
END:VEVENT
BEGIN:VEVENT
DTSTART;VALUE=DATE:20100602
DTEND;VALUE=DATE:20100603
DTSTAMP:20260421T041523
CREATED:20141220T202703Z
LAST-MODIFIED:20190423T101126Z
UID:4139-1275436800-1275436800@hardloopevenementen.com
SUMMARY:Strubben Marathon Schipborg\, gemeente Aa en Hunze (DR)
DESCRIPTION:Doe mee met het hardloopevenement Strubben Marathon te Schipborg\, gemeente Aa en Hunze (DR) op wo 02 jun 2010. De volgende afstanden staan op het programma: halve marathon – marathon hardlopen. Wilt u inschrijven voor dit loopevenement?  Raadpleeg hiervoor dan de website van de organisatie\nDe uitslagen van deze hardloopwedstrijd zijn te raadplegen via dezelfde website of via de bekende websites zoals uitslagen.nl\, runtimer en mylaps. Doet u mee met dit evenement\, zorg dan dat u goed voorbereid aan de start staat! Met een goed trainingsschema komt u een heel eind. Train bijvoorbeeld met start to run van Evy Gruyaert. Download de start to run mp3 bestanden en zet ze op uw telefoon. Oortjes in\, hit the play button en en rennen maar! \n\n\n\n\nMeer informatie over Strubben Marathon op Hardloopkalender.nl  \nDit loopevenement wordt georganiseerd door DFW Runners.De eerste afstand (of onderdeel) start om 11:00.Het adres van de start en de finish is Bosweg ?Categorie(ën): mannen\, vrouwenVooraf inschrijven is mogelijk vanaf 01 januari 2010 tot 28 oktober 2009.Inschrijven op de dag van de loop is mogelijk (vanaf 18:00 uur) op dit adres: Kantine Rijswijkse Boys  Sportpark De Hoef  Kruisstraat 31  4284 EB Rijswijk.Meer informatie:Contactpersoon: R. KwintTel.: 0650533314Email: ronald.kwint@planet.nlEr is geen kleedaccomodatie aanwezig.Het parcours is deels onverhard.Overige bijzonderheden:  Jeugd start vanaf 19:00 uur \n  \n  \n 
URL:https://hardloopevenementen.com/loopagenda/strubben-marathon-schipborg-gemeente-aa-en-hunze-dr/
END:VEVENT
END:VCALENDAR