BEGIN:VCALENDAR
VERSION:2.0
PRODID:-//Hardloopevenementen - ECPv6.15.14//NONSGML v1.0//EN
CALSCALE:GREGORIAN
METHOD:PUBLISH
X-ORIGINAL-URL:https://hardloopevenementen.com
X-WR-CALDESC:Evenementen voor Hardloopevenementen
REFRESH-INTERVAL;VALUE=DURATION:PT1H
X-Robots-Tag:noindex
X-PUBLISHED-TTL:PT1H
BEGIN:VTIMEZONE
TZID:UTC
BEGIN:STANDARD
TZOFFSETFROM:+0000
TZOFFSETTO:+0000
TZNAME:UTC
DTSTART:20160101T000000
END:STANDARD
END:VTIMEZONE
BEGIN:VEVENT
DTSTART;VALUE=DATE:20190414
DTEND;VALUE=DATE:20190415
DTSTAMP:20260422T003821
CREATED:20130728T140820Z
LAST-MODIFIED:20191114T112707Z
UID:84386-1555200000-1555200000@hardloopevenementen.com
SUMMARY:Ronde van SudwestFryslan Sneek (FR)
DESCRIPTION:Doe mee met het hardloopevenement Ronde van SudwestFryslan te Sneek (FR) op zo 14 apr 2019. De volgende afstanden staan op het programma: 1\,3 km – 5 km – 12 km – halve marathon hardlopen. Wilt u inschrijven voor dit loopevenement?  Raadpleeg hiervoor dan de website van de organisatie\nDe uitslagen van deze hardloopwedstrijd zijn te raadplegen via dezelfde website of via de bekende websites zoals uitslagen.nl\, runtimer en mylaps. Doet u mee met dit evenement\, zorg dan dat u goed voorbereid aan de start staat! Met een goed trainingsschema komt u een heel eind. Train bijvoorbeeld met start to run van Evy Gruyaert. Download de start to run mp3 bestanden en zet ze op uw telefoon. Oortjes in\, hit the play button en en rennen maar! \n\n\n\n\nMeer informatie over Ronde van SudwestFryslan op Hardloopkalender.nl  \n  \n  \n 
URL:https://hardloopevenementen.com/loopagenda/ronde-van-sudwestfryslan-sneek-fr-3/
END:VEVENT
BEGIN:VEVENT
DTSTART;VALUE=DATE:20180408
DTEND;VALUE=DATE:20180409
DTSTAMP:20260422T003821
CREATED:20150628T115253Z
LAST-MODIFIED:20190423T120547Z
UID:16803-1523145600-1523145600@hardloopevenementen.com
SUMMARY:Ronde van SudwestFryslan Sneek (FR)
DESCRIPTION:Doe mee met het hardloopevenement Ronde van SudwestFryslan te Sneek (FR) op zo 08 apr 2018. De volgende afstanden staan op het programma: 1\,3 km – 5 km – 12 km – halve marathon hardlopen. Wilt u inschrijven voor dit loopevenement?  Raadpleeg hiervoor dan de website van de organisatie\nDe uitslagen van deze hardloopwedstrijd zijn te raadplegen via dezelfde website of via de bekende websites zoals uitslagen.nl\, runtimer en mylaps. Doet u mee met dit evenement\, zorg dan dat u goed voorbereid aan de start staat! Met een goed trainingsschema komt u een heel eind. Train bijvoorbeeld met start to run van Evy Gruyaert. Download de start to run mp3 bestanden en zet ze op uw telefoon. Oortjes in\, hit the play button en en rennen maar! \n\n\n\n\nMeer informatie over Ronde van SudwestFryslan op Hardloopkalender.nl  \n  \n  \n 
URL:https://hardloopevenementen.com/loopagenda/ronde-van-sudwestfryslan-sneek-fr-2/
END:VEVENT
BEGIN:VEVENT
DTSTART;VALUE=DATE:20170409
DTEND;VALUE=DATE:20170410
DTSTAMP:20260422T003821
CREATED:20120211T191744Z
LAST-MODIFIED:20190423T114712Z
UID:14958-1491696000-1491696000@hardloopevenementen.com
SUMMARY:Ronde van SudwestFryslan Sneek (FR)
DESCRIPTION:Doe mee met het hardloopevenement Ronde van SudwestFryslan te Sneek (FR) op zo 09 apr 2017. De volgende afstanden staan op het programma: 1\,3 km – 5 km – 12 km – halve marathon hardlopen. Wilt u inschrijven voor dit loopevenement?  Raadpleeg hiervoor dan de website van de organisatie\nDe uitslagen van deze hardloopwedstrijd zijn te raadplegen via dezelfde website of via de bekende websites zoals uitslagen.nl\, runtimer en mylaps. Doet u mee met dit evenement\, zorg dan dat u goed voorbereid aan de start staat! Met een goed trainingsschema komt u een heel eind. Train bijvoorbeeld met start to run van Evy Gruyaert. Download de start to run mp3 bestanden en zet ze op uw telefoon. Oortjes in\, hit the play button en en rennen maar! \n\n\n\n\nMeer informatie over Ronde van SudwestFryslan op Hardloopkalender.nl  \n  \n  \n 
URL:https://hardloopevenementen.com/loopagenda/ronde-van-sudwestfryslan-sneek-fr/
END:VEVENT
END:VCALENDAR