BEGIN:VCALENDAR
VERSION:2.0
PRODID:-//Hardloopevenementen - ECPv6.15.14//NONSGML v1.0//EN
CALSCALE:GREGORIAN
METHOD:PUBLISH
X-WR-CALNAME:Hardloopevenementen
X-ORIGINAL-URL:https://hardloopevenementen.com
X-WR-CALDESC:Evenementen voor Hardloopevenementen
REFRESH-INTERVAL;VALUE=DURATION:PT1H
X-Robots-Tag:noindex
X-PUBLISHED-TTL:PT1H
BEGIN:VTIMEZONE
TZID:UTC
BEGIN:STANDARD
TZOFFSETFROM:+0000
TZOFFSETTO:+0000
TZNAME:UTC
DTSTART:20180101T000000
END:STANDARD
END:VTIMEZONE
BEGIN:VEVENT
DTSTART;VALUE=DATE:20190928
DTEND;VALUE=DATE:20190929
DTSTAMP:20260423T225146
CREATED:20120329T053325Z
LAST-MODIFIED:20191114T112437Z
UID:142389-1569628800-1569628800@hardloopevenementen.com
SUMMARY:Emiels Surfplasrun Krimpen aan den IJssel (ZH)
DESCRIPTION:Doe mee met het hardloopevenement Emiels Surfplasrun te Krimpen aan den IJssel (ZH) op za 28 sep 2019. De volgende afstanden staan op het programma: 5 km – 10 km hardlopen. Wilt u inschrijven voor dit loopevenement?  Raadpleeg hiervoor dan de website van de organisatie\nDe uitslagen van deze hardloopwedstrijd zijn te raadplegen via dezelfde website of via de bekende websites zoals uitslagen.nl\, runtimer en mylaps. Doet u mee met dit evenement\, zorg dan dat u goed voorbereid aan de start staat! Met een goed trainingsschema komt u een heel eind. Train bijvoorbeeld met start to run van Evy Gruyaert. Download de start to run mp3 bestanden en zet ze op uw telefoon. Oortjes in\, hit the play button en en rennen maar! \n\n\n\n\nMeer informatie over Emiels Surfplasrun op Hardloopkalender.nl  \nDeze mooie loop wordt georganiseerd om geld in te zamelen voor een specifieke vorm van kanker\, waaraan 1 van onze oud-leden onlangs is overleden. De gehele opbrengst gaat naar het goede doel\, voor meer informatie zie de website. Kleedgeledenheid \, douches\, een gezellige bar\, professionele organisatie met electronische tijdsregistratie\, aanwezig. \n  \n  \n 
URL:https://hardloopevenementen.com/loopagenda/emiels-surfplasrun-krimpen-aan-den-ijssel-zh/
END:VEVENT
END:VCALENDAR