BEGIN:VCALENDAR
VERSION:2.0
PRODID:-//Hardloopevenementen - ECPv6.15.14//NONSGML v1.0//EN
CALSCALE:GREGORIAN
METHOD:PUBLISH
X-WR-CALNAME:Hardloopevenementen
X-ORIGINAL-URL:https://hardloopevenementen.com
X-WR-CALDESC:Evenementen voor Hardloopevenementen
REFRESH-INTERVAL;VALUE=DURATION:PT1H
X-Robots-Tag:noindex
X-PUBLISHED-TTL:PT1H
BEGIN:VTIMEZONE
TZID:UTC
BEGIN:STANDARD
TZOFFSETFROM:+0000
TZOFFSETTO:+0000
TZNAME:UTC
DTSTART:20070101T000000
END:STANDARD
END:VTIMEZONE
BEGIN:VEVENT
DTSTART;VALUE=DATE:20181202
DTEND;VALUE=DATE:20181203
DTSTAMP:20260423T140714
CREATED:20140329T052520Z
LAST-MODIFIED:20190423T120116Z
UID:15585-1543708800-1543708800@hardloopevenementen.com
SUMMARY:Surpriseloop 2018 van AC Olympia Halsteren\, gemeente Bergen op Zoom (NB)
DESCRIPTION:Doe mee met het hardloopevenement Surpriseloop 2018 van AC Olympia te Halsteren\, gemeente Bergen op Zoom (NB) op zo 02 dec 2018. De volgende afstanden staan op het programma: 1 km – 5 km – 10 km hardlopen. Wilt u inschrijven voor dit loopevenement?  Raadpleeg hiervoor dan de website van de organisatie\nDe uitslagen van deze hardloopwedstrijd zijn te raadplegen via dezelfde website of via de bekende websites zoals uitslagen.nl\, runtimer en mylaps. Doet u mee met dit evenement\, zorg dan dat u goed voorbereid aan de start staat! Met een goed trainingsschema komt u een heel eind. Train bijvoorbeeld met start to run van Evy Gruyaert. Download de start to run mp3 bestanden en zet ze op uw telefoon. Oortjes in\, hit the play button en en rennen maar! \n\n\n\n\nMeer informatie over Surpriseloop 2018 van AC Olympia op Hardloopkalender.nl  \nDe Surpriseloop vindt plaats in natuurgebied De Melanen. Natuurlijk komt de Sint een kijkje nemen met wat lekkers voor de jeugd!!    Mooie recreatieve loop om en door de Melanen. Inschrijven binnen bij Monkey Town\, start   finish op P terrein achter Monkey Town\, GEEN KLEEDGELEGENHEID\, GEEN DOUCHES \n  \n  \n 
URL:https://hardloopevenementen.com/loopagenda/surpriseloop-2018-van-ac-olympia-halsteren-gemeente-bergen-op-zoom-nb/
END:VEVENT
BEGIN:VEVENT
DTSTART;VALUE=DATE:20151129
DTEND;VALUE=DATE:20151130
DTSTAMP:20260423T140714
CREATED:20101202T124848Z
LAST-MODIFIED:20190423T110707Z
UID:9313-1448755200-1448755200@hardloopevenementen.com
SUMMARY:Surpriseloop van AC Olympia Halsteren\, gemeente Bergen op Zoom (NB)
DESCRIPTION:Doe mee met het hardloopevenement Surpriseloop van AC Olympia te Halsteren\, gemeente Bergen op Zoom (NB) op zo 29 nov 2015. De volgende afstanden staan op het programma: 1\,3 km – 2\,5 km – 5 km – 10 km hardlopen. Wilt u inschrijven voor dit loopevenement?  Raadpleeg hiervoor dan de website van de organisatie\nDe uitslagen van deze hardloopwedstrijd zijn te raadplegen via dezelfde website of via de bekende websites zoals uitslagen.nl\, runtimer en mylaps. Doet u mee met dit evenement\, zorg dan dat u goed voorbereid aan de start staat! Met een goed trainingsschema komt u een heel eind. Train bijvoorbeeld met start to run van Evy Gruyaert. Download de start to run mp3 bestanden en zet ze op uw telefoon. Oortjes in\, hit the play button en en rennen maar! \n\n\n\n\nMeer informatie over Surpriseloop van AC Olympia op Hardloopkalender.nl  \nHet loopevenement Surpriseloop van AC Olympia te Halsteren  vindt plaats op zondag 29 november 2015. \n  \n  \n 
URL:https://hardloopevenementen.com/loopagenda/surpriseloop-van-ac-olympia-halsteren-gemeente-bergen-op-zoom-nb-4/
END:VEVENT
BEGIN:VEVENT
DTSTART;VALUE=DATE:20141123
DTEND;VALUE=DATE:20141124
DTSTAMP:20260423T140714
CREATED:20071110T151022Z
LAST-MODIFIED:20190423T104916Z
UID:8659-1416700800-1416700800@hardloopevenementen.com
SUMMARY:Surpriseloop van AC Olympia Halsteren\, gemeente Bergen op Zoom (NB)
DESCRIPTION:Doe mee met het hardloopevenement Surpriseloop van AC Olympia te Halsteren\, gemeente Bergen op Zoom (NB) op zo 23 nov 2014. De volgende afstanden staan op het programma: 1\,3 km – 2\,5 km – 5 km – 10 km hardlopen. Wilt u inschrijven voor dit loopevenement?  Raadpleeg hiervoor dan de website van de organisatie\nDe uitslagen van deze hardloopwedstrijd zijn te raadplegen via dezelfde website of via de bekende websites zoals uitslagen.nl\, runtimer en mylaps. Doet u mee met dit evenement\, zorg dan dat u goed voorbereid aan de start staat! Met een goed trainingsschema komt u een heel eind. Train bijvoorbeeld met start to run van Evy Gruyaert. Download de start to run mp3 bestanden en zet ze op uw telefoon. Oortjes in\, hit the play button en en rennen maar! \n\n\n\n\nMeer informatie over Surpriseloop van AC Olympia op Hardloopkalender.nl  \nHet loopevenement Surpriseloop van AC Olympia te Halsteren  vindt plaats op zondag 23 november 2014. De loop wordt georganisseerd door AC Olympia (Halsteren). Klik hier voor het adres van de start (Google Maps).Bijzonderheden: Gezellige loop voor jong en oud in natuurgebied de Melanen. de SINT KOMT ook !. \n  \n  \n 
URL:https://hardloopevenementen.com/loopagenda/surpriseloop-van-ac-olympia-halsteren-gemeente-bergen-op-zoom-nb-3/
END:VEVENT
BEGIN:VEVENT
DTSTART;VALUE=DATE:20131201
DTEND;VALUE=DATE:20131202
DTSTAMP:20260423T140714
CREATED:20110414T135639Z
LAST-MODIFIED:20190423T103753Z
UID:8007-1385856000-1385856000@hardloopevenementen.com
SUMMARY:Surpriseloop van AC Olympia Halsteren\, gemeente Bergen op Zoom (NB)
DESCRIPTION:Doe mee met het hardloopevenement Surpriseloop van AC Olympia te Halsteren\, gemeente Bergen op Zoom (NB) op zo 01 dec 2013. De volgende afstanden staan op het programma: 1\,2 km – 2\,5 km – 5 km – 10 km hardlopen. Wilt u inschrijven voor dit loopevenement?  Raadpleeg hiervoor dan de website van de organisatie\nDe uitslagen van deze hardloopwedstrijd zijn te raadplegen via dezelfde website of via de bekende websites zoals uitslagen.nl\, runtimer en mylaps. Doet u mee met dit evenement\, zorg dan dat u goed voorbereid aan de start staat! Met een goed trainingsschema komt u een heel eind. Train bijvoorbeeld met start to run van Evy Gruyaert. Download de start to run mp3 bestanden en zet ze op uw telefoon. Oortjes in\, hit the play button en en rennen maar! \n\n\n\n\nMeer informatie over Surpriseloop van AC Olympia op Hardloopkalender.nl  \nHet loopevenement Surpriseloop van AC Olympia te Halsteren vindt plaats op zondag 01 december 2013. De loop wordt georganisseerd door AC Olympia (Halsteren). Inschrijven is mogelijk vanaf 01 december 2013. Klik hier voor het adres van de start (Google Maps).Er is verkleedaccomodatie met douchemogelijkheid aanwezig. Er is EHBO aanwezig. Bijzonderheden: Gezellige\, sportieve loop in natuurgebied de Melanen met bezoek van de Sint! .Voor meer informatie:Coordinator Melanenlopen\,  Henk Bevelanderhenk-ina@ziggo.nl0164686630http:  www.olympia-halsteren.nl \n  \n  \n 
URL:https://hardloopevenementen.com/loopagenda/surpriseloop-van-ac-olympia-halsteren-gemeente-bergen-op-zoom-nb-2/
END:VEVENT
BEGIN:VEVENT
DTSTART;VALUE=DATE:20121202
DTEND;VALUE=DATE:20121203
DTSTAMP:20260423T140714
CREATED:20080819T052338Z
LAST-MODIFIED:20190423T102721Z
UID:7242-1354406400-1354406400@hardloopevenementen.com
SUMMARY:Surpriseloop van AC Olympia Halsteren\, gemeente Bergen op Zoom (NB)
DESCRIPTION:Doe mee met het hardloopevenement Surpriseloop van AC Olympia te Halsteren\, gemeente Bergen op Zoom (NB) op zo 02 dec 2012. De volgende afstanden staan op het programma: 1\,2 km – 2\,5 km – 5 km – 10 km hardlopen. Wilt u inschrijven voor dit loopevenement?  Raadpleeg hiervoor dan de website van de organisatie\nDe uitslagen van deze hardloopwedstrijd zijn te raadplegen via dezelfde website of via de bekende websites zoals uitslagen.nl\, runtimer en mylaps. Doet u mee met dit evenement\, zorg dan dat u goed voorbereid aan de start staat! Met een goed trainingsschema komt u een heel eind. Train bijvoorbeeld met start to run van Evy Gruyaert. Download de start to run mp3 bestanden en zet ze op uw telefoon. Oortjes in\, hit the play button en en rennen maar! \n\n\n\n\nMeer informatie over Surpriseloop van AC Olympia op Hardloopkalender.nl  \nHet loopevenement Surpriseloop van AC Olympia te Halsteren  vindt plaats op zondag 02 december 2012. De loop wordt georganiseerd door AC Olympia (Halsteren). Inschrijven is mogelijk op de dag zelf. Klik hier voor het adres van de start (Google Maps).Er is EHBO aanwezig. Afstand SoortloopInschrijfgeldStarttijdInfo1.2 km2\,0010.002.5 km3\,0010.155 km3\,0010.157.5 km3\,0010.1510 km3\,0010.15Voor meer informatie:Voorzitter  AC Olympiahenk-ina@ziggo.nl0164686630http:  olympia-halsteren.nl \n  \n  \n 
URL:https://hardloopevenementen.com/loopagenda/surpriseloop-van-ac-olympia-halsteren-gemeente-bergen-op-zoom-nb/
END:VEVENT
BEGIN:VEVENT
DTSTART;VALUE=DATE:20111204
DTEND;VALUE=DATE:20111205
DTSTAMP:20260423T140714
CREATED:20080923T224805Z
LAST-MODIFIED:20190423T101648Z
UID:5858-1322956800-1322956800@hardloopevenementen.com
SUMMARY:Surpriseloop Halsteren\, gemeente Bergen op Zoom (NB)
DESCRIPTION:Doe mee met het hardloopevenement Surpriseloop te Halsteren\, gemeente Bergen op Zoom (NB) op zo 04 dec 2011. De volgende afstanden staan op het programma: 1\,2 km – 2\,5 km – 5 km – 7\,5 km – 10 km hardlopen. Wilt u inschrijven voor dit loopevenement?  Raadpleeg hiervoor dan de website van de organisatie\nDe uitslagen van deze hardloopwedstrijd zijn te raadplegen via dezelfde website of via de bekende websites zoals uitslagen.nl\, runtimer en mylaps. Doet u mee met dit evenement\, zorg dan dat u goed voorbereid aan de start staat! Met een goed trainingsschema komt u een heel eind. Train bijvoorbeeld met start to run van Evy Gruyaert. Download de start to run mp3 bestanden en zet ze op uw telefoon. Oortjes in\, hit the play button en en rennen maar! \n\n\n\n\nMeer informatie over Surpriseloop op Hardloopkalender.nl  \nHet loopevenement Surpriseloop te Halsteren  vindt plaats op zondag 04 december 2011. De loop wordt georganiseerd door AC Olympia (Halsteren). Inschrijven is mogelijk vanaf 04 december 2011. Klik hier voor het adres van de start (Google Maps).Er is verkleedaccomodatie met douchemogelijkheid aanwezig. Er is EHBO aanwezig. Afstand(km)Inschrijfgeld(€)Starttijd1\,2€2\,0010.002\,5-5\,0-7\,5-10€4\,0010.15Voor meer informatie:Piet Schijfp.f.schijf@home.nl0164684779http:  olympia-halsteren.nl \n  \n  \n 
URL:https://hardloopevenementen.com/loopagenda/surpriseloop-halsteren-gemeente-bergen-op-zoom-nb-3/
END:VEVENT
BEGIN:VEVENT
DTSTART;VALUE=DATE:20101205
DTEND;VALUE=DATE:20101206
DTSTAMP:20260423T140714
CREATED:20181120T103833Z
LAST-MODIFIED:20190423T100603Z
UID:3142-1291507200-1291507200@hardloopevenementen.com
SUMMARY:Surpriseloop Halsteren\, gemeente Bergen op Zoom (NB)
DESCRIPTION:Doe mee met het hardloopevenement Surpriseloop te Halsteren\, gemeente Bergen op Zoom (NB) op zo 05 dec 2010. De volgende afstanden staan op het programma: 1\,2 km – 2\,5 km – 5 km – 7\,5 km – 10 km hardlopen. Wilt u inschrijven voor dit loopevenement?  Raadpleeg hiervoor dan de website van de organisatie\nDe uitslagen van deze hardloopwedstrijd zijn te raadplegen via dezelfde website of via de bekende websites zoals uitslagen.nl\, runtimer en mylaps. Doet u mee met dit evenement\, zorg dan dat u goed voorbereid aan de start staat! Met een goed trainingsschema komt u een heel eind. Train bijvoorbeeld met start to run van Evy Gruyaert. Download de start to run mp3 bestanden en zet ze op uw telefoon. Oortjes in\, hit the play button en en rennen maar! \n\n\n\n\nMeer informatie over Surpriseloop op Hardloopkalender.nl  \nDit loopevenement wordt georganiseerd door AC Olympia (Halsteren).De eerste afstand (of onderdeel) start om 10:00.Het adres van de start is Langstraat 5A Het adres van de finish is Langstraat5ACategorie(ën): mannen\, vrouwen\, jeugdVooraf inschrijven is mogelijk vanaf 05 december 2010 tot niet van toepassing.Inschrijven op de dag van de loop is mogelijk (vanaf 08.45 uur) op dit adres: Tennis en Businesscentrum De Melanen  Langstraat 5a  4661 SE Halsteren  0164 – 68 23 84.Meer informatie:Contactpersoon: Piet SchijfTel.: 0164684779Email: p.f.schijf@home.nlEr is een kleedaccomodatie aanwezig. Douchen is mogelijk.Het parcours is verhard.Overige bijzonderheden:  Sfeervolle recreatieve wedstrijd door buitengebied van De Lutte \n  \n  \n 
URL:https://hardloopevenementen.com/loopagenda/surpriseloop-halsteren-gemeente-bergen-op-zoom-nb-2/
END:VEVENT
BEGIN:VEVENT
DTSTART;VALUE=DATE:20091129
DTEND;VALUE=DATE:20091130
DTSTAMP:20260423T140714
CREATED:20140816T092801Z
LAST-MODIFIED:20190423T095656Z
UID:1395-1259452800-1259452800@hardloopevenementen.com
SUMMARY:Surpriseloop Halsteren\, gemeente Bergen op Zoom (NB)
DESCRIPTION:Doe mee met het hardloopevenement Surpriseloop te Halsteren\, gemeente Bergen op Zoom (NB) op zo 29 nov 2009. De volgende afstanden staan op het programma: 2\,5 km – 5 km – 7\,5 km – 10 km hardlopen. Wilt u inschrijven voor dit loopevenement?  Raadpleeg hiervoor dan de website van de organisatie\nDe uitslagen van deze hardloopwedstrijd zijn te raadplegen via dezelfde website of via de bekende websites zoals uitslagen.nl\, runtimer en mylaps. Doet u mee met dit evenement\, zorg dan dat u goed voorbereid aan de start staat! Met een goed trainingsschema komt u een heel eind. Train bijvoorbeeld met start to run van Evy Gruyaert. Download de start to run mp3 bestanden en zet ze op uw telefoon. Oortjes in\, hit the play button en en rennen maar! \n\n\n\n\nMeer informatie over Surpriseloop op Hardloopkalender.nl  \n2\,5-5-7\,5-10 km 10:00 uur \n  \n  \n 
URL:https://hardloopevenementen.com/loopagenda/surpriseloop-halsteren-gemeente-bergen-op-zoom-nb/
END:VEVENT
BEGIN:VEVENT
DTSTART;VALUE=DATE:20081130
DTEND;VALUE=DATE:20081201
DTSTAMP:20260423T140714
CREATED:20120906T135604Z
LAST-MODIFIED:20190423T094354Z
UID:991-1228003200-1228003200@hardloopevenementen.com
SUMMARY:Surpriseloop Halsteren
DESCRIPTION:Doe mee met het hardloopevenement Surpriseloop te Halsteren op zo 30 nov 2008. De volgende afstanden staan op het programma: 2\,5 km – 5 km – 7\,5 km – 10 km hardlopen. Wilt u inschrijven voor dit loopevenement?  Raadpleeg hiervoor dan de website van de organisatie\nDe uitslagen van deze hardloopwedstrijd zijn te raadplegen via dezelfde website of via de bekende websites zoals uitslagen.nl\, runtimer en mylaps. Doet u mee met dit evenement\, zorg dan dat u goed voorbereid aan de start staat! Met een goed trainingsschema komt u een heel eind. Train bijvoorbeeld met start to run van Evy Gruyaert. Download de start to run mp3 bestanden en zet ze op uw telefoon. Oortjes in\, hit the play button en en rennen maar! \n\n\n\n\nMeer informatie over Surpriseloop op Hardloopkalender.nl  \nstart 2\,5-5-7\,5-10 km 10:00 uur \n  \n  \n 
URL:https://hardloopevenementen.com/loopagenda/surpriseloop-halsteren/
END:VEVENT
END:VCALENDAR