BEGIN:VCALENDAR
VERSION:2.0
PRODID:-//Hardloopevenementen - ECPv6.15.14//NONSGML v1.0//EN
CALSCALE:GREGORIAN
METHOD:PUBLISH
X-ORIGINAL-URL:https://hardloopevenementen.com
X-WR-CALDESC:Evenementen voor Hardloopevenementen
REFRESH-INTERVAL;VALUE=DURATION:PT1H
X-Robots-Tag:noindex
X-PUBLISHED-TTL:PT1H
BEGIN:VTIMEZONE
TZID:UTC
BEGIN:STANDARD
TZOFFSETFROM:+0000
TZOFFSETTO:+0000
TZNAME:UTC
DTSTART:20120101T000000
END:STANDARD
END:VTIMEZONE
BEGIN:VEVENT
DTSTART;VALUE=DATE:20130609
DTEND;VALUE=DATE:20130610
DTSTAMP:20260424T134550
CREATED:20130227T071157Z
LAST-MODIFIED:20190423T104218Z
UID:31624-1370736000-1370736000@hardloopevenementen.com
SUMMARY:Capital Survival Run Amsterdam (NH)
DESCRIPTION:Doe mee met het hardloopevenement Capital Survival Run te Amsterdam (NH) op zo 09 jun 2013. De volgende afstanden staan op het programma: 5 km hardlopen. Wilt u inschrijven voor dit loopevenement?  Raadpleeg hiervoor dan de website van de organisatie\nDe uitslagen van deze hardloopwedstrijd zijn te raadplegen via dezelfde website of via de bekende websites zoals uitslagen.nl\, runtimer en mylaps. Doet u mee met dit evenement\, zorg dan dat u goed voorbereid aan de start staat! Met een goed trainingsschema komt u een heel eind. Train bijvoorbeeld met start to run van Evy Gruyaert. Download de start to run mp3 bestanden en zet ze op uw telefoon. Oortjes in\, hit the play button en en rennen maar! \n\n\n\n\nMeer informatie over Capital Survival Run op Hardloopkalender.nl  \nDe Capital Survival Run is een hardloopwedstrijd\, waarbij de deelnemers een parcours van circa 5 kilometer met 11 obstakels moeten afleggen. Door de combinatie van de obstakels en de afstand wordt dit een zware run\, waarbij de deelnemers verschillende spiergroepen zullen aanspannen. Na dit evenement worden de deelnemers en de bezoekers uitnodigt om te proosten op de winnaars in een nabijgelegen café. De obstakels bestaan uit verschillende materialen waarbij er rekening is gehouden met de veiligheid van de lopers en eventuele reclame doeleindes. De sponsoren worden in de gelegenheid gesteld om obstakels te sponsoren om zo hun naamsbekendheid in Amsterdam te vergroten. De run is uitermate geschikt voor mensen die willen laten zien hoe sportief zij zijn\, maar ook voor Amsterdamse bedrijven die hun imago willen opfrissen. \n  \n  \n 
URL:https://hardloopevenementen.com/loopagenda/capital-survival-run-amsterdam-nh/
END:VEVENT
END:VCALENDAR