BEGIN:VCALENDAR
VERSION:2.0
PRODID:-//Hardloopevenementen - ECPv6.15.14//NONSGML v1.0//EN
CALSCALE:GREGORIAN
METHOD:PUBLISH
X-ORIGINAL-URL:https://hardloopevenementen.com
X-WR-CALDESC:Evenementen voor Hardloopevenementen
REFRESH-INTERVAL;VALUE=DURATION:PT1H
X-Robots-Tag:noindex
X-PUBLISHED-TTL:PT1H
BEGIN:VTIMEZONE
TZID:UTC
BEGIN:STANDARD
TZOFFSETFROM:+0000
TZOFFSETTO:+0000
TZNAME:UTC
DTSTART:20160101T000000
END:STANDARD
END:VTIMEZONE
BEGIN:VEVENT
DTSTART;VALUE=DATE:20180325
DTEND;VALUE=DATE:20180326
DTSTAMP:20260421T165108
CREATED:20131031T231138Z
LAST-MODIFIED:20190423T120603Z
UID:16872-1521936000-1521936000@hardloopevenementen.com
SUMMARY:SweepAway Run Almere-Buiten\, gemeente Almere (FL)
DESCRIPTION:Doe mee met het hardloopevenement SweepAway Run te Almere-Buiten\, gemeente Almere (FL) op zo 25 mrt 2018. De volgende afstanden staan op het programma: 5 km hardlopen. Wilt u inschrijven voor dit loopevenement?  Raadpleeg hiervoor dan de website van de organisatie\nDe uitslagen van deze hardloopwedstrijd zijn te raadplegen via dezelfde website of via de bekende websites zoals uitslagen.nl\, runtimer en mylaps. Doet u mee met dit evenement\, zorg dan dat u goed voorbereid aan de start staat! Met een goed trainingsschema komt u een heel eind. Train bijvoorbeeld met start to run van Evy Gruyaert. Download de start to run mp3 bestanden en zet ze op uw telefoon. Oortjes in\, hit the play button en en rennen maar! \n\n\n\n\nMeer informatie over SweepAway Run op Hardloopkalender.nl  \nHou je van hardlopen maar ook altijd al onze SweepAway onderdelen willen spelen? Dan is dit je kans! Dit jaar is die er opnieuw: De SweepAway run. Een hardloopwedstrijd waarbij plezier en uitdaging voorop staat. Je gaat in ongeveer 5 kilometer verschillende rondjes lopen maar tussendoor doe je de SweepAway spellen. \n  \n  \n 
URL:https://hardloopevenementen.com/loopagenda/sweepaway-run-almere-buiten-gemeente-almere-fl/
END:VEVENT
BEGIN:VEVENT
DTSTART;VALUE=DATE:20170408
DTEND;VALUE=DATE:20170409
DTSTAMP:20260421T165108
CREATED:20131121T070624Z
LAST-MODIFIED:20190423T114716Z
UID:14979-1491609600-1491609600@hardloopevenementen.com
SUMMARY:SweepAway Run Almere (FL)
DESCRIPTION:Doe mee met het hardloopevenement SweepAway Run te Almere (FL) op za 08 apr 2017. De volgende afstanden staan op het programma: 4 km hardlopen. Wilt u inschrijven voor dit loopevenement?  Raadpleeg hiervoor dan de website van de organisatie\nDe uitslagen van deze hardloopwedstrijd zijn te raadplegen via dezelfde website of via de bekende websites zoals uitslagen.nl\, runtimer en mylaps. Doet u mee met dit evenement\, zorg dan dat u goed voorbereid aan de start staat! Met een goed trainingsschema komt u een heel eind. Train bijvoorbeeld met start to run van Evy Gruyaert. Download de start to run mp3 bestanden en zet ze op uw telefoon. Oortjes in\, hit the play button en en rennen maar! \n\n\n\n\nMeer informatie over SweepAway Run op Hardloopkalender.nl  \nDe SweepAway Run is een obstacle run van 4 km met onderweg 7 obstakels deze run is voor iedereen te doen het gaat er om dat we met z’n allen de finish te halen. Een leuke\, gezellige en sportieve hardloopwedstrijd. voor maar 7\,50 p.p \n  \n  \n 
URL:https://hardloopevenementen.com/loopagenda/sweepaway-run-almere-fl/
END:VEVENT
END:VCALENDAR