BEGIN:VCALENDAR
VERSION:2.0
PRODID:-//Hardloopevenementen - ECPv6.15.14//NONSGML v1.0//EN
CALSCALE:GREGORIAN
METHOD:PUBLISH
X-WR-CALNAME:Hardloopevenementen
X-ORIGINAL-URL:https://hardloopevenementen.com
X-WR-CALDESC:Evenementen voor Hardloopevenementen
REFRESH-INTERVAL;VALUE=DURATION:PT1H
X-Robots-Tag:noindex
X-PUBLISHED-TTL:PT1H
BEGIN:VTIMEZONE
TZID:UTC
BEGIN:STANDARD
TZOFFSETFROM:+0000
TZOFFSETTO:+0000
TZNAME:UTC
DTSTART:20090101T000000
END:STANDARD
END:VTIMEZONE
BEGIN:VEVENT
DTSTART;VALUE=DATE:20140726
DTEND;VALUE=DATE:20140727
DTSTAMP:20260425T033359
CREATED:20151018T035448Z
LAST-MODIFIED:20190423T105305Z
UID:33590-1406332800-1406332800@hardloopevenementen.com
SUMMARY:VTM Telecomloop Maasdijk\, gemeente Westland (ZH)
DESCRIPTION:Doe mee met het hardloopevenement VTM Telecomloop te Maasdijk\, gemeente Westland (ZH) op za 26 jul 2014. De volgende afstanden staan op het programma: 5 km – 10 km hardlopen. Wilt u inschrijven voor dit loopevenement?  Raadpleeg hiervoor dan de website van de organisatie\nDe uitslagen van deze hardloopwedstrijd zijn te raadplegen via dezelfde website of via de bekende websites zoals uitslagen.nl\, runtimer en mylaps. Doet u mee met dit evenement\, zorg dan dat u goed voorbereid aan de start staat! Met een goed trainingsschema komt u een heel eind. Train bijvoorbeeld met start to run van Evy Gruyaert. Download de start to run mp3 bestanden en zet ze op uw telefoon. Oortjes in\, hit the play button en en rennen maar! \n\n\n\n\nMeer informatie over VTM Telecomloop op Hardloopkalender.nl  \nDe gezelligste hardloopwedstrijd van het Westland is op 26 juli 2014 in Maasdijk. De VTM Telecomloop vindt plaats over de afstand van 10 kilometer dat loopt over een gevarieerd parcours in en rondom Maasdijk. Wie liever kiest voor de afstand van 5 km is van harte welkom bij de Kester & Partnersloop.   Deelnemers lopen over een snel en verkeersvrij parcours en ontvangen na de eindstreep een uitstekende verzorging op het sfeervolle finishveld. Zoals gebruikelijk ontvangt iedere deelnemer aan de VTM Telecomloop of de Kester & Partnersloop een fraai en origineel runningshirt als herinnering.    De jeugd kan weer gezellig meedoen met de Beekenkamp Jeugdloop. Voor het Dael Sportief Wandelen zijn mooie routes uitgezet van 10\, 25 en 40 km. En natuurlijk is er na afloop weer een sfeervolle verloting op het Spektakelplein van Maasdijk. Dit jaar worden de wedstrijden gelijktijdig gehouden met het Zomerspektakel Maasdijk wat zal bijdragen aan een nog leuker en completer evenement. \n  \n  \n 
URL:https://hardloopevenementen.com/loopagenda/vtm-telecomloop-maasdijk-gemeente-westland-zh-7/
END:VEVENT
BEGIN:VEVENT
DTSTART;VALUE=DATE:20130608
DTEND;VALUE=DATE:20130609
DTSTAMP:20260425T033359
CREATED:20160819T082939Z
LAST-MODIFIED:20190423T104219Z
UID:31630-1370649600-1370649600@hardloopevenementen.com
SUMMARY:VTM Telecomloop Maasdijk\, gemeente Westland (ZH)
DESCRIPTION:Doe mee met het hardloopevenement VTM Telecomloop te Maasdijk\, gemeente Westland (ZH) op za 08 jun 2013. De volgende afstanden staan op het programma: 5 km – 10 km hardlopen. Wilt u inschrijven voor dit loopevenement?  Raadpleeg hiervoor dan de website van de organisatie\nDe uitslagen van deze hardloopwedstrijd zijn te raadplegen via dezelfde website of via de bekende websites zoals uitslagen.nl\, runtimer en mylaps. Doet u mee met dit evenement\, zorg dan dat u goed voorbereid aan de start staat! Met een goed trainingsschema komt u een heel eind. Train bijvoorbeeld met start to run van Evy Gruyaert. Download de start to run mp3 bestanden en zet ze op uw telefoon. Oortjes in\, hit the play button en en rennen maar! \n\n\n\n\nMeer informatie over VTM Telecomloop op Hardloopkalender.nl  \nVTM Telecomloop – een dijk van een loop. Een sfeervol hardloopevenement over 10 en 5 km in en rond Maasdijk. Deelnemers ontvangen een uniek running shirt. Tevens wandeltochten en een leuke jeugdloop. Na afloop verloting met een Ipad mini als hoofdprijs! \n  \n  \n 
URL:https://hardloopevenementen.com/loopagenda/vtm-telecomloop-maasdijk-gemeente-westland-zh-5/
END:VEVENT
BEGIN:VEVENT
DTSTART;VALUE=DATE:20130608
DTEND;VALUE=DATE:20130609
DTSTAMP:20260425T033359
CREATED:20091103T011719Z
LAST-MODIFIED:20190423T104219Z
UID:31631-1370649600-1370649600@hardloopevenementen.com
SUMMARY:VTM Telecomloop Maasdijk\, gemeente Westland (ZH)
DESCRIPTION:Doe mee met het hardloopevenement VTM Telecomloop te Maasdijk\, gemeente Westland (ZH) op za 08 jun 2013. De volgende afstanden staan op het programma: 1 km – 1\,5 km – 2 km – 5 km – 10 km – 15 km hardlopen. Wilt u inschrijven voor dit loopevenement?  Raadpleeg hiervoor dan de website van de organisatie\nDe uitslagen van deze hardloopwedstrijd zijn te raadplegen via dezelfde website of via de bekende websites zoals uitslagen.nl\, runtimer en mylaps. Doet u mee met dit evenement\, zorg dan dat u goed voorbereid aan de start staat! Met een goed trainingsschema komt u een heel eind. Train bijvoorbeeld met start to run van Evy Gruyaert. Download de start to run mp3 bestanden en zet ze op uw telefoon. Oortjes in\, hit the play button en en rennen maar! \n\n\n\n\nMeer informatie over VTM Telecomloop op Hardloopkalender.nl  \nHet loopevenement VTM Telecomloop te Maasdijk vindt plaats op zaterdag 08 juni 2013. De loop wordt georganisseerd door AV Olympus `70. Inschrijven is mogelijk vanaf 01 april 2013. Klik hier voor het adres van de start (Google Maps).Er is verkleedaccomodatie met douchemogelijkheid aanwezig. Er is EHBO aanwezig. Bijzonderheden: EEN DIJK VAN EEN LOOP!.Voor meer informatie:Patrick van Koppeninfo@vtmtelecomloop.nl0174622978http:  www.vtmtelecomloop.nl \n  \n  \n 
URL:https://hardloopevenementen.com/loopagenda/vtm-telecomloop-maasdijk-gemeente-westland-zh-6/
END:VEVENT
BEGIN:VEVENT
DTSTART;VALUE=DATE:20120609
DTEND;VALUE=DATE:20120610
DTSTAMP:20260425T033359
CREATED:20071121T164626Z
LAST-MODIFIED:20190423T103147Z
UID:28216-1339200000-1339200000@hardloopevenementen.com
SUMMARY:VTM Telecomloop Maasdijk\, gemeente Westland (ZH)
DESCRIPTION:Doe mee met het hardloopevenement VTM Telecomloop te Maasdijk\, gemeente Westland (ZH) op za 09 jun 2012. De volgende afstanden staan op het programma: 5 km – 10 km hardlopen. Wilt u inschrijven voor dit loopevenement?  Raadpleeg hiervoor dan de website van de organisatie\nDe uitslagen van deze hardloopwedstrijd zijn te raadplegen via dezelfde website of via de bekende websites zoals uitslagen.nl\, runtimer en mylaps. Doet u mee met dit evenement\, zorg dan dat u goed voorbereid aan de start staat! Met een goed trainingsschema komt u een heel eind. Train bijvoorbeeld met start to run van Evy Gruyaert. Download de start to run mp3 bestanden en zet ze op uw telefoon. Oortjes in\, hit the play button en en rennen maar! \n\n\n\n\nMeer informatie over VTM Telecomloop op Hardloopkalender.nl  \nDe VTM Telecomloop staat bekend als de gezelligste hardloopwedstrijd van het Westland. Deze Atletiekunie wedstrijd en prestatieloop wordt inmiddels voor de 23e keer in Maasdijk gehouden. Deelnemers lopen over een snel en verkeersvrij parcours en ontvangen na de eindstreep een uitstekende verzorging op het sfeervolle finishveld. \n  \n  \n 
URL:https://hardloopevenementen.com/loopagenda/vtm-telecomloop-maasdijk-gemeente-westland-zh-4/
END:VEVENT
BEGIN:VEVENT
DTSTART;VALUE=DATE:20110625
DTEND;VALUE=DATE:20110626
DTSTAMP:20260425T033359
CREATED:20071003T182118Z
LAST-MODIFIED:20190423T102026Z
UID:6715-1308960000-1308960000@hardloopevenementen.com
SUMMARY:VTM Telecomloop Maasdijk\, gemeente Westland (ZH)
DESCRIPTION:Doe mee met het hardloopevenement VTM Telecomloop te Maasdijk\, gemeente Westland (ZH) op za 25 jun 2011. De volgende afstanden staan op het programma: 1\,2 km – 5 km – 15 km hardlopen. Wilt u inschrijven voor dit loopevenement?  Raadpleeg hiervoor dan de website van de organisatie\nDe uitslagen van deze hardloopwedstrijd zijn te raadplegen via dezelfde website of via de bekende websites zoals uitslagen.nl\, runtimer en mylaps. Doet u mee met dit evenement\, zorg dan dat u goed voorbereid aan de start staat! Met een goed trainingsschema komt u een heel eind. Train bijvoorbeeld met start to run van Evy Gruyaert. Download de start to run mp3 bestanden en zet ze op uw telefoon. Oortjes in\, hit the play button en en rennen maar! \n\n\n\n\nMeer informatie over VTM Telecomloop op Hardloopkalender.nl  \nUitstekende verzorging\, geheel geasfalteerd parcours en na afloop een gezellige sfeer op het finish terrein zijn de kenmerken van dit evenement.  Kortom\, een Dijk van een Loop!    Ook kan er ’s ochtends gestart worden met wandelen in een va nde tochten van het Maarel Orchids Sportief Wandelen. \n  \n  \n 
URL:https://hardloopevenementen.com/loopagenda/vtm-telecomloop-maasdijk-gemeente-westland-zh-3/
END:VEVENT
BEGIN:VEVENT
DTSTART;VALUE=DATE:20100612
DTEND;VALUE=DATE:20100613
DTSTAMP:20260425T033359
CREATED:20170708T030739Z
LAST-MODIFIED:20190423T101106Z
UID:4077-1276300800-1276300800@hardloopevenementen.com
SUMMARY:VTM Telecomloop Maasdijk\, gemeente Westland (ZH)
DESCRIPTION:Doe mee met het hardloopevenement VTM Telecomloop te Maasdijk\, gemeente Westland (ZH) op za 12 jun 2010. De volgende afstanden staan op het programma: 1\,5 km – 5 km – 15 km hardlopen. Wilt u inschrijven voor dit loopevenement?  Raadpleeg hiervoor dan de website van de organisatie\nDe uitslagen van deze hardloopwedstrijd zijn te raadplegen via dezelfde website of via de bekende websites zoals uitslagen.nl\, runtimer en mylaps. Doet u mee met dit evenement\, zorg dan dat u goed voorbereid aan de start staat! Met een goed trainingsschema komt u een heel eind. Train bijvoorbeeld met start to run van Evy Gruyaert. Download de start to run mp3 bestanden en zet ze op uw telefoon. Oortjes in\, hit the play button en en rennen maar! \n\n\n\n\nMeer informatie over VTM Telecomloop op Hardloopkalender.nl  \nDit loopevenement wordt georganiseerd door AV Olympus `70.De eerste afstand (of onderdeel) start om 13:00.Het adres van de start is Korte Kruisweg 70 Het adres van de finish is TuinderswegCategorie(ën): mannen\, vrouwen\, jeugdVooraf inschrijven is mogelijk vanaf 01 april 2010 tot 28 mei 2010.Inschrijven op de dag van de loop is mogelijk (vanaf 12:00) op dit adres: Sporthal van Maasdijk.Meer informatie:Contactpersoon: Patrick van KoppenTel.: 0174622978Email: info@vtm-telecomloop.nlEr is een kleedaccomodatie aanwezig. Douchen is mogelijk.Het parcours is verhard.Vorig jaar deden er 600 lopers mee aan dit evenement.Overige bijzonderheden:  EEN DIJK VAN EEN LOOP! \n  \n  \n 
URL:https://hardloopevenementen.com/loopagenda/vtm-telecomloop-maasdijk-gemeente-westland-zh/
END:VEVENT
BEGIN:VEVENT
DTSTART;VALUE=DATE:20100605
DTEND;VALUE=DATE:20100606
DTSTAMP:20260425T033359
CREATED:20120614T084114Z
LAST-MODIFIED:20190423T101119Z
UID:4120-1275696000-1275696000@hardloopevenementen.com
SUMMARY:VTM Telecomloop Maasdijk\, gemeente Westland (ZH)
DESCRIPTION:Doe mee met het hardloopevenement VTM Telecomloop te Maasdijk\, gemeente Westland (ZH) op za 05 jun 2010. De volgende afstanden staan op het programma: 5 km – 15 km hardlopen. Wilt u inschrijven voor dit loopevenement?  Raadpleeg hiervoor dan de website van de organisatie\nDe uitslagen van deze hardloopwedstrijd zijn te raadplegen via dezelfde website of via de bekende websites zoals uitslagen.nl\, runtimer en mylaps. Doet u mee met dit evenement\, zorg dan dat u goed voorbereid aan de start staat! Met een goed trainingsschema komt u een heel eind. Train bijvoorbeeld met start to run van Evy Gruyaert. Download de start to run mp3 bestanden en zet ze op uw telefoon. Oortjes in\, hit the play button en en rennen maar! \n\n\n\n\nMeer informatie over VTM Telecomloop op Hardloopkalender.nl  \nDe opvolger van de Zwirs-Knijnenburgloop. Nog steeds \n  \n  \n 
URL:https://hardloopevenementen.com/loopagenda/vtm-telecomloop-maasdijk-gemeente-westland-zh-2/
END:VEVENT
END:VCALENDAR