BEGIN:VCALENDAR
VERSION:2.0
PRODID:-//Hardloopevenementen - ECPv6.15.14//NONSGML v1.0//EN
CALSCALE:GREGORIAN
METHOD:PUBLISH
X-ORIGINAL-URL:https://hardloopevenementen.com
X-WR-CALDESC:Evenementen voor Hardloopevenementen
REFRESH-INTERVAL;VALUE=DURATION:PT1H
X-Robots-Tag:noindex
X-PUBLISHED-TTL:PT1H
BEGIN:VTIMEZONE
TZID:UTC
BEGIN:STANDARD
TZOFFSETFROM:+0000
TZOFFSETTO:+0000
TZNAME:UTC
DTSTART:20060101T000000
END:STANDARD
END:VTIMEZONE
BEGIN:VEVENT
DTSTART;VALUE=DATE:20191006
DTEND;VALUE=DATE:20191007
DTSTAMP:20260421T164832
CREATED:20170111T095916Z
LAST-MODIFIED:20191114T112426Z
UID:142578-1570320000-1570320000@hardloopevenementen.com
SUMMARY:Tempo-Run 2019 Bussum (NH)
DESCRIPTION:Doe mee met het hardloopevenement Tempo-Run 2019 te Bussum (NH) op zo 06 okt 2019. De volgende afstanden staan op het programma: 1 km – 5 km – 10 km hardlopen. Wilt u inschrijven voor dit loopevenement?  Raadpleeg hiervoor dan de website van de organisatie\nDe uitslagen van deze hardloopwedstrijd zijn te raadplegen via dezelfde website of via de bekende websites zoals uitslagen.nl\, runtimer en mylaps. Doet u mee met dit evenement\, zorg dan dat u goed voorbereid aan de start staat! Met een goed trainingsschema komt u een heel eind. Train bijvoorbeeld met start to run van Evy Gruyaert. Download de start to run mp3 bestanden en zet ze op uw telefoon. Oortjes in\, hit the play button en en rennen maar! \n\n\n\n\nMeer informatie over Tempo-Run 2019 op Hardloopkalender.nl  \nZondag 6 oktober 2019 is de Tempo-Run in Bussum. Voor kinderen is er de Kids-Run van 1 km. Jeugd en volwassenen kunnen kiezen uit de Medium-Run (5 km) of Long-Run (10 km). De Tempo-Run kenmerkt zich door een gemoedelijke sfeer en een afwisselend parcours. Kijk op temporun.nl voor meer informatie. \n  \n  \n 
URL:https://hardloopevenementen.com/loopagenda/tempo-run-2019-bussum-nh/
END:VEVENT
BEGIN:VEVENT
DTSTART;VALUE=DATE:20171001
DTEND;VALUE=DATE:20171002
DTSTAMP:20260421T164832
CREATED:20070304T025134Z
LAST-MODIFIED:20190423T114339Z
UID:13999-1506816000-1506816000@hardloopevenementen.com
SUMMARY:Tempo-Run Bussum Bussum (NH)
DESCRIPTION:Doe mee met het hardloopevenement Tempo-Run Bussum te Bussum (NH) op zo 01 okt 2017. De volgende afstanden staan op het programma: 1 km – 5 km – 10 km hardlopen. Wilt u inschrijven voor dit loopevenement?  Raadpleeg hiervoor dan de website van de organisatie\nDe uitslagen van deze hardloopwedstrijd zijn te raadplegen via dezelfde website of via de bekende websites zoals uitslagen.nl\, runtimer en mylaps. Doet u mee met dit evenement\, zorg dan dat u goed voorbereid aan de start staat! Met een goed trainingsschema komt u een heel eind. Train bijvoorbeeld met start to run van Evy Gruyaert. Download de start to run mp3 bestanden en zet ze op uw telefoon. Oortjes in\, hit the play button en en rennen maar! \n\n\n\n\nMeer informatie over Tempo-Run Bussum op Hardloopkalender.nl  \nVoor kinderen is er de Kids-Run van 1 km. Jeugd en volwassenen kunnen kiezen uit de Medium-Run (5 km) of Long-Run (10 km). De Tempo-Run kenmerkt zich door een gemoedelijke sfeer en een afwisselend parcours met live muziek onderweg. We zien je graag bij de 12e editie van de Tempo-Run.  Start en finish zijn op de atletiekbaan van Tempo\, Sportpark-Zuid\, Voormeulenweg 24C in Bussum. In het clubhuis zijn toiletten en kleedkamers. Een warming-up wordt verzorgd en een massage behoort ook tot de mogelijkheden. Deelnemers krijgen een startnummer voorzien van een chip voor een nauwkeurige tijdregistratie en een medaille na afloop. \n  \n  \n 
URL:https://hardloopevenementen.com/loopagenda/tempo-run-bussum-bussum-nh/
END:VEVENT
BEGIN:VEVENT
DTSTART;VALUE=DATE:20161002
DTEND;VALUE=DATE:20161003
DTSTAMP:20260421T164832
CREATED:20120907T032108Z
LAST-MODIFIED:20190423T112149Z
UID:11845-1475366400-1475366400@hardloopevenementen.com
SUMMARY:Tempo-Run 2016 Bussum (NH)
DESCRIPTION:Doe mee met het hardloopevenement Tempo-Run 2016 te Bussum (NH) op zo 02 okt 2016. De volgende afstanden staan op het programma: 1 km – 5 km – 10 km hardlopen. Wilt u inschrijven voor dit loopevenement?  Raadpleeg hiervoor dan de website van de organisatie\nDe uitslagen van deze hardloopwedstrijd zijn te raadplegen via dezelfde website of via de bekende websites zoals uitslagen.nl\, runtimer en mylaps. Doet u mee met dit evenement\, zorg dan dat u goed voorbereid aan de start staat! Met een goed trainingsschema komt u een heel eind. Train bijvoorbeeld met start to run van Evy Gruyaert. Download de start to run mp3 bestanden en zet ze op uw telefoon. Oortjes in\, hit the play button en en rennen maar! \n\n\n\n\nMeer informatie over Tempo-Run 2016 op Hardloopkalender.nl  \nZondag 2 oktober 2016 is de 11e Tempo-Run! Start en finish zijn op de atletiekbaan van Tempo\, Voormeulenweg 24 in Bussum.  Voor kinderen is er de Kids-Run van 1 km (start 11:00 u). Jeugd en volwassenen kunnen kiezen uit de Medium-Run (5 km; start 11:30 u) of Long-Run (10 km; start 11:40 u). \n  \n  \n 
URL:https://hardloopevenementen.com/loopagenda/tempo-run-2016-bussum-nh/
END:VEVENT
BEGIN:VEVENT
DTSTART;VALUE=DATE:20150927
DTEND;VALUE=DATE:20150928
DTSTAMP:20260421T164832
CREATED:20151207T162818Z
LAST-MODIFIED:20190423T110850Z
UID:9697-1443312000-1443312000@hardloopevenementen.com
SUMMARY:Tempo-Run Bussum (NH)
DESCRIPTION:Doe mee met het hardloopevenement Tempo-Run te Bussum (NH) op zo 27 sep 2015. De volgende afstanden staan op het programma: 1 km – 5 km – 10 km hardlopen. Wilt u inschrijven voor dit loopevenement?  Raadpleeg hiervoor dan de website van de organisatie\nDe uitslagen van deze hardloopwedstrijd zijn te raadplegen via dezelfde website of via de bekende websites zoals uitslagen.nl\, runtimer en mylaps. Doet u mee met dit evenement\, zorg dan dat u goed voorbereid aan de start staat! Met een goed trainingsschema komt u een heel eind. Train bijvoorbeeld met start to run van Evy Gruyaert. Download de start to run mp3 bestanden en zet ze op uw telefoon. Oortjes in\, hit the play button en en rennen maar! \n\n\n\n\nMeer informatie over Tempo-Run op Hardloopkalender.nl  \nHet loopevenement Tempo-Run te Bussum vindt plaats op zondag 27 september 2015. \n  \n  \n 
URL:https://hardloopevenementen.com/loopagenda/tempo-run-bussum-nh-5/
END:VEVENT
BEGIN:VEVENT
DTSTART;VALUE=DATE:20140831
DTEND;VALUE=DATE:20140901
DTSTAMP:20260421T164832
CREATED:20091025T041528Z
LAST-MODIFIED:20190423T105209Z
UID:33388-1409443200-1409443200@hardloopevenementen.com
SUMMARY:Tempo Run Bussum (NH)
DESCRIPTION:Doe mee met het hardloopevenement Tempo Run te Bussum (NH) op zo 31 aug 2014. De volgende afstanden staan op het programma: 1 km – 5 km – 10 km hardlopen. Wilt u inschrijven voor dit loopevenement?  Raadpleeg hiervoor dan de website van de organisatie\nDe uitslagen van deze hardloopwedstrijd zijn te raadplegen via dezelfde website of via de bekende websites zoals uitslagen.nl\, runtimer en mylaps. Doet u mee met dit evenement\, zorg dan dat u goed voorbereid aan de start staat! Met een goed trainingsschema komt u een heel eind. Train bijvoorbeeld met start to run van Evy Gruyaert. Download de start to run mp3 bestanden en zet ze op uw telefoon. Oortjes in\, hit the play button en en rennen maar! \n\n\n\n\nMeer informatie over Tempo Run op Hardloopkalender.nl  \nHet loopevenement Tempo-Run te Bussum vindt plaats op zondag 31 augustus 2014. De loop wordt georganisseerd door AV Tempo. Klik hier voor het adres van de start (Google Maps).Bijzonderheden: Kids-Run t m 13 jaar. \n  \n  \n 
URL:https://hardloopevenementen.com/loopagenda/tempo-run-bussum-nh-7/
END:VEVENT
BEGIN:VEVENT
DTSTART;VALUE=DATE:20120902
DTEND;VALUE=DATE:20120903
DTSTAMP:20260421T164832
CREATED:20080904T120608Z
LAST-MODIFIED:20190423T102952Z
UID:7819-1346544000-1346544000@hardloopevenementen.com
SUMMARY:Tempo-Run Bussum (NH)
DESCRIPTION:Doe mee met het hardloopevenement Tempo-Run te Bussum (NH) op zo 02 sep 2012. De volgende afstanden staan op het programma: 1 km – 5 km – 10 km hardlopen. Wilt u inschrijven voor dit loopevenement?  Raadpleeg hiervoor dan de website van de organisatie\nDe uitslagen van deze hardloopwedstrijd zijn te raadplegen via dezelfde website of via de bekende websites zoals uitslagen.nl\, runtimer en mylaps. Doet u mee met dit evenement\, zorg dan dat u goed voorbereid aan de start staat! Met een goed trainingsschema komt u een heel eind. Train bijvoorbeeld met start to run van Evy Gruyaert. Download de start to run mp3 bestanden en zet ze op uw telefoon. Oortjes in\, hit the play button en en rennen maar! \n\n\n\n\nMeer informatie over Tempo-Run op Hardloopkalender.nl  \nHet loopevenement Tempo-Run te Bussum vindt plaats op zondag 02 september 2012. De loop wordt georganiseerd door AV Tempo. Inschrijven is mogelijk vanaf 10 juni 2012. Klik hier voor het adres van de start (Google Maps).Er is EHBO aanwezig. Bijzonderheden: Kids-Run t m 13 jaar.Afstand SoortloopInschrijfgeldStarttijdInfo1 km4\,5011:005 km6\,5011:3010 km6\,5011:45Voor meer informatie:Ellen Beenkertempo-run@avtempo.nl0358883423http:  www.tempo-run.nl \n  \n  \n 
URL:https://hardloopevenementen.com/loopagenda/tempo-run-bussum-nh-4/
END:VEVENT
BEGIN:VEVENT
DTSTART;VALUE=DATE:20110904
DTEND;VALUE=DATE:20110905
DTSTAMP:20260421T164832
CREATED:20091012T193414Z
LAST-MODIFIED:20190423T101910Z
UID:6423-1315094400-1315094400@hardloopevenementen.com
SUMMARY:Tempo-Run Bussum (NH)
DESCRIPTION:Doe mee met het hardloopevenement Tempo-Run te Bussum (NH) op zo 04 sep 2011. De volgende afstanden staan op het programma: 1 km – 4 km – 10 km hardlopen. Wilt u inschrijven voor dit loopevenement?  Raadpleeg hiervoor dan de website van de organisatie\nDe uitslagen van deze hardloopwedstrijd zijn te raadplegen via dezelfde website of via de bekende websites zoals uitslagen.nl\, runtimer en mylaps. Doet u mee met dit evenement\, zorg dan dat u goed voorbereid aan de start staat! Met een goed trainingsschema komt u een heel eind. Train bijvoorbeeld met start to run van Evy Gruyaert. Download de start to run mp3 bestanden en zet ze op uw telefoon. Oortjes in\, hit the play button en en rennen maar! \n\n\n\n\nMeer informatie over Tempo-Run op Hardloopkalender.nl  \nOp zondag 4 september vindt alweer de 6e editie van de Tempo-Run plaats. De loop kenmerkt zich door een gezellige en gemoedelijke sfeer. Speciaal voor de kinderen is er natuurlijk weer de Kids-Run. De volwassenen kunnen kiezen tussen Medium-Run en de Long-Run. \n  \n  \n 
URL:https://hardloopevenementen.com/loopagenda/tempo-run-bussum-nh-3/
END:VEVENT
BEGIN:VEVENT
DTSTART;VALUE=DATE:20100905
DTEND;VALUE=DATE:20100906
DTSTAMP:20260421T164832
CREATED:20180629T115048Z
LAST-MODIFIED:20190423T100905Z
UID:3668-1283644800-1283644800@hardloopevenementen.com
SUMMARY:Tempo-Run Bussum (NH)
DESCRIPTION:Doe mee met het hardloopevenement Tempo-Run te Bussum (NH) op zo 05 sep 2010. De volgende afstanden staan op het programma: 1 km – 4 km – 10 km hardlopen. Wilt u inschrijven voor dit loopevenement?  Raadpleeg hiervoor dan de website van de organisatie\nDe uitslagen van deze hardloopwedstrijd zijn te raadplegen via dezelfde website of via de bekende websites zoals uitslagen.nl\, runtimer en mylaps. Doet u mee met dit evenement\, zorg dan dat u goed voorbereid aan de start staat! Met een goed trainingsschema komt u een heel eind. Train bijvoorbeeld met start to run van Evy Gruyaert. Download de start to run mp3 bestanden en zet ze op uw telefoon. Oortjes in\, hit the play button en en rennen maar! \n\n\n\n\nMeer informatie over Tempo-Run op Hardloopkalender.nl  \nDit loopevenement wordt georganiseerd door AV Tempo.De eerste afstand (of onderdeel) start om 11:05.Het adres van de start is Voormeulenweg24 d Het adres van de finish is Voormeulenweg 24 dCategorie(ën): mannen\, vrouwen\, jeugdVooraf inschrijven is mogelijk vanaf 05 juni 2010 tot 01 september 2010.Inschrijven op de dag van de loop is mogelijk (vanaf 9:45 uur) op dit adres: Voormeulenweg 24 d  Bussum.Meer informatie:Contactpersoon: Ellen BeenkerTel.: 0358883423Email: tempo-run@avtempo.nlEr is een kleedaccomodatie aanwezig. Douchen is mogelijk.Het parcours is verhard.Vorig jaar deden er 470 lopers mee aan dit evenement.Overige bijzonderheden:  meer info zie website \n  \n  \n 
URL:https://hardloopevenementen.com/loopagenda/tempo-run-bussum-nh-2/
END:VEVENT
BEGIN:VEVENT
DTSTART;VALUE=DATE:20090906
DTEND;VALUE=DATE:20090907
DTSTAMP:20260421T164832
CREATED:20140930T011309Z
LAST-MODIFIED:20190423T095905Z
UID:1851-1252195200-1252195200@hardloopevenementen.com
SUMMARY:Tempo-Run Bussum (NH)
DESCRIPTION:Doe mee met het hardloopevenement Tempo-Run te Bussum (NH) op zo 06 sep 2009. De volgende afstanden staan op het programma: 1 km – 4 km – 10 km hardlopen. Wilt u inschrijven voor dit loopevenement?  Raadpleeg hiervoor dan de website van de organisatie\nDe uitslagen van deze hardloopwedstrijd zijn te raadplegen via dezelfde website of via de bekende websites zoals uitslagen.nl\, runtimer en mylaps. Doet u mee met dit evenement\, zorg dan dat u goed voorbereid aan de start staat! Met een goed trainingsschema komt u een heel eind. Train bijvoorbeeld met start to run van Evy Gruyaert. Download de start to run mp3 bestanden en zet ze op uw telefoon. Oortjes in\, hit the play button en en rennen maar! \n\n\n\n\nMeer informatie over Tempo-Run op Hardloopkalender.nl  \n  \n  \n 
URL:https://hardloopevenementen.com/loopagenda/tempo-run-bussum-nh/
END:VEVENT
BEGIN:VEVENT
DTSTART;VALUE=DATE:20080907
DTEND;VALUE=DATE:20080908
DTSTAMP:20260421T164832
CREATED:20160829T085153Z
LAST-MODIFIED:20190423T094538Z
UID:19240-1220745600-1220745600@hardloopevenementen.com
SUMMARY:Tempo Run Bussum (NH)
DESCRIPTION:Doe mee met het hardloopevenement Tempo Run te Bussum (NH) op zo 07 sep 2008. De volgende afstanden staan op het programma: 1 km – 4 km – 10 km hardlopen. Wilt u inschrijven voor dit loopevenement?  Raadpleeg hiervoor dan de website van de organisatie\nDe uitslagen van deze hardloopwedstrijd zijn te raadplegen via dezelfde website of via de bekende websites zoals uitslagen.nl\, runtimer en mylaps. Doet u mee met dit evenement\, zorg dan dat u goed voorbereid aan de start staat! Met een goed trainingsschema komt u een heel eind. Train bijvoorbeeld met start to run van Evy Gruyaert. Download de start to run mp3 bestanden en zet ze op uw telefoon. Oortjes in\, hit the play button en en rennen maar! \n\n\n\n\nMeer informatie over Tempo Run op Hardloopkalender.nl  \n  \n  \n 
URL:https://hardloopevenementen.com/loopagenda/tempo-run-bussum-nh-6/
END:VEVENT
BEGIN:VEVENT
DTSTART;VALUE=DATE:20080907
DTEND;VALUE=DATE:20080908
DTSTAMP:20260421T164832
CREATED:20120503T185404Z
LAST-MODIFIED:20190423T094537Z
UID:19236-1220745600-1220745600@hardloopevenementen.com
SUMMARY:Tempo-Run Bussum
DESCRIPTION:Doe mee met het hardloopevenement Tempo-Run te Bussum op zo 07 sep 2008. De volgende afstanden staan op het programma: 1 km – 4 km – 10 km hardlopen. Wilt u inschrijven voor dit loopevenement?  Raadpleeg hiervoor dan de website van de organisatie\nDe uitslagen van deze hardloopwedstrijd zijn te raadplegen via dezelfde website of via de bekende websites zoals uitslagen.nl\, runtimer en mylaps. Doet u mee met dit evenement\, zorg dan dat u goed voorbereid aan de start staat! Met een goed trainingsschema komt u een heel eind. Train bijvoorbeeld met start to run van Evy Gruyaert. Download de start to run mp3 bestanden en zet ze op uw telefoon. Oortjes in\, hit the play button en en rennen maar! \n\n\n\n\nMeer informatie over Tempo-Run op Hardloopkalender.nl  \n1 km 11:05 uur\, 4 km 11:30 uur\, 10 km 12:15 uur \n  \n  \n 
URL:https://hardloopevenementen.com/loopagenda/tempo-run-bussum-2/
END:VEVENT
BEGIN:VEVENT
DTSTART;VALUE=DATE:20070909
DTEND;VALUE=DATE:20070910
DTSTAMP:20260421T164832
CREATED:20110512T144758Z
LAST-MODIFIED:20190423T093908Z
UID:316-1189296000-1189296000@hardloopevenementen.com
SUMMARY:Tempo-Run Bussum
DESCRIPTION:Doe mee met het hardloopevenement Tempo-Run te Bussum op zo 09 sep 2007. De volgende afstanden staan op het programma: 1 km – 4 km – 7 km – 10 km hardlopen. Wilt u inschrijven voor dit loopevenement?  Raadpleeg hiervoor dan de website van de organisatie\nDe uitslagen van deze hardloopwedstrijd zijn te raadplegen via dezelfde website of via de bekende websites zoals uitslagen.nl\, runtimer en mylaps. Doet u mee met dit evenement\, zorg dan dat u goed voorbereid aan de start staat! Met een goed trainingsschema komt u een heel eind. Train bijvoorbeeld met start to run van Evy Gruyaert. Download de start to run mp3 bestanden en zet ze op uw telefoon. Oortjes in\, hit the play button en en rennen maar! \n\n\n\n\nMeer informatie over Tempo-Run op Hardloopkalender.nl  \n  \n  \n 
URL:https://hardloopevenementen.com/loopagenda/tempo-run-bussum/
END:VEVENT
END:VCALENDAR