BEGIN:VCALENDAR
VERSION:2.0
PRODID:-//Hardloopevenementen - ECPv6.15.14//NONSGML v1.0//EN
CALSCALE:GREGORIAN
METHOD:PUBLISH
X-ORIGINAL-URL:https://hardloopevenementen.com
X-WR-CALDESC:Evenementen voor Hardloopevenementen
REFRESH-INTERVAL;VALUE=DURATION:PT1H
X-Robots-Tag:noindex
X-PUBLISHED-TTL:PT1H
BEGIN:VTIMEZONE
TZID:UTC
BEGIN:STANDARD
TZOFFSETFROM:+0000
TZOFFSETTO:+0000
TZNAME:UTC
DTSTART:20140101T000000
END:STANDARD
END:VTIMEZONE
BEGIN:VEVENT
DTSTART;VALUE=DATE:20161112
DTEND;VALUE=DATE:20161113
DTSTAMP:20260421T133926
CREATED:20120919T191753Z
LAST-MODIFIED:20190423T112053Z
UID:11586-1478908800-1478908800@hardloopevenementen.com
SUMMARY:28e Tienkilometerloop  voorheen Poort6 loop Gorinchem (ZH)
DESCRIPTION:Doe mee met het hardloopevenement 28e Tienkilometerloop  voorheen Poort6 loop te Gorinchem (ZH) op za 12 nov 2016. De volgende afstanden staan op het programma: 1 km – 2\,5 km – 5 km – 10 km hardlopen. Wilt u inschrijven voor dit loopevenement?  Raadpleeg hiervoor dan de website van de organisatie\nDe uitslagen van deze hardloopwedstrijd zijn te raadplegen via dezelfde website of via de bekende websites zoals uitslagen.nl\, runtimer en mylaps. Doet u mee met dit evenement\, zorg dan dat u goed voorbereid aan de start staat! Met een goed trainingsschema komt u een heel eind. Train bijvoorbeeld met start to run van Evy Gruyaert. Download de start to run mp3 bestanden en zet ze op uw telefoon. Oortjes in\, hit the play button en en rennen maar! \n\n\n\n\nMeer informatie over 28e Tienkilometerloop  voorheen Poort6 loop op Hardloopkalender.nl  \nHet loopevenement 28e Tienkilometerloop (voorheen Poort6-loop) te Gorinchem vindt plaats op zaterdag 12 november 2016. \n  \n  \n 
URL:https://hardloopevenementen.com/loopagenda/28e-tienkilometerloop-voorheen-poort6-loop-gorinchem-zh/
END:VEVENT
BEGIN:VEVENT
DTSTART;VALUE=DATE:20151114
DTEND;VALUE=DATE:20151115
DTSTAMP:20260421T133926
CREATED:20140516T063551Z
LAST-MODIFIED:20190423T110729Z
UID:9400-1447459200-1447459200@hardloopevenementen.com
SUMMARY:27e Tienkilometerloop  voorheen Poort6 loop Gorinchem (ZH)
DESCRIPTION:Doe mee met het hardloopevenement 27e Tienkilometerloop  voorheen Poort6 loop te Gorinchem (ZH) op za 14 nov 2015. De volgende afstanden staan op het programma: 1 km – 2\,5 km – 5 km – 10 km hardlopen. Wilt u inschrijven voor dit loopevenement?  Raadpleeg hiervoor dan de website van de organisatie\nDe uitslagen van deze hardloopwedstrijd zijn te raadplegen via dezelfde website of via de bekende websites zoals uitslagen.nl\, runtimer en mylaps. Doet u mee met dit evenement\, zorg dan dat u goed voorbereid aan de start staat! Met een goed trainingsschema komt u een heel eind. Train bijvoorbeeld met start to run van Evy Gruyaert. Download de start to run mp3 bestanden en zet ze op uw telefoon. Oortjes in\, hit the play button en en rennen maar! \n\n\n\n\nMeer informatie over 27e Tienkilometerloop  voorheen Poort6 loop op Hardloopkalender.nl  \nHet loopevenement 27e Tienkilometerloop (voorheen Poort6-loop) te Gorinchem vindt plaats op zaterdag 14 november 2015. \n  \n  \n 
URL:https://hardloopevenementen.com/loopagenda/27e-tienkilometerloop-voorheen-poort6-loop-gorinchem-zh/
END:VEVENT
END:VCALENDAR