BEGIN:VCALENDAR
VERSION:2.0
PRODID:-//Hardloopevenementen - ECPv6.15.14//NONSGML v1.0//EN
CALSCALE:GREGORIAN
METHOD:PUBLISH
X-WR-CALNAME:Hardloopevenementen
X-ORIGINAL-URL:https://hardloopevenementen.com
X-WR-CALDESC:Evenementen voor Hardloopevenementen
REFRESH-INTERVAL;VALUE=DURATION:PT1H
X-Robots-Tag:noindex
X-PUBLISHED-TTL:PT1H
BEGIN:VTIMEZONE
TZID:UTC
BEGIN:STANDARD
TZOFFSETFROM:+0000
TZOFFSETTO:+0000
TZNAME:UTC
DTSTART:20080101T000000
END:STANDARD
END:VTIMEZONE
BEGIN:VEVENT
DTSTART;VALUE=DATE:20130630
DTEND;VALUE=DATE:20130701
DTSTAMP:20260424T174439
CREATED:20110830T003126Z
LAST-MODIFIED:20190423T104133Z
UID:31463-1372550400-1372550400@hardloopevenementen.com
SUMMARY:Tongerense heide trailrun Gortel\, gemeente Epe (GE)
DESCRIPTION:Doe mee met het hardloopevenement Tongerense heide trailrun te Gortel\, gemeente Epe (GE) op zo 30 jun 2013. De volgende afstanden staan op het programma: 10 Engelse mijl – halve marathon hardlopen. Wilt u inschrijven voor dit loopevenement?  Raadpleeg hiervoor dan de website van de organisatie\nDe uitslagen van deze hardloopwedstrijd zijn te raadplegen via dezelfde website of via de bekende websites zoals uitslagen.nl\, runtimer en mylaps. Doet u mee met dit evenement\, zorg dan dat u goed voorbereid aan de start staat! Met een goed trainingsschema komt u een heel eind. Train bijvoorbeeld met start to run van Evy Gruyaert. Download de start to run mp3 bestanden en zet ze op uw telefoon. Oortjes in\, hit the play button en en rennen maar! \n\n\n\n\nMeer informatie over Tongerense heide trailrun op Hardloopkalender.nl  \nOp zondag 30 juni 2013 staat er weer een fantastische loop op het programma! De Tongerense Heide loop is bij uitstek geschikt voor liefhebbers van de fartlek loopvorm. Veel heuveltjes en uitgestrekte heidevelden! je kunt kiezen tussen 1.45 uur vlak of heuvelparcours lopen. ook tijdens de loop kun je er voor kiezen om korte stukken vlak of juist met heuvels te gaan lopen.Op onderstaand kaartje kun je zien waar je moet zijn voor de startplaats: De Knobbel is de top van de heuvel op de weg van t Harde naar Epe. Hier kun je parkeren op een ruime parkeerplaats tegenover het PMT gebouw  Inschrijven kan via Inschrijven of stuur een  e-mail aan runningclubheerde@gmail.com  Onderstaand de kaart: bij de A28 afslag 16 richting Epe rijden \n  \n  \n 
URL:https://hardloopevenementen.com/loopagenda/tongerense-heide-trailrun-gortel-gemeente-epe-ge/
END:VEVENT
BEGIN:VEVENT
DTSTART;VALUE=DATE:20130331
DTEND;VALUE=DATE:20130401
DTSTAMP:20260424T174439
CREATED:20130508T205916Z
LAST-MODIFIED:20190423T104356Z
UID:31996-1364688000-1364688000@hardloopevenementen.com
SUMMARY:Tongerense Heideloop Epe (GE)
DESCRIPTION:Doe mee met het hardloopevenement Tongerense Heideloop te Epe (GE) op zo 31 mrt 2013. De volgende afstanden staan op het programma: 18 km hardlopen. Wilt u inschrijven voor dit loopevenement?  Raadpleeg hiervoor dan de website van de organisatie\nDe uitslagen van deze hardloopwedstrijd zijn te raadplegen via dezelfde website of via de bekende websites zoals uitslagen.nl\, runtimer en mylaps. Doet u mee met dit evenement\, zorg dan dat u goed voorbereid aan de start staat! Met een goed trainingsschema komt u een heel eind. Train bijvoorbeeld met start to run van Evy Gruyaert. Download de start to run mp3 bestanden en zet ze op uw telefoon. Oortjes in\, hit the play button en en rennen maar! \n\n\n\n\nMeer informatie over Tongerense Heideloop op Hardloopkalender.nl  \n31 Maart 2013 10.00 u Gortelse-Heide Loop Gortel=Heerde (18 km)  Om 09.30 verzamelen bij \n  \n  \n 
URL:https://hardloopevenementen.com/loopagenda/tongerense-heideloop-epe-ge-2/
END:VEVENT
BEGIN:VEVENT
DTSTART;VALUE=DATE:20120624
DTEND;VALUE=DATE:20120625
DTSTAMP:20260424T174439
CREATED:20110628T120730Z
LAST-MODIFIED:20190423T103120Z
UID:28108-1340496000-1340496000@hardloopevenementen.com
SUMMARY:Tongerense Heideloop Nunspeet (GE)
DESCRIPTION:Doe mee met het hardloopevenement Tongerense Heideloop te Nunspeet (GE) op zo 24 jun 2012. De volgende afstanden staan op het programma: 20 km hardlopen. Wilt u inschrijven voor dit loopevenement?  Raadpleeg hiervoor dan de website van de organisatie\nDe uitslagen van deze hardloopwedstrijd zijn te raadplegen via dezelfde website of via de bekende websites zoals uitslagen.nl\, runtimer en mylaps. Doet u mee met dit evenement\, zorg dan dat u goed voorbereid aan de start staat! Met een goed trainingsschema komt u een heel eind. Train bijvoorbeeld met start to run van Evy Gruyaert. Download de start to run mp3 bestanden en zet ze op uw telefoon. Oortjes in\, hit the play button en en rennen maar! \n\n\n\n\nMeer informatie over Tongerense Heideloop op Hardloopkalender.nl  \nOp zondag 24 juni 2012 staat er weer een fantastische loop op het programma! De Tongerense Heide loop is bij uitstek geschikt voor liefhebbers van de fartlek loopvorm. Veel heuveltjes en uitgestrekte heidevelden! je kunt kiezen tussen 1.45 uur vlak of heuvelparcours lopen. ook tijdens de loop kun je er voor kiezen om korte stukken vlak of juist met heuvels te gaan lopen.      Parkeren kun je bij \n  \n  \n 
URL:https://hardloopevenementen.com/loopagenda/tongerense-heideloop-nunspeet-ge/
END:VEVENT
BEGIN:VEVENT
DTSTART;VALUE=DATE:20120331
DTEND;VALUE=DATE:20120401
DTSTAMP:20260424T174439
CREATED:20151021T112046Z
LAST-MODIFIED:20190423T103329Z
UID:28617-1333152000-1333152000@hardloopevenementen.com
SUMMARY:Tongerense Heideloop Epe (GE)
DESCRIPTION:Doe mee met het hardloopevenement Tongerense Heideloop te Epe (GE) op za 31 mrt 2012. De volgende afstanden staan op het programma: 18 km hardlopen. Wilt u inschrijven voor dit loopevenement?  Raadpleeg hiervoor dan de website van de organisatie\nDe uitslagen van deze hardloopwedstrijd zijn te raadplegen via dezelfde website of via de bekende websites zoals uitslagen.nl\, runtimer en mylaps. Doet u mee met dit evenement\, zorg dan dat u goed voorbereid aan de start staat! Met een goed trainingsschema komt u een heel eind. Train bijvoorbeeld met start to run van Evy Gruyaert. Download de start to run mp3 bestanden en zet ze op uw telefoon. Oortjes in\, hit the play button en en rennen maar! \n\n\n\n\nMeer informatie over Tongerense Heideloop op Hardloopkalender.nl  \n31 Maart 2013 10.00 u Gortelse-Heide Loop Gortel=Heerde (18 km)  Om 09.30 verzamelen bij \n  \n  \n 
URL:https://hardloopevenementen.com/loopagenda/tongerense-heideloop-epe-ge/
END:VEVENT
BEGIN:VEVENT
DTSTART;VALUE=DATE:20090628
DTEND;VALUE=DATE:20090629
DTSTAMP:20260424T174439
CREATED:20140203T171004Z
LAST-MODIFIED:20190423T100024Z
UID:2100-1246147200-1246147200@hardloopevenementen.com
SUMMARY:Tongerense heideloop Zwolle (OV)
DESCRIPTION:Doe mee met het hardloopevenement Tongerense heideloop te Zwolle (OV) op zo 28 jun 2009. De volgende afstanden staan op het programma: 17 km hardlopen. Wilt u inschrijven voor dit loopevenement?  Raadpleeg hiervoor dan de website van de organisatie\nDe uitslagen van deze hardloopwedstrijd zijn te raadplegen via dezelfde website of via de bekende websites zoals uitslagen.nl\, runtimer en mylaps. Doet u mee met dit evenement\, zorg dan dat u goed voorbereid aan de start staat! Met een goed trainingsschema komt u een heel eind. Train bijvoorbeeld met start to run van Evy Gruyaert. Download de start to run mp3 bestanden en zet ze op uw telefoon. Oortjes in\, hit the play button en en rennen maar! \n\n\n\n\nMeer informatie over Tongerense heideloop op Hardloopkalender.nl  \nZwaar! \n  \n  \n 
URL:https://hardloopevenementen.com/loopagenda/tongerense-heideloop-zwolle-ov/
END:VEVENT
END:VCALENDAR