BEGIN:VCALENDAR
VERSION:2.0
PRODID:-//Hardloopevenementen - ECPv6.15.14//NONSGML v1.0//EN
CALSCALE:GREGORIAN
METHOD:PUBLISH
X-WR-CALNAME:Hardloopevenementen
X-ORIGINAL-URL:https://hardloopevenementen.com
X-WR-CALDESC:Evenementen voor Hardloopevenementen
REFRESH-INTERVAL;VALUE=DURATION:PT1H
X-Robots-Tag:noindex
X-PUBLISHED-TTL:PT1H
BEGIN:VTIMEZONE
TZID:UTC
BEGIN:STANDARD
TZOFFSETFROM:+0000
TZOFFSETTO:+0000
TZNAME:UTC
DTSTART:20060101T000000
END:STANDARD
END:VTIMEZONE
BEGIN:VEVENT
DTSTART;VALUE=DATE:20110924
DTEND;VALUE=DATE:20110925
DTSTAMP:20260420T235931
CREATED:20170904T075600Z
LAST-MODIFIED:20190423T101837Z
UID:6289-1316822400-1316822400@hardloopevenementen.com
SUMMARY:TopRun van het Noorden Hoogkerk\, gemeente Groningen (GR)
DESCRIPTION:Doe mee met het hardloopevenement TopRun van het Noorden te Hoogkerk\, gemeente Groningen (GR) op za 24 sep 2011. De volgende afstanden staan op het programma: 4 km – 7 km – 10 km hardlopen. Wilt u inschrijven voor dit loopevenement?  Raadpleeg hiervoor dan de website van de organisatie\nDe uitslagen van deze hardloopwedstrijd zijn te raadplegen via dezelfde website of via de bekende websites zoals uitslagen.nl\, runtimer en mylaps. Doet u mee met dit evenement\, zorg dan dat u goed voorbereid aan de start staat! Met een goed trainingsschema komt u een heel eind. Train bijvoorbeeld met start to run van Evy Gruyaert. Download de start to run mp3 bestanden en zet ze op uw telefoon. Oortjes in\, hit the play button en en rennen maar! \n\n\n\n\nMeer informatie over TopRun van het Noorden op Hardloopkalender.nl  \nHet loopevenement TopRun van het Noorden te Hoogkerk vindt plaats op zaterdag 24 september 2011. De loop wordt georganiseerd door Vereniging Toprun v.h. Noorden. Inschrijven is mogelijk vanaf 24 september 2011. Klik hier voor het adres van de start (Google Maps).Er is verkleedaccomodatie met douchemogelijkheid aanwezig. Er is EHBO aanwezig. Bijzonderheden: Wedstrijd van 10 km\, bestaande uit drie ronden rondom de Ruskenveense plas..Afstand(km)Inschrijfgeld(€)Starttijd10€7\,5015:30Voor meer informatie:S. Wilpstrainfo@toprun.nl0502300128http:  www.toprun.nl \n  \n  \n 
URL:https://hardloopevenementen.com/loopagenda/toprun-van-het-noorden-hoogkerk-gemeente-groningen-gr/
END:VEVENT
BEGIN:VEVENT
DTSTART;VALUE=DATE:20090926
DTEND;VALUE=DATE:20090927
DTSTAMP:20260420T235931
CREATED:20170130T115221Z
LAST-MODIFIED:20190423T095836Z
UID:1743-1253923200-1253923200@hardloopevenementen.com
SUMMARY:Toprun van het Noorden Groningen (GR)
DESCRIPTION:Doe mee met het hardloopevenement Toprun van het Noorden te Groningen (GR) op za 26 sep 2009. De volgende afstanden staan op het programma: 10 km hardlopen. Wilt u inschrijven voor dit loopevenement?  Raadpleeg hiervoor dan de website van de organisatie\nDe uitslagen van deze hardloopwedstrijd zijn te raadplegen via dezelfde website of via de bekende websites zoals uitslagen.nl\, runtimer en mylaps. Doet u mee met dit evenement\, zorg dan dat u goed voorbereid aan de start staat! Met een goed trainingsschema komt u een heel eind. Train bijvoorbeeld met start to run van Evy Gruyaert. Download de start to run mp3 bestanden en zet ze op uw telefoon. Oortjes in\, hit the play button en en rennen maar! \n\n\n\n\nMeer informatie over Toprun van het Noorden op Hardloopkalender.nl  \n10 km 17:30 uur \n  \n  \n 
URL:https://hardloopevenementen.com/loopagenda/toprun-van-het-noorden-groningen-gr/
END:VEVENT
BEGIN:VEVENT
DTSTART;VALUE=DATE:20080927
DTEND;VALUE=DATE:20080928
DTSTAMP:20260420T235931
CREATED:20160307T024003Z
LAST-MODIFIED:20190423T094510Z
UID:19117-1222473600-1222473600@hardloopevenementen.com
SUMMARY:Toprun van het Noorden Hoogkerk
DESCRIPTION:Doe mee met het hardloopevenement Toprun van het Noorden te Hoogkerk op za 27 sep 2008. De volgende afstanden staan op het programma: 10 km hardlopen. Wilt u inschrijven voor dit loopevenement?  Raadpleeg hiervoor dan de website van de organisatie\nDe uitslagen van deze hardloopwedstrijd zijn te raadplegen via dezelfde website of via de bekende websites zoals uitslagen.nl\, runtimer en mylaps. Doet u mee met dit evenement\, zorg dan dat u goed voorbereid aan de start staat! Met een goed trainingsschema komt u een heel eind. Train bijvoorbeeld met start to run van Evy Gruyaert. Download de start to run mp3 bestanden en zet ze op uw telefoon. Oortjes in\, hit the play button en en rennen maar! \n\n\n\n\nMeer informatie over Toprun van het Noorden op Hardloopkalender.nl  \nstart 10 km 18:00 uur \n  \n  \n 
URL:https://hardloopevenementen.com/loopagenda/toprun-van-het-noorden-hoogkerk-2/
END:VEVENT
BEGIN:VEVENT
DTSTART;VALUE=DATE:20070929
DTEND;VALUE=DATE:20070930
DTSTAMP:20260420T235931
CREATED:20151016T030106Z
LAST-MODIFIED:20190423T093858Z
UID:277-1191024000-1191024000@hardloopevenementen.com
SUMMARY:Toprun van het Noorden Hoogkerk
DESCRIPTION:Doe mee met het hardloopevenement Toprun van het Noorden te Hoogkerk op za 29 sep 2007. De volgende afstanden staan op het programma: 10 km hardlopen. Wilt u inschrijven voor dit loopevenement?  Raadpleeg hiervoor dan de website van de organisatie\nDe uitslagen van deze hardloopwedstrijd zijn te raadplegen via dezelfde website of via de bekende websites zoals uitslagen.nl\, runtimer en mylaps. Doet u mee met dit evenement\, zorg dan dat u goed voorbereid aan de start staat! Met een goed trainingsschema komt u een heel eind. Train bijvoorbeeld met start to run van Evy Gruyaert. Download de start to run mp3 bestanden en zet ze op uw telefoon. Oortjes in\, hit the play button en en rennen maar! \n\n\n\n\nMeer informatie over Toprun van het Noorden op Hardloopkalender.nl  \n  \n  \n 
URL:https://hardloopevenementen.com/loopagenda/toprun-van-het-noorden-hoogkerk/
END:VEVENT
END:VCALENDAR